BEGIN:VCALENDAR
VERSION:2.0
PRODID:-//EducArte - ECPv6.15.20//NONSGML v1.0//EN
CALSCALE:GREGORIAN
METHOD:PUBLISH
X-WR-CALNAME:EducArte
X-ORIGINAL-URL:https://www.educarteinc.org
X-WR-CALDESC:Events for EducArte
REFRESH-INTERVAL;VALUE=DURATION:PT1H
X-Robots-Tag:noindex
X-PUBLISHED-TTL:PT1H
BEGIN:VTIMEZONE
TZID:America/New_York
BEGIN:DAYLIGHT
TZOFFSETFROM:-0500
TZOFFSETTO:-0400
TZNAME:EDT
DTSTART:20200308T070000
END:DAYLIGHT
BEGIN:STANDARD
TZOFFSETFROM:-0400
TZOFFSETTO:-0500
TZNAME:EST
DTSTART:20201101T060000
END:STANDARD
BEGIN:DAYLIGHT
TZOFFSETFROM:-0500
TZOFFSETTO:-0400
TZNAME:EDT
DTSTART:20210314T070000
END:DAYLIGHT
BEGIN:STANDARD
TZOFFSETFROM:-0400
TZOFFSETTO:-0500
TZNAME:EST
DTSTART:20211107T060000
END:STANDARD
BEGIN:DAYLIGHT
TZOFFSETFROM:-0500
TZOFFSETTO:-0400
TZNAME:EDT
DTSTART:20220313T070000
END:DAYLIGHT
BEGIN:STANDARD
TZOFFSETFROM:-0400
TZOFFSETTO:-0500
TZNAME:EST
DTSTART:20221106T060000
END:STANDARD
END:VTIMEZONE
BEGIN:VEVENT
DTSTART;TZID=America/New_York:20210213T150000
DTEND;TZID=America/New_York:20210213T163000
DTSTAMP:20260420T004011
CREATED:20210131T010357Z
LAST-MODIFIED:20210214T023511Z
UID:1015-1613228400-1613233800@www.educarteinc.org
SUMMARY:Workshop: Brazilian percussion with André Coelho
DESCRIPTION:Join us for a free workshop with Brazilian percussionist André Coelho from Rio de Janeiro. The workshop will cover some background on Brazilian rhythms and describe each of the main instruments used in batucada and rodas de samba: surdo\, pandeiro\, tamborim\, cuíca\, agogô\, reco-reco\, reqique de mão and repique de anel\, tantam or rebolo\, ganzá or chocalho\, and others. \nThe workshop will take place on Zoom. \nFacebook event: https://www.facebook.com/events/431179028321450
URL:https://www.educarteinc.org/event/brazilian-percussion-workshop-with-andre-coelho/
LOCATION:Zoom
CATEGORIES:Online,Workshops & Classes
ORGANIZER;CN="EducArte":MAILTO:educarte@educarteinc.org
END:VEVENT
END:VCALENDAR