BEGIN:VCALENDAR
VERSION:2.0
PRODID:-//EducArte - ECPv6.15.20//NONSGML v1.0//EN
CALSCALE:GREGORIAN
METHOD:PUBLISH
X-WR-CALNAME:EducArte
X-ORIGINAL-URL:https://www.educarteinc.org
X-WR-CALDESC:Events for EducArte
REFRESH-INTERVAL;VALUE=DURATION:PT1H
X-Robots-Tag:noindex
X-PUBLISHED-TTL:PT1H
BEGIN:VTIMEZONE
TZID:America/New_York
BEGIN:DAYLIGHT
TZOFFSETFROM:-0500
TZOFFSETTO:-0400
TZNAME:EDT
DTSTART:20200308T070000
END:DAYLIGHT
BEGIN:STANDARD
TZOFFSETFROM:-0400
TZOFFSETTO:-0500
TZNAME:EST
DTSTART:20201101T060000
END:STANDARD
BEGIN:DAYLIGHT
TZOFFSETFROM:-0500
TZOFFSETTO:-0400
TZNAME:EDT
DTSTART:20210314T070000
END:DAYLIGHT
BEGIN:STANDARD
TZOFFSETFROM:-0400
TZOFFSETTO:-0500
TZNAME:EST
DTSTART:20211107T060000
END:STANDARD
BEGIN:DAYLIGHT
TZOFFSETFROM:-0500
TZOFFSETTO:-0400
TZNAME:EDT
DTSTART:20220313T070000
END:DAYLIGHT
BEGIN:STANDARD
TZOFFSETFROM:-0400
TZOFFSETTO:-0500
TZNAME:EST
DTSTART:20221106T060000
END:STANDARD
END:VTIMEZONE
BEGIN:VEVENT
DTSTART;TZID=America/New_York:20211106T140000
DTEND;TZID=America/New_York:20211106T144500
DTSTAMP:20260421T084701
CREATED:20211026T204509Z
LAST-MODIFIED:20211103T012826Z
UID:1969-1636207200-1636209900@www.educarteinc.org
SUMMARY:EducArte’s Brazilian Dance Workshop
DESCRIPTION:Learn samba from Zezeh\, Brazilian dancer\, teacher\, choreographer\, performer\, and healer from São Paulo with a mission to bring more joy to the world through art. Zezeh will demonstrate and teach the basics of samba dance. Also stay for our percussion ensemble workshop with André Coelho immediately following the dance workshop! \nThis is a regularly occurring Brazilian dance workshop hosted by EducArte. All levels are welcome to participate. \nThis event is free and open to the public. While primarily intended for adults\, everyone is welcome. Please note that this workshop will be held at Old Parish House of College Park at 4711 Knox Road. \nThe event is a program of College Park-based arts non-profit EducArte. Special thanks to event sponsor\, the College Park Arts Exchange.
URL:https://www.educarteinc.org/event/educartes-brazilian-dance-workshop-4/
LOCATION:Old Parish House of College Park\, 4711 Knox Rd\, College Park\, MD\, 20740\, United States
CATEGORIES:Brazilian Dance Class Series,Workshops & Classes
ATTACH;FMTTYPE=image/jpeg:https://www.educarteinc.org/wp-content/uploads/2021/10/Zezeh-Erika-Wilcox-Photography-1.jpg
ORGANIZER;CN="EducArte":MAILTO:educarte@educarteinc.org
END:VEVENT
END:VCALENDAR