BEGIN:VCALENDAR
VERSION:2.0
PRODID:-//EducArte - ECPv6.15.20//NONSGML v1.0//EN
CALSCALE:GREGORIAN
METHOD:PUBLISH
X-WR-CALNAME:EducArte
X-ORIGINAL-URL:https://www.educarteinc.org
X-WR-CALDESC:Events for EducArte
REFRESH-INTERVAL;VALUE=DURATION:PT1H
X-Robots-Tag:noindex
X-PUBLISHED-TTL:PT1H
BEGIN:VTIMEZONE
TZID:America/New_York
BEGIN:DAYLIGHT
TZOFFSETFROM:-0500
TZOFFSETTO:-0400
TZNAME:EDT
DTSTART:20190310T070000
END:DAYLIGHT
BEGIN:STANDARD
TZOFFSETFROM:-0400
TZOFFSETTO:-0500
TZNAME:EST
DTSTART:20191103T060000
END:STANDARD
BEGIN:DAYLIGHT
TZOFFSETFROM:-0500
TZOFFSETTO:-0400
TZNAME:EDT
DTSTART:20200308T070000
END:DAYLIGHT
BEGIN:STANDARD
TZOFFSETFROM:-0400
TZOFFSETTO:-0500
TZNAME:EST
DTSTART:20201101T060000
END:STANDARD
BEGIN:DAYLIGHT
TZOFFSETFROM:-0500
TZOFFSETTO:-0400
TZNAME:EDT
DTSTART:20210314T070000
END:DAYLIGHT
BEGIN:STANDARD
TZOFFSETFROM:-0400
TZOFFSETTO:-0500
TZNAME:EST
DTSTART:20211107T060000
END:STANDARD
END:VTIMEZONE
BEGIN:VEVENT
DTSTART;TZID=America/New_York:20200519T170000
DTEND;TZID=America/New_York:20200519T183000
DTSTAMP:20260420T022217
CREATED:20200905T173604Z
LAST-MODIFIED:20200905T173624Z
UID:520-1589907600-1589913000@www.educarteinc.org
SUMMARY:Ethnographic research workshop: Ethnographic observation and participant observation in Fulbright research
DESCRIPTION:How do we acknowledge our biases and reflect on how our cultural perspectives are formed? How do we physically position ourselves in a space that is unfamiliar to us? How do we behave when etiquette is unknown or language is an obstacle? What does participation look like\, and when is participation appropriate or inappropriate? \nPanelists: \n\nGordon Bronitsky – Senior Fulbright Professor\, Germany 1984-5\, teaching area American Indians; Senior Fulbright Specialist\, Kenya 2010; Senior Fulbright Specialist Zimbabwe 2016-2017; President\, Bronitsky and Associates indigenow.com\, a firm that works with Indigenous peoples around the world in the performing arts (traditional and contemporary) and festival development on every continent except Antarctica\nPadmini Bhuyan Boruah – Professor & Head\, Department of English language Teaching\, Gauhati University\, India; FNAPE Teaching & Research Fellowship\, 2019-20. Host institution: University of San Diego\, CA; Home institution: Gauhati University\, India; Research interests: English Language Teacher Education; Action Research\nLoneka Wilkinson-Battiste – Assistant Professor of Music Education\, University of Tennessee\, Knoxville; Brazil 2019; Fulbright Postdoctoral Teaching and Research Fellowship\, 2019. Host institution: Universidade Federal de Pernambuco\, Recife\, Pernambuco\, Brazil. Areas studied: coco de roda\nKate Spanos – Brazil 2018\, dance anthropology\, University of Maryland\, College Park (moderator)\n\n  \n \nFor more information and registration\, visit tiny.cc/FulbridgeEthnography2
URL:https://www.educarteinc.org/event/ethnographic-research-workshop-2/
LOCATION:Online
CATEGORIES:Online,Workshops & Classes
ORGANIZER;CN="EducArte":MAILTO:educarte@educarteinc.org
END:VEVENT
END:VCALENDAR