BEGIN:VCALENDAR
VERSION:2.0
PRODID:-//EducArte - ECPv6.15.20//NONSGML v1.0//EN
CALSCALE:GREGORIAN
METHOD:PUBLISH
X-WR-CALNAME:EducArte
X-ORIGINAL-URL:https://www.educarteinc.org
X-WR-CALDESC:Events for EducArte
REFRESH-INTERVAL;VALUE=DURATION:PT1H
X-Robots-Tag:noindex
X-PUBLISHED-TTL:PT1H
BEGIN:VTIMEZONE
TZID:America/New_York
BEGIN:DAYLIGHT
TZOFFSETFROM:-0500
TZOFFSETTO:-0400
TZNAME:EDT
DTSTART:20200308T070000
END:DAYLIGHT
BEGIN:STANDARD
TZOFFSETFROM:-0400
TZOFFSETTO:-0500
TZNAME:EST
DTSTART:20201101T060000
END:STANDARD
BEGIN:DAYLIGHT
TZOFFSETFROM:-0500
TZOFFSETTO:-0400
TZNAME:EDT
DTSTART:20210314T070000
END:DAYLIGHT
BEGIN:STANDARD
TZOFFSETFROM:-0400
TZOFFSETTO:-0500
TZNAME:EST
DTSTART:20211107T060000
END:STANDARD
BEGIN:DAYLIGHT
TZOFFSETFROM:-0500
TZOFFSETTO:-0400
TZNAME:EDT
DTSTART:20220313T070000
END:DAYLIGHT
BEGIN:STANDARD
TZOFFSETFROM:-0400
TZOFFSETTO:-0500
TZNAME:EST
DTSTART:20221106T060000
END:STANDARD
END:VTIMEZONE
BEGIN:VEVENT
DTSTART;VALUE=DATE:20211130
DTEND;VALUE=DATE:20211201
DTSTAMP:20260423T055223
CREATED:20211101T154116Z
LAST-MODIFIED:20211104T172930Z
UID:2066-1638230400-1638316799@www.educarteinc.org
SUMMARY:Giving Tuesday 2021
DESCRIPTION:GivingTuesday is a global day of generosity that will take place on November 30\, 2021. GivingTuesday was created in 2012 as a simple idea: a day that encourages people to do good. Over the past nine years\, this idea has grown into a global movement that inspires hundreds of millions of people to give\, collaborate\, and celebrate generosity. \nPeople can show their generosity in a variety of ways during GivingTuesday⁠⁠—whether it’s helping a neighbor\, advocating for an issue\, sharing a skill\, or giving to causes—everyone has something to give and every act of generosity counts. \nEven in times of economic uncertainty\, we each have a deep reserve of generosity\, which we can deploy in myriad ways to make a difference–your time\, your kindness\, your skills\, your voice are all things you can give in addition to charitable donations. \nEducArte appreciates any support you can offer\, at any giving level. Please consider giving to EducArte on this GivingTuesday through our donations page.
URL:https://www.educarteinc.org/event/giving-tuesday-2021/
ATTACH;FMTTYPE=image/png:https://www.educarteinc.org/wp-content/uploads/2021/11/stacked-color.png
END:VEVENT
END:VCALENDAR