BEGIN:VCALENDAR
VERSION:2.0
PRODID:-//EducArte - ECPv6.15.20//NONSGML v1.0//EN
CALSCALE:GREGORIAN
METHOD:PUBLISH
X-WR-CALNAME:EducArte
X-ORIGINAL-URL:https://www.educarteinc.org
X-WR-CALDESC:Events for EducArte
REFRESH-INTERVAL;VALUE=DURATION:PT1H
X-Robots-Tag:noindex
X-PUBLISHED-TTL:PT1H
BEGIN:VTIMEZONE
TZID:America/New_York
BEGIN:DAYLIGHT
TZOFFSETFROM:-0500
TZOFFSETTO:-0400
TZNAME:EDT
DTSTART:20200308T070000
END:DAYLIGHT
BEGIN:STANDARD
TZOFFSETFROM:-0400
TZOFFSETTO:-0500
TZNAME:EST
DTSTART:20201101T060000
END:STANDARD
BEGIN:DAYLIGHT
TZOFFSETFROM:-0500
TZOFFSETTO:-0400
TZNAME:EDT
DTSTART:20210314T070000
END:DAYLIGHT
BEGIN:STANDARD
TZOFFSETFROM:-0400
TZOFFSETTO:-0500
TZNAME:EST
DTSTART:20211107T060000
END:STANDARD
BEGIN:DAYLIGHT
TZOFFSETFROM:-0500
TZOFFSETTO:-0400
TZNAME:EDT
DTSTART:20220313T070000
END:DAYLIGHT
BEGIN:STANDARD
TZOFFSETFROM:-0400
TZOFFSETTO:-0500
TZNAME:EST
DTSTART:20221106T060000
END:STANDARD
END:VTIMEZONE
BEGIN:VEVENT
DTSTART;TZID=America/New_York:20210423T200000
DTEND;TZID=America/New_York:20210423T213000
DTSTAMP:20260419T214233
CREATED:20210116T192519Z
LAST-MODIFIED:20211104T225834Z
UID:901-1619208000-1619213400@www.educarteinc.org
SUMMARY:Virtual Series: Alison Crockett
DESCRIPTION:Join us for a conversation with vocalist Alison Crockett about her latest projects in American and Brazilian jazz. \nOn seminal recordings by King Britt\, Blue Six\, Us3\, and a host of others\, Alison Crockett’s voice has provided a velvety\, sensual finishing touch for cutting edge beats. Her voice dripping soul with generous helpings of jazz\, gospel and blues\, she has taken the baton from divas of the present and past such as Rachelle Farrelle\, Erykah Badu\, Jill Scott\, Donna Summer\, Elis Regina\, and Sarah Vaughn and forged a uniquely personal and singular musical vision. Alison’s latest project\, released in November 2018\, focuses on a new love: Brazilian music. After visiting the country she decided to mix her musical loves to create the project\, “Obrigada.” Recorded in the city of São Paulo in the summer of 2017 with Brazilian jazz musicians Felipe Silviera\, Thiago Alves\, and Palinho Vicente\, Alison has weaved a refreshing sound love of jazz\, bossa nova\, and soul that continues to highlight her fearlessness as a musical traveler boldly projecting her inimitable voice into the sonic future. \nThis conversation will be moderated by Pablo Regis. \nJoin us on Facebook Live or YouTube to tune in! \nRSVP on Facebook: https://www.facebook.com/events/428617025046865/
URL:https://www.educarteinc.org/event/virtual-series-alison-crockett/
LOCATION:Online
CATEGORIES:Online,Presentations
ORGANIZER;CN="EducArte":MAILTO:educarte@educarteinc.org
END:VEVENT
END:VCALENDAR