BEGIN:VCALENDAR
VERSION:2.0
PRODID:-//EducArte - ECPv6.15.20//NONSGML v1.0//EN
CALSCALE:GREGORIAN
METHOD:PUBLISH
X-WR-CALNAME:EducArte
X-ORIGINAL-URL:https://www.educarteinc.org
X-WR-CALDESC:Events for EducArte
REFRESH-INTERVAL;VALUE=DURATION:PT1H
X-Robots-Tag:noindex
X-PUBLISHED-TTL:PT1H
BEGIN:VTIMEZONE
TZID:America/New_York
BEGIN:DAYLIGHT
TZOFFSETFROM:-0500
TZOFFSETTO:-0400
TZNAME:EDT
DTSTART:20200308T070000
END:DAYLIGHT
BEGIN:STANDARD
TZOFFSETFROM:-0400
TZOFFSETTO:-0500
TZNAME:EST
DTSTART:20201101T060000
END:STANDARD
BEGIN:DAYLIGHT
TZOFFSETFROM:-0500
TZOFFSETTO:-0400
TZNAME:EDT
DTSTART:20210314T070000
END:DAYLIGHT
BEGIN:STANDARD
TZOFFSETFROM:-0400
TZOFFSETTO:-0500
TZNAME:EST
DTSTART:20211107T060000
END:STANDARD
BEGIN:DAYLIGHT
TZOFFSETFROM:-0500
TZOFFSETTO:-0400
TZNAME:EDT
DTSTART:20220313T070000
END:DAYLIGHT
BEGIN:STANDARD
TZOFFSETFROM:-0400
TZOFFSETTO:-0500
TZNAME:EST
DTSTART:20221106T060000
END:STANDARD
END:VTIMEZONE
BEGIN:VEVENT
DTSTART;TZID=America/New_York:20210723T190000
DTEND;TZID=America/New_York:20210723T201500
DTSTAMP:20260419T203544
CREATED:20210704T204136Z
LAST-MODIFIED:20210724T004644Z
UID:1470-1627066800-1627071300@www.educarteinc.org
SUMMARY:Workshop: An Overview of Philippine Native Music with Bo Razón Part II
DESCRIPTION:Bo Razón\, photo by Judy Razón\nThis presentation will be a continuation of Bo Razon’s first EducArte workshop on July 2 about native Philippine music\, covering pre-colonial music roots from two Philippine ethnolinguistic regions which have now become the main sources for Filipino world music. Various ethnic instruments and rhythms from both the Northern & Southern tribes will be demonstrated. The focus will be on bamboo and gong instruments as well as the native boat lutes. The workshop will also examine the Hispanic influence in Philippine music from over three centuries of colonization. Various stringed instruments like the Philippine Banduria & Laúd will be featured as well. \nAbout Bo Razón:\nBo Razón is a multi-instrumentalist\, composer\, recording artist\, and educator. His influences are mainly native music from North & Sub-Saharan Africa\, Cuba\, Southeast Asia\, Brazil\, the Caribbean\, North America\, the Iberian peninsula\, and the Middle East. Passionate about traditional music of indigenous world cultures as well as contemporary music genres\, he seeks ways in which the two may coalesce organically. His skill sets have brought him to work in a musical capacity with several global institutions of art and culture such as the British Council\, the Goethe Institut\, the Alliance Francaise\, Instituto Cervantes\, and the Philippine National Commission for Culture & the Arts. He has taught World & Afro-Latin music at the University of the Philippines\, as well as teaching music to K-12 school kids in California. Bo plays several stringed and skinned (percussion) instruments from diverse global cultures and has performed with many major artists from around the world in many settings and venues in Asia\, Europe\, and the Americas.
URL:https://www.educarteinc.org/event/workshop-an-overview-of-philippine-native-music-with-bo-razon-part-ii/
LOCATION:Online
CATEGORIES:Online,Workshops & Classes
ORGANIZER;CN="EducArte":MAILTO:educarte@educarteinc.org
END:VEVENT
END:VCALENDAR