BEGIN:VCALENDAR
VERSION:2.0
PRODID:-//EducArte - ECPv6.15.20//NONSGML v1.0//EN
CALSCALE:GREGORIAN
METHOD:PUBLISH
X-WR-CALNAME:EducArte
X-ORIGINAL-URL:https://www.educarteinc.org
X-WR-CALDESC:Events for EducArte
REFRESH-INTERVAL;VALUE=DURATION:PT1H
X-Robots-Tag:noindex
X-PUBLISHED-TTL:PT1H
BEGIN:VTIMEZONE
TZID:America/New_York
BEGIN:DAYLIGHT
TZOFFSETFROM:-0500
TZOFFSETTO:-0400
TZNAME:EDT
DTSTART:20200308T070000
END:DAYLIGHT
BEGIN:STANDARD
TZOFFSETFROM:-0400
TZOFFSETTO:-0500
TZNAME:EST
DTSTART:20201101T060000
END:STANDARD
BEGIN:DAYLIGHT
TZOFFSETFROM:-0500
TZOFFSETTO:-0400
TZNAME:EDT
DTSTART:20210314T070000
END:DAYLIGHT
BEGIN:STANDARD
TZOFFSETFROM:-0400
TZOFFSETTO:-0500
TZNAME:EST
DTSTART:20211107T060000
END:STANDARD
BEGIN:DAYLIGHT
TZOFFSETFROM:-0500
TZOFFSETTO:-0400
TZNAME:EDT
DTSTART:20220313T070000
END:DAYLIGHT
BEGIN:STANDARD
TZOFFSETFROM:-0400
TZOFFSETTO:-0500
TZNAME:EST
DTSTART:20221106T060000
END:STANDARD
END:VTIMEZONE
BEGIN:VEVENT
DTSTART;TZID=America/New_York:20210407T190000
DTEND;TZID=America/New_York:20210407T203000
DTSTAMP:20260419T232705
CREATED:20210205T003849Z
LAST-MODIFIED:20210408T192321Z
UID:1042-1617822000-1617827400@www.educarteinc.org
SUMMARY:Clave - Orphan Roots of American Culture: A Workshop on African Rhythm in Modern Music with Jean-Francis Varre
DESCRIPTION:https://www.educarteinc.org/wp-content/uploads/2021/04/Clave%20-%20Jean-Francis%20Varre.mp4 \nThis interactive workshop is the first in a music and culture series tentatively titled “Black Atlantic.” The focus of the workshop is to shed light on the black African aesthetic of rhythmic structure commonly dubbed “syncopation” by Western musicologists but better explained by the Afro-Cuban concept of the “clave.” Participants will see how this African principle was incorporated into and influenced Western concepts of musical meter ranging from Brazil to the US\, how it remains at the core of nearly all modern music\, and how it can be applied in composition.    \nJean-Francis Varre will lead combination of short verbal histories of various “claves” accompanied by live demonstrations of the musical styles on guitar and vocals and in dance. Participants will learn to clap and maintain a specific clave as the music performed over it is varied\, by genre and era\, in order to deepen the understanding of its application.  \nRegister for the workshop \n \n\nAbout Jean-Francis Varre\nJean-Francis is a singer multi-instrumentalist who holds BA in Sociology with a focus on postcolonial studies. Jean-Francis Varre was born to Senegalese and Cape Verdean immigrants in Washington\, DC. He began singing at 13 years old\, at first in English\, and later in Spanish and the languages of his heritage: French\, Wolof\, and Portuguese. A self-taught singer\, songwriter\, and instrumentalist\, Jean-Francis has performed musical genres including American soul & rock\, Cuban salsa\, and Senegalese mbalax in multiple local and international projects such as DC rock groups Lucy Brown and Sitali\, Brazilian samba/axé celebrity Tonho Matéria\, British soul icon Omar\, Grammy-nominated hip hop fusion artist Christylez Bacon\, and Grammy-nominated salsa/timba ensemble Gonzalo Grau y la Clave Secreta.  \nJean-Francis currently leads the band Sahel which performs a fusion of his influences. In 2017 and 2018\, Sahel shared bills with international artists such as Les Nubians\, Habib Koite & Bamada\, Bombino\, and the Afro-Cuban All Stars. Sahel is presently in the process of recording its first original release. \nBetween 2016 and 2019\, Jean-Francis travelled to Havana\, Cuba and Bahia\, Brazil to advance his diaspora studies and build a foundation for sustained documentary work and collaborative musical projects. In 2018\, Jean-Francis won a DC Commission on the Arts and Humanities Sister Cities grant for an artist exchange between Washington\, DC and Dakar\, Senegal entitled “Black Gold\,” which included discussions\, collaborations\, and performances free to the public in both cities. The project took place in May and June 2019 and was also supported by the Smithsonian and Dance Place. At the 2020 DC Music Summit\, Jean-Francis led an interactive workshop shedding light on the black African aesthetic of rhythmic structure entitled “Clave – The Orphan Roots of American Culture.” These projects comprise the first chapters of a long term educational bridge building endeavor tentatively titled “Black Atlantic\,” which traces and recounts the movements of African peoples throughout the diaspora and their influence on modern world culture through the evolution of the music of the 19th and 20th centuries. 
URL:https://www.educarteinc.org/event/workshop-clave-rhythmic-keys-of-the-diaspora-with-jean-francis-varre/
LOCATION:Zoom
CATEGORIES:Online,Workshops & Classes
ORGANIZER;CN="EducArte":MAILTO:educarte@educarteinc.org
END:VEVENT
END:VCALENDAR