BEGIN:VCALENDAR
VERSION:2.0
PRODID:-//EducArte - ECPv6.15.20//NONSGML v1.0//EN
CALSCALE:GREGORIAN
METHOD:PUBLISH
X-WR-CALNAME:EducArte
X-ORIGINAL-URL:https://www.educarteinc.org
X-WR-CALDESC:Events for EducArte
REFRESH-INTERVAL;VALUE=DURATION:PT1H
X-Robots-Tag:noindex
X-PUBLISHED-TTL:PT1H
BEGIN:VTIMEZONE
TZID:America/New_York
BEGIN:DAYLIGHT
TZOFFSETFROM:-0500
TZOFFSETTO:-0400
TZNAME:EDT
DTSTART:20200308T070000
END:DAYLIGHT
BEGIN:STANDARD
TZOFFSETFROM:-0400
TZOFFSETTO:-0500
TZNAME:EST
DTSTART:20201101T060000
END:STANDARD
BEGIN:DAYLIGHT
TZOFFSETFROM:-0500
TZOFFSETTO:-0400
TZNAME:EDT
DTSTART:20210314T070000
END:DAYLIGHT
BEGIN:STANDARD
TZOFFSETFROM:-0400
TZOFFSETTO:-0500
TZNAME:EST
DTSTART:20211107T060000
END:STANDARD
BEGIN:DAYLIGHT
TZOFFSETFROM:-0500
TZOFFSETTO:-0400
TZNAME:EDT
DTSTART:20220313T070000
END:DAYLIGHT
BEGIN:STANDARD
TZOFFSETFROM:-0400
TZOFFSETTO:-0500
TZNAME:EST
DTSTART:20221106T060000
END:STANDARD
END:VTIMEZONE
BEGIN:VEVENT
DTSTART;TZID=America/New_York:20210929T190000
DTEND;TZID=America/New_York:20210929T210000
DTSTAMP:20260425T192512
CREATED:20210919T231740Z
LAST-MODIFIED:20210920T135510Z
UID:10000126-1632942000-1632949200@www.educarteinc.org
SUMMARY:NextLOOK open rehearsal: Ainihi e Alteridade: Performing Otherness
DESCRIPTION:NextLOOK artist residency\, The Clarice at the University of Maryland + Joe’s Movement Emporium \nThis new dance and music project examines ainihi (“identity” in Hausa) and alteridade (“otherness” in Portuguese) based on the traditions of Nigeria and Brazil. Multidisciplinary artists Sinclair Ogaga Emoghene\, Pablo Regis\, and Kate Spanos create a collaborative work that includes new and traditional songs and dances\, a carnival-style parade\, an audience feedback session and an artist discussion. \nJoin us throughout the week on September 28\, 29\, and 30 for open rehearsals from 7-9PM. We will do a final open rehearsal at the end of the week on Friday\, October 1 at 7PM. \nMore information at Joe’s Movement Emporium and The Clarice. \nThis event is part of NextLOOK. In partnership between The Clarice and Joe’s Movement Emporium\, NextLOOK supports the development of new music\, plays\, dance and other experiences by regionally-based performing artists. These artists are mentored by seasoned arts administrators from The Clarice and Joe’s Movement Emporium to construct innovative methods of deepening the audience’s involvement in their creative process. By removing logistical barriers of cost and space and providing a sounding board for artists creating new work\, NextLOOK invests in the regional arts ecology and creates an accessible\, exploratory environment that connects intriguing artists with adventurous audiences. \nMade possible\, in part\, by the Maryland State Arts Council and the Morris & Gwendolyn Cafritz Foundation.
URL:https://www.educarteinc.org/event/nextlook-open-rehearsal-ainihi-e-alteridade-performing-otherness-2/
LOCATION:Joe’s Movement Emporium\, 3309 Bunker Hill Road\, Mount Rainier\, MD\, 20712\, United States
CATEGORIES:Presentations
ORGANIZER;CN="EducArte":MAILTO:educarte@educarteinc.org
END:VEVENT
END:VCALENDAR