BEGIN:VCALENDAR
VERSION:2.0
PRODID:-//EducArte - ECPv6.15.20//NONSGML v1.0//EN
CALSCALE:GREGORIAN
METHOD:PUBLISH
X-WR-CALNAME:EducArte
X-ORIGINAL-URL:https://www.educarteinc.org
X-WR-CALDESC:Events for EducArte
REFRESH-INTERVAL;VALUE=DURATION:PT1H
X-Robots-Tag:noindex
X-PUBLISHED-TTL:PT1H
BEGIN:VTIMEZONE
TZID:America/New_York
BEGIN:DAYLIGHT
TZOFFSETFROM:-0500
TZOFFSETTO:-0400
TZNAME:EDT
DTSTART:20200308T070000
END:DAYLIGHT
BEGIN:STANDARD
TZOFFSETFROM:-0400
TZOFFSETTO:-0500
TZNAME:EST
DTSTART:20201101T060000
END:STANDARD
BEGIN:DAYLIGHT
TZOFFSETFROM:-0500
TZOFFSETTO:-0400
TZNAME:EDT
DTSTART:20210314T070000
END:DAYLIGHT
BEGIN:STANDARD
TZOFFSETFROM:-0400
TZOFFSETTO:-0500
TZNAME:EST
DTSTART:20211107T060000
END:STANDARD
BEGIN:DAYLIGHT
TZOFFSETFROM:-0500
TZOFFSETTO:-0400
TZNAME:EDT
DTSTART:20220313T070000
END:DAYLIGHT
BEGIN:STANDARD
TZOFFSETFROM:-0400
TZOFFSETTO:-0500
TZNAME:EST
DTSTART:20221106T060000
END:STANDARD
END:VTIMEZONE
BEGIN:VEVENT
DTSTART;TZID=America/New_York:20211008T180000
DTEND;TZID=America/New_York:20211008T193000
DTSTAMP:20260425T193040
CREATED:20210906T203157Z
LAST-MODIFIED:20211101T173321Z
UID:10000110-1633716000-1633721400@www.educarteinc.org
SUMMARY:Choro Lecture Series: African and European Connections in Brazilian Choro\, presented by Tom Rohde
DESCRIPTION:In this lecture\, Tom Rohde demonstrates how African dances\, such as lundu\, were combined with the European polca and schottische to create choro\, a uniquely Brazilian rhythm. This mixing was controversial at the time because Brazilian high society discriminated against African cultural products. \nAbout Tom Rohde:\nMr. Rohde is a classical guitarist and musicologist who earned a Bachelor of Music degree from Ithaca College and a Master of Music degree from the New England Conservatory. He is currently a Ph.D. candidate in musicology at Catholic University with a minor in Latin American music. His area of specialization is Brazilian music and culture and his dissertation focuses on cultural adaptation and recontextualization in Brazilian popular song. His knowledge of Brazilian music has been enhanced through his experience performing with Brazilian music groups in Boston and Washington D.C. for more than twenty years. While living in Boston he was a member of the New World Guitar Trio\, with whom he recorded the CD Exiled and toured throughout Brazil\, Taiwan\, and the United States. Mr. Rohde is a contributing author to the Greenwood Encyclopedia of Latin American Popular Music and he currently teaches Music Literature and Music in Western Civilization at Catholic University and he is a Lecturer of Music History and Culture at George Washington University. \nThis project was made possible by a grant from Maryland Humanities\, with funding received from the Maryland Historical Trust in the Maryland Department of Planning. Maryland Humanities’ Grants Program is also supported by the National Endowment for the Humanities and private funders. Any views\, findings\, conclusions\, or recommendations expressed in this series do not necessarily represent those of Maryland Humanities\, Maryland Historical Trust\, Maryland Department of Planning\, or National Endowment for the Humanities. \nThis is a free\, in-person\, and socially distanced event that will later be posted to EducArte’s YouTube page. EducArte follows all City of College Park\, Prince George’ County and Maryland State safety guidelines. \nRegister for freeRSVP on Facebook \nLearn more about the full Choro Lecture Series this fall.
URL:https://www.educarteinc.org/event/choro-lecture-series-african-and-european-connections-in-brazilian-choro-presented-by-tom-rohde/
LOCATION:Old Parish House of College Park\, 4711 Knox Rd\, College Park\, MD\, 20740\, United States
CATEGORIES:Choro Lecture Series,Presentations
ATTACH;FMTTYPE=image/jpeg:https://www.educarteinc.org/wp-content/uploads/2021/09/Tom-Rohde.jpg
ORGANIZER;CN="EducArte":MAILTO:educarte@educarteinc.org
END:VEVENT
END:VCALENDAR