BEGIN:VCALENDAR
VERSION:2.0
PRODID:-//EducArte - ECPv6.15.20//NONSGML v1.0//EN
CALSCALE:GREGORIAN
METHOD:PUBLISH
X-WR-CALNAME:EducArte
X-ORIGINAL-URL:https://www.educarteinc.org
X-WR-CALDESC:Events for EducArte
REFRESH-INTERVAL;VALUE=DURATION:PT1H
X-Robots-Tag:noindex
X-PUBLISHED-TTL:PT1H
BEGIN:VTIMEZONE
TZID:America/New_York
BEGIN:DAYLIGHT
TZOFFSETFROM:-0500
TZOFFSETTO:-0400
TZNAME:EDT
DTSTART:20200308T070000
END:DAYLIGHT
BEGIN:STANDARD
TZOFFSETFROM:-0400
TZOFFSETTO:-0500
TZNAME:EST
DTSTART:20201101T060000
END:STANDARD
BEGIN:DAYLIGHT
TZOFFSETFROM:-0500
TZOFFSETTO:-0400
TZNAME:EDT
DTSTART:20210314T070000
END:DAYLIGHT
BEGIN:STANDARD
TZOFFSETFROM:-0400
TZOFFSETTO:-0500
TZNAME:EST
DTSTART:20211107T060000
END:STANDARD
BEGIN:DAYLIGHT
TZOFFSETFROM:-0500
TZOFFSETTO:-0400
TZNAME:EDT
DTSTART:20220313T070000
END:DAYLIGHT
BEGIN:STANDARD
TZOFFSETFROM:-0400
TZOFFSETTO:-0500
TZNAME:EST
DTSTART:20221106T060000
END:STANDARD
END:VTIMEZONE
BEGIN:VEVENT
DTSTART;TZID=America/New_York:20211022T180000
DTEND;TZID=America/New_York:20211022T193000
DTSTAMP:20260425T193041
CREATED:20210910T192313Z
LAST-MODIFIED:20211101T173341Z
UID:10000111-1634925600-1634931000@www.educarteinc.org
SUMMARY:Choro Lecture Series: Choro as an Element of Brazilian National Identity\, by Bryan McCann\, PhD
DESCRIPTION:In this lecture\, Bryan McCann\, PhD\, talks about choro’s influence in Brazilian music and society. Choro musicians\, who were virtuosic by necessity\, became the go-to studio musicians in the early radio and recording industry of Rio de Janeiro. Later legends of Brazilian music like Villalobos and bossa nova great Tom Jobim studied choro and brought these qualities to their respective genres and music. McCann will also talk about the relationship between choro and bossa nova\, as well as bossa nova as a global genre. \nThis is a free\, in-person\, and socially distanced event that will later be posted to EducArte’s YouTube page. EducArte follows all City of College Park\, Prince George’s County\, and Maryland State safety guidelines. \nAbout Bryan McCann:\nBryan McCann is Professor of Latin American History and Chair of the History Department at Georgetown University. He is a specialist in Brazilian cultural and social history. He is the author of Hello\, Hello Brazil: Popular Music in the Making of Modern Brazil (Duke University Press\, 2004)\, João Gilberto and Stan Getz’s Getz/Gilberto (Bloomsbury\, 2018)\, and numerous other publications on Brazilian music\, urban history\, and their broader implications. \nThis project was made possible by a grant from Maryland Humanities\, with funding received from the Maryland Historical Trust in the Maryland Department of Planning. Maryland Humanities’ Grants Program is also supported by the National Endowment for the Humanities and private funders. Any views\, findings\, conclusions\, or recommendations expressed in this series do not necessarily represent those of Maryland Humanities\, Maryland Historical Trust\, Maryland Department of Planning\, or National Endowment for the Humanities. \nRegister for free \nRSVP on Facebook \nLearn more about the full Choro Lecture Series this fall.
URL:https://www.educarteinc.org/event/choro-lecture-series-choro-as-an-element-of-brazilian-national-identity-by-bryan-mccann-phd/
LOCATION:Old Parish House of College Park\, 4711 Knox Rd\, College Park\, MD\, 20740\, United States
CATEGORIES:Choro Lecture Series,Presentations
ATTACH;FMTTYPE=image/jpeg:https://www.educarteinc.org/wp-content/uploads/2021/09/Bryan-McCann-1.jpeg
ORGANIZER;CN="EducArte":MAILTO:educarte@educarteinc.org
END:VEVENT
END:VCALENDAR