BEGIN:VCALENDAR
VERSION:2.0
PRODID:-//EducArte - ECPv6.15.20//NONSGML v1.0//EN
CALSCALE:GREGORIAN
METHOD:PUBLISH
X-ORIGINAL-URL:https://www.educarteinc.org
X-WR-CALDESC:Events for EducArte
REFRESH-INTERVAL;VALUE=DURATION:PT1H
X-Robots-Tag:noindex
X-PUBLISHED-TTL:PT1H
BEGIN:VTIMEZONE
TZID:America/New_York
BEGIN:DAYLIGHT
TZOFFSETFROM:-0500
TZOFFSETTO:-0400
TZNAME:EDT
DTSTART:20210314T070000
END:DAYLIGHT
BEGIN:STANDARD
TZOFFSETFROM:-0400
TZOFFSETTO:-0500
TZNAME:EST
DTSTART:20211107T060000
END:STANDARD
BEGIN:DAYLIGHT
TZOFFSETFROM:-0500
TZOFFSETTO:-0400
TZNAME:EDT
DTSTART:20220313T070000
END:DAYLIGHT
BEGIN:STANDARD
TZOFFSETFROM:-0400
TZOFFSETTO:-0500
TZNAME:EST
DTSTART:20221106T060000
END:STANDARD
BEGIN:DAYLIGHT
TZOFFSETFROM:-0500
TZOFFSETTO:-0400
TZNAME:EDT
DTSTART:20230312T070000
END:DAYLIGHT
BEGIN:STANDARD
TZOFFSETFROM:-0400
TZOFFSETTO:-0500
TZNAME:EST
DTSTART:20231105T060000
END:STANDARD
END:VTIMEZONE
BEGIN:VEVENT
DTSTART;TZID=America/New_York:20220317T160000
DTEND;TZID=America/New_York:20220317T163000
DTSTAMP:20260425T141443
CREATED:20220228T182736Z
LAST-MODIFIED:20220228T182736Z
UID:10000211-1647532800-1647534600@www.educarteinc.org
SUMMARY:Irish dance performance at Silver Spring Metro Plaza
DESCRIPTION:Kate Spanos will give a short 15-minute Irish dance performance at the Silver Spring Metro Plaza on St. Patrick’s Day at 4:15PM. There will be live music and other entertainment throughout the day.
URL:https://www.educarteinc.org/event/irish-dance-performance-at-silver-spring-metro-plaza/
LOCATION:Silver Spring Metro Plaza\, 8403 Colesville Rd #400\, Silver Spring\, MD\, 20910\, United States
CATEGORIES:Concerts & Performances
ATTACH;FMTTYPE=image/jpeg:https://www.educarteinc.org/wp-content/uploads/2021/10/Kate-Spanos-jump-web-Photo-by-Violetta-Markelou.jpg
END:VEVENT
BEGIN:VEVENT
DTSTART;TZID=America/New_York:20220317T213000
DTEND;TZID=America/New_York:20220317T233000
DTSTAMP:20260425T141443
CREATED:20211025T150035Z
LAST-MODIFIED:20220119T212604Z
UID:10000224-1647552600-1647559800@www.educarteinc.org
SUMMARY:Pablo’s Baile at Bossa Bistro
DESCRIPTION:Pablo’s Baile happens every third Thursday of the month at Bossa Bistro! An electrifying mix of percussion\, passion\, and Brazilian Portuguese\, Pablo’s Baile showcases the best of live Brazilian dance music\, including samba and forró.\n\nPablo’s Baile was featured in Washington City Paper in December 2021! Check it out: City Lights—Pablo’s Baile Brings Brazil to Adams Morgan\n\n$10 at the door
URL:https://www.educarteinc.org/event/pablos-baile-at-bossa-bistro-6-2-2-2/
LOCATION:Bossa Bistro\, 2463 18th Street NW\, Washington\, DC\, 20009\, United States
CATEGORIES:Concerts & Performances,Pablo Regis
ATTACH;FMTTYPE=image/jpeg:https://www.educarteinc.org/wp-content/uploads/2021/12/Pablo-Regis-de-Oliveira-cavaco-2-web-Photo-by-Violetta-Markelou.jpg
END:VEVENT
END:VCALENDAR