BEGIN:VCALENDAR
VERSION:2.0
PRODID:-//EducArte - ECPv6.15.20//NONSGML v1.0//EN
CALSCALE:GREGORIAN
METHOD:PUBLISH
X-ORIGINAL-URL:https://www.educarteinc.org
X-WR-CALDESC:Events for EducArte
REFRESH-INTERVAL;VALUE=DURATION:PT1H
X-Robots-Tag:noindex
X-PUBLISHED-TTL:PT1H
BEGIN:VTIMEZONE
TZID:America/New_York
BEGIN:DAYLIGHT
TZOFFSETFROM:-0500
TZOFFSETTO:-0400
TZNAME:EDT
DTSTART:20210314T070000
END:DAYLIGHT
BEGIN:STANDARD
TZOFFSETFROM:-0400
TZOFFSETTO:-0500
TZNAME:EST
DTSTART:20211107T060000
END:STANDARD
BEGIN:DAYLIGHT
TZOFFSETFROM:-0500
TZOFFSETTO:-0400
TZNAME:EDT
DTSTART:20220313T070000
END:DAYLIGHT
BEGIN:STANDARD
TZOFFSETFROM:-0400
TZOFFSETTO:-0500
TZNAME:EST
DTSTART:20221106T060000
END:STANDARD
BEGIN:DAYLIGHT
TZOFFSETFROM:-0500
TZOFFSETTO:-0400
TZNAME:EDT
DTSTART:20230312T070000
END:DAYLIGHT
BEGIN:STANDARD
TZOFFSETFROM:-0400
TZOFFSETTO:-0500
TZNAME:EST
DTSTART:20231105T060000
END:STANDARD
END:VTIMEZONE
BEGIN:VEVENT
DTSTART;TZID=America/New_York:20220326T100000
DTEND;TZID=America/New_York:20220326T120000
DTSTAMP:20260425T130330
CREATED:20211004T145021Z
LAST-MODIFIED:20220316T221344Z
UID:10000229-1648288800-1648296000@www.educarteinc.org
SUMMARY:ABRACE weekly music lessons
DESCRIPTION:For ABRACE members only. To learn more about ABRACE\, visit abracebrasil.org. Learn more about EducArte’s music program with ABRACE here.
URL:https://www.educarteinc.org/event/abrace-weekly-music-lessons-20-2-2-2-2-2/
LOCATION:McLean High School\, 1633 Davidson Rd\, McLean\, VA\, 22101\, United States
CATEGORIES:ABRACE,Workshops & Classes
ATTACH;FMTTYPE=image/jpeg:https://www.educarteinc.org/wp-content/uploads/2022/02/2022-02-28-photo-6.jpg
END:VEVENT
BEGIN:VEVENT
DTSTART;TZID=America/New_York:20220326T140000
DTEND;TZID=America/New_York:20220326T144500
DTSTAMP:20260425T130330
CREATED:20220103T184411Z
LAST-MODIFIED:20220213T145827Z
UID:10000192-1648303200-1648305900@www.educarteinc.org
SUMMARY:EducArte’s Brazilian Dance Workshop
DESCRIPTION:Join us for special class with Guilherme da Silva from Recife! Guilherme will teach an hour-long class on northeastern Brazilian dances\, including frevo\, coco\, and ciranda. He is the founder of Distrito do Frevo (District of Frevo) in Washington\, DC\, in partnership with Vavá United School of Samba\, and has taught in the United States and Europe. \nDon’t miss this unique opportunity learn about dances from Brazil’s Northeast\, and stay for our percussion ensemble workshop with André Coelho immediately following the dance workshop! \nThis is a regularly occurring Brazilian dance workshop hosted by EducArte. All levels are welcome to participate. \nThis event is free and open to the public. While primarily intended for adults\, everyone is welcome. Please note that this workshop will be held at Old Parish House of College Park at 4711 Knox Road. \nThe event is a program of College Park-based arts non-profit EducArte. Special thanks to event sponsor\, the College Park Arts Exchange.
URL:https://www.educarteinc.org/event/educartes-brazilian-dance-workshop-8-2-2-3-2-2-2/
CATEGORIES:Brazilian Dance Class Series
ATTACH;FMTTYPE=image/jpeg:https://www.educarteinc.org/wp-content/uploads/2022/01/Guilherme-da-Silva.jpg
END:VEVENT
BEGIN:VEVENT
DTSTART;TZID=America/New_York:20220326T150000
DTEND;TZID=America/New_York:20220326T163000
DTSTAMP:20260425T130330
CREATED:20220103T192405Z
LAST-MODIFIED:20220315T124652Z
UID:10000187-1648306800-1648312200@www.educarteinc.org
SUMMARY:EducArte’s Brazilian Percussion Workshop & Jam
DESCRIPTION:Learn from and jam with special guest percussionist and scholar Juan Megna. Juan will show and demonstrate each of the essential Brazilian percussion instruments. Participants will learn basic rhythms and the event will finish with a jam session. Also come early for Brazilian dance workshop immediately before the percussion ensemble! \nWe will have some percussion instruments\, like pandeiros\, tamborins\, and surdos for participants. But please bring your instruments if you have any. \nThis is a regularly occurring Brazilian percussion meetup. All levels are welcome to participate. \nThis event is free and open to the public. While primarily intended for adults\, everyone is welcome. Please note that this workshop will be held at Old Parish House of College Park at 4711 Knox Road. \nPlease note that masks and proof of vaccination are required at this event. Please contact us if you have any questions or concerns. \nThe event is a program of College Park-based arts non-profit EducArte. Special thanks to event sponsor\, the College Park Arts Exchange.
URL:https://www.educarteinc.org/event/educartes-brazilian-percussion-workshop-jam-11-2-2-2-2/
CATEGORIES:Brazilian Percussion Class Series
ATTACH;FMTTYPE=image/png:https://www.educarteinc.org/wp-content/uploads/2022/01/Screen-Shot-2022-03-15-at-8.44.34-AM.png
END:VEVENT
END:VCALENDAR