BEGIN:VCALENDAR
VERSION:2.0
PRODID:-//EducArte - ECPv6.15.20//NONSGML v1.0//EN
CALSCALE:GREGORIAN
METHOD:PUBLISH
X-ORIGINAL-URL:https://www.educarteinc.org
X-WR-CALDESC:Events for EducArte
REFRESH-INTERVAL;VALUE=DURATION:PT1H
X-Robots-Tag:noindex
X-PUBLISHED-TTL:PT1H
BEGIN:VTIMEZONE
TZID:America/New_York
BEGIN:DAYLIGHT
TZOFFSETFROM:-0500
TZOFFSETTO:-0400
TZNAME:EDT
DTSTART:20210314T070000
END:DAYLIGHT
BEGIN:STANDARD
TZOFFSETFROM:-0400
TZOFFSETTO:-0500
TZNAME:EST
DTSTART:20211107T060000
END:STANDARD
BEGIN:DAYLIGHT
TZOFFSETFROM:-0500
TZOFFSETTO:-0400
TZNAME:EDT
DTSTART:20220313T070000
END:DAYLIGHT
BEGIN:STANDARD
TZOFFSETFROM:-0400
TZOFFSETTO:-0500
TZNAME:EST
DTSTART:20221106T060000
END:STANDARD
BEGIN:DAYLIGHT
TZOFFSETFROM:-0500
TZOFFSETTO:-0400
TZNAME:EDT
DTSTART:20230312T070000
END:DAYLIGHT
BEGIN:STANDARD
TZOFFSETFROM:-0400
TZOFFSETTO:-0500
TZNAME:EST
DTSTART:20231105T060000
END:STANDARD
END:VTIMEZONE
BEGIN:VEVENT
DTSTART;TZID=America/New_York:20220507T103000
DTEND;TZID=America/New_York:20220507T120000
DTSTAMP:20260425T092755
CREATED:20220428T165605Z
LAST-MODIFIED:20220428T172233Z
UID:10000253-1651919400-1651924800@www.educarteinc.org
SUMMARY:ABRACE XI Feira do Livro
DESCRIPTION:Na XI Feira do Livro\, que acontece no dia 7 de maio\, ABRACE terá a participação do parceiro EducArte\, que conduzirá as oficinas de frevo e de musicalização. Na primeira\, os alunos aprenderão passos básicos do frevo e movimentos para se conectar com o ritmo da música. A aula será guiada pela dançarina e pesquisadora Kate Spanos. Já a oficina de musicalização\, conduzida pelo baterista\, percussionista e compositor Filipe Brandão\, fará com que todos mexam o corpo e se familiarizem com diversos instrumentos musicais\, fortalecendo a conexão com a identidade brasileira. \nAt ABRACE’s 9th Book Fair\, which will take place on May 7\, EducArte will conduct frevo and musicalization workshops. In the frevo workshop. students will learn basic frevo steps and movements to connect with the rhythm of the music. The class will be led by dancer and researcher Kate Spanos. The musicalization workshop\, led by drummer\, percussionist\, and composer Filipe Brandão\, will get everyone moving their bodies and familiarizing themselves with various musical instruments\, strengthening the connection with Brazilian identity. \nTo learn more\, visit: https://abracebrasil.org/
URL:https://www.educarteinc.org/event/abrace-xi-feira-do-livro/
LOCATION:McLean Baptist Church\, 1367 Chain Bridge Rd\, McLean\, VA\, 22101\, United States
CATEGORIES:ABRACE,Workshops & Classes
ATTACH;FMTTYPE=image/jpeg:https://www.educarteinc.org/wp-content/uploads/2022/04/ABRACE-XI-Feira-do-Livro-2022.jpg
END:VEVENT
BEGIN:VEVENT
DTSTART;TZID=America/New_York:20220507T140000
DTEND;TZID=America/New_York:20220507T144500
DTSTAMP:20260425T092755
CREATED:20220103T184411Z
LAST-MODIFIED:20220201T034608Z
UID:10000190-1651932000-1651934700@www.educarteinc.org
SUMMARY:EducArte’s Brazilian Dance Workshop
DESCRIPTION:Learn samba from Zezeh\, Brazilian dancer\, teacher\, choreographer\, performer\, and healer from São Paulo with a mission to bring more joy to the world through art. Zezeh will demonstrate and teach the basics of samba dance. Also stay for our percussion ensemble workshop with André Coelho immediately following the dance workshop!\n\nThis is a regularly occurring Brazilian dance workshop hosted by EducArte. All levels are welcome to participate.\n\nThis event is free and open to the public. While primarily intended for adults\, everyone is welcome. Please note that this workshop will be held at Old Parish House of College Park at 4711 Knox Road.\n\nPlease note that masks and proof of vaccination are required at this event. Please contact us if you have any questions or concerns.\n\nThe event is a program of College Park-based arts non-profit EducArte. Special thanks to event sponsor\, the College Park Arts Exchange.
URL:https://www.educarteinc.org/event/educartes-brazilian-dance-workshop-8-2-2-3-2/
CATEGORIES:Brazilian Dance Class Series
ATTACH;FMTTYPE=image/jpeg:https://www.educarteinc.org/wp-content/uploads/2022/01/IMG_7110.jpg
END:VEVENT
BEGIN:VEVENT
DTSTART;TZID=America/New_York:20220507T150000
DTEND;TZID=America/New_York:20220507T163000
DTSTAMP:20260425T092755
CREATED:20220103T192405Z
LAST-MODIFIED:20220201T035418Z
UID:10000202-1651935600-1651941000@www.educarteinc.org
SUMMARY:EducArte’s Brazilian Percussion Workshop & Jam
DESCRIPTION:Learn from and jam with Brazilian samba master percussionist André Coelho from Rio de Janeiro. André will show and demonstrate each of the essential Brazilian percussion instruments. Participants will learn basic rhythms and the event will finish with a jam session. Also come early for our Brazilian dance workshop immediately before the percussion ensemble! \nWe will have some percussion instruments\, like pandeiros\, tamborins\, and surdos for participants. But please bring your instruments if you have any. \nThis is a regularly occurring Brazilian percussion meetup. All levels are welcome to participate. \nThis event is free and open to the public. While primarily intended for adults\, everyone is welcome. Please note that this workshop will be held at Old Parish House of College Park at 4711 Knox Road. \nPlease note that masks and proof of vaccination are required at this event. Please contact us if you have any questions or concerns. \nThe event is a program of College Park-based arts non-profit EducArte. Special thanks to event sponsor\, the College Park Arts Exchange.
URL:https://www.educarteinc.org/event/educartes-brazilian-percussion-workshop-jam-11-2-2-2-2-2-2/
CATEGORIES:Brazilian Percussion Class Series
ATTACH;FMTTYPE=image/jpeg:https://www.educarteinc.org/wp-content/uploads/2022/01/IMG_6448-1.jpg
END:VEVENT
END:VCALENDAR