BEGIN:VCALENDAR
VERSION:2.0
PRODID:-//EducArte - ECPv6.15.20//NONSGML v1.0//EN
CALSCALE:GREGORIAN
METHOD:PUBLISH
X-ORIGINAL-URL:https://www.educarteinc.org
X-WR-CALDESC:Events for EducArte
REFRESH-INTERVAL;VALUE=DURATION:PT1H
X-Robots-Tag:noindex
X-PUBLISHED-TTL:PT1H
BEGIN:VTIMEZONE
TZID:America/New_York
BEGIN:DAYLIGHT
TZOFFSETFROM:-0500
TZOFFSETTO:-0400
TZNAME:EDT
DTSTART:20210314T070000
END:DAYLIGHT
BEGIN:STANDARD
TZOFFSETFROM:-0400
TZOFFSETTO:-0500
TZNAME:EST
DTSTART:20211107T060000
END:STANDARD
BEGIN:DAYLIGHT
TZOFFSETFROM:-0500
TZOFFSETTO:-0400
TZNAME:EDT
DTSTART:20220313T070000
END:DAYLIGHT
BEGIN:STANDARD
TZOFFSETFROM:-0400
TZOFFSETTO:-0500
TZNAME:EST
DTSTART:20221106T060000
END:STANDARD
BEGIN:DAYLIGHT
TZOFFSETFROM:-0500
TZOFFSETTO:-0400
TZNAME:EDT
DTSTART:20230312T070000
END:DAYLIGHT
BEGIN:STANDARD
TZOFFSETFROM:-0400
TZOFFSETTO:-0500
TZNAME:EST
DTSTART:20231105T060000
END:STANDARD
END:VTIMEZONE
BEGIN:VEVENT
DTSTART;TZID=America/New_York:20220628T190000
DTEND;TZID=America/New_York:20220628T203000
DTSTAMP:20260425T064939
CREATED:20220617T195131Z
LAST-MODIFIED:20220622T171351Z
UID:10000249-1656442800-1656448200@www.educarteinc.org
SUMMARY:Monobloco Brazilian Percussion Workshop
DESCRIPTION:Join us for an extra special Brazilian percussion workshop with members of powerhouse Rio street carnival band\, Monobloco! Participants will learn from Brazilian percussion masters how to play rhythms on each of the bateria instruments\, including tamborim\, chocalho\, surdo\, and and other samba instruments. This is face-to-face learning and performance opportunity with Rio de Janeiro’s largest streeet carnival percussion directors. \nAll workshop participants are invited to perform one song on stage with Monobloco the next day at their concert at the Spanish Ballroom at Glen Echo Park. Tickets for the concert are sold separately. \nWe will have instruments and ear plugs on hand\, but please bring your own if you have any. All ages are welcome. \nThe workshop will be held outside in the courtyard of St. Andrew’s Episcopal Church at 4512 College Avenue in College Park\, MD. In case of rain\, we will move inside to the Parish Hall. \nTickets: $30 in advance (discount price) / $35 day of (regular price) \nTransportation and Parking\nThe College Park Metro station (green line) is a 12-minute walk from St. Andrew’s. You can also park for free in any of the parking lots behind the church—just turn onto Princetown Avenue or Yale Avenue to access the parking lots. We will meet outside behind the church at the circular labyrinth (looks like this) or in the Parish Hall through the leftmost door behind the church (up a small staircase). \nThis event is supported by the generosity of the Center for Cultural Vibrancy\, an organization dedicated to creating and cultivating opportunities for cultural connections that support living traditions and energize vibrant communities.
URL:https://www.educarteinc.org/event/monobloco-brazilian-percussion-workshop/
LOCATION:St. Andrew’s Episcopal Church\, 4512 College Avenue\, College Park\, Maryland\, 20740
CATEGORIES:Workshops & Classes
ATTACH;FMTTYPE=image/jpeg:https://www.educarteinc.org/wp-content/uploads/2022/06/Monobloco-workshop-2016-tamborim.jpg
ORGANIZER;CN="EducArte":MAILTO:educarte@educarteinc.org
END:VEVENT
END:VCALENDAR