BEGIN:VCALENDAR
VERSION:2.0
PRODID:-//EducArte - ECPv6.15.20//NONSGML v1.0//EN
CALSCALE:GREGORIAN
METHOD:PUBLISH
X-ORIGINAL-URL:https://www.educarteinc.org
X-WR-CALDESC:Events for EducArte
REFRESH-INTERVAL;VALUE=DURATION:PT1H
X-Robots-Tag:noindex
X-PUBLISHED-TTL:PT1H
BEGIN:VTIMEZONE
TZID:America/New_York
BEGIN:DAYLIGHT
TZOFFSETFROM:-0500
TZOFFSETTO:-0400
TZNAME:EDT
DTSTART:20210314T070000
END:DAYLIGHT
BEGIN:STANDARD
TZOFFSETFROM:-0400
TZOFFSETTO:-0500
TZNAME:EST
DTSTART:20211107T060000
END:STANDARD
BEGIN:DAYLIGHT
TZOFFSETFROM:-0500
TZOFFSETTO:-0400
TZNAME:EDT
DTSTART:20220313T070000
END:DAYLIGHT
BEGIN:STANDARD
TZOFFSETFROM:-0400
TZOFFSETTO:-0500
TZNAME:EST
DTSTART:20221106T060000
END:STANDARD
BEGIN:DAYLIGHT
TZOFFSETFROM:-0500
TZOFFSETTO:-0400
TZNAME:EDT
DTSTART:20230312T070000
END:DAYLIGHT
BEGIN:STANDARD
TZOFFSETFROM:-0400
TZOFFSETTO:-0500
TZNAME:EST
DTSTART:20231105T060000
END:STANDARD
END:VTIMEZONE
BEGIN:VEVENT
DTSTART;TZID=America/New_York:20220909T073000
DTEND;TZID=America/New_York:20220909T220000
DTSTAMP:20260423T113056
CREATED:20220609T183853Z
LAST-MODIFIED:20220621T131238Z
UID:10000305-1662708600-1662760800@www.educarteinc.org
SUMMARY:Adriana Calcanhotto at Birchmere
DESCRIPTION:Acclaimed by fans and critics alike and hailed as one of the great Brazilian singer songwriters of the last 30 years\, Adriana Calcanhotto is a musical chameleon who navigates from bossa nova\, to samba\, avant-gard\, pop\, MPB and beyond. A 2X Latin GRAMMY winner\, Calcanhotto began her career in the mid 1980’s and has released over 20 albums with multiplatinum sales. Over the past three decades her songs have become the soundtrack for millions of fans through radio airplay\, mesmerizing music videos\, and as themes for major TV shows. With astonishing versatility and poetry\, Calcanhotto is able to compose popular ballads as well as conceptual pieces inspired by the literary greats. After a successful US debut tour in 2019\, Calcanhotto returns with an intimate solo concert entitled “Call Me.” \nPresented by Birchmere in association with EducArte. \n  \n\nWith Marisa Monte singing one of her compositions: \n\nMs. Calcanhotto appears at The Birchmere on Friday\, September 9\, 2022 at 7:30pm. \nTickets are on sale now at Ticketmaster.com. 
URL:https://www.educarteinc.org/event/adriana-calcanhotto/
LOCATION:The Birchmere\, 3701 Mount Vernon Avenue\, Alexandria\, VA\, 22305\, United States
CATEGORIES:Concerts & Performances
ATTACH;FMTTYPE=image/png:https://www.educarteinc.org/wp-content/uploads/2022/06/Screen-Shot-2022-06-09-at-2.31.31-PM.png
ORGANIZER;CN="EducArte":MAILTO:educarte@educarteinc.org
END:VEVENT
END:VCALENDAR