BEGIN:VCALENDAR
VERSION:2.0
PRODID:-//EducArte - ECPv6.15.20//NONSGML v1.0//EN
CALSCALE:GREGORIAN
METHOD:PUBLISH
X-ORIGINAL-URL:https://www.educarteinc.org
X-WR-CALDESC:Events for EducArte
REFRESH-INTERVAL;VALUE=DURATION:PT1H
X-Robots-Tag:noindex
X-PUBLISHED-TTL:PT1H
BEGIN:VTIMEZONE
TZID:America/New_York
BEGIN:DAYLIGHT
TZOFFSETFROM:-0500
TZOFFSETTO:-0400
TZNAME:EDT
DTSTART:20210314T070000
END:DAYLIGHT
BEGIN:STANDARD
TZOFFSETFROM:-0400
TZOFFSETTO:-0500
TZNAME:EST
DTSTART:20211107T060000
END:STANDARD
BEGIN:DAYLIGHT
TZOFFSETFROM:-0500
TZOFFSETTO:-0400
TZNAME:EDT
DTSTART:20220313T070000
END:DAYLIGHT
BEGIN:STANDARD
TZOFFSETFROM:-0400
TZOFFSETTO:-0500
TZNAME:EST
DTSTART:20221106T060000
END:STANDARD
BEGIN:DAYLIGHT
TZOFFSETFROM:-0500
TZOFFSETTO:-0400
TZNAME:EDT
DTSTART:20230312T070000
END:DAYLIGHT
BEGIN:STANDARD
TZOFFSETFROM:-0400
TZOFFSETTO:-0500
TZNAME:EST
DTSTART:20231105T060000
END:STANDARD
END:VTIMEZONE
BEGIN:VEVENT
DTSTART;TZID=America/New_York:20220910T140000
DTEND;TZID=America/New_York:20220910T145000
DTSTAMP:20260423T113057
CREATED:20220605T002924Z
LAST-MODIFIED:20220829T164353Z
UID:10000286-1662818400-1662821400@www.educarteinc.org
SUMMARY:EducArte’s Brazilian Dance Class
DESCRIPTION:This is a regularly occurring Brazilian dance workshop hosted by EducArte. All levels are welcome to participate. \nLearn the basics of Recife’s carnival dance\, frevo! Dancer and dance scholar Kate Spanos will demonstrate and teach frevo dance using the methodology of Mexe Com Tudo (Otávio Bastos) of Recife. Also stay for our percussion ensemble workshop with André Coelho immediately following the dance workshop! \nThis is a regularly occurring Brazilian dance workshop hosted by EducArte. All levels are welcome to participate. \nThis event is free and open to the public. While primarily intended for adults\, everyone is welcome. Please note that this workshop will be held at Old Parish House of College Park at 4711 Knox Road. \nThe event is a program of College Park-based arts non-profit EducArte. Special thanks to event sponsor\, the College Park Arts Exchange.
URL:https://www.educarteinc.org/event/educartes-brazilian-dance-class-sept-10/
CATEGORIES:Brazilian Dance Class Series
ATTACH;FMTTYPE=image/jpeg:https://www.educarteinc.org/wp-content/uploads/2022/06/2022-08-27-Frevo-dance-class-scaled.jpg
END:VEVENT
BEGIN:VEVENT
DTSTART;TZID=America/New_York:20220910T150000
DTEND;TZID=America/New_York:20220910T163000
DTSTAMP:20260423T113057
CREATED:20220103T192405Z
LAST-MODIFIED:20220910T130335Z
UID:10000049-1662822000-1662827400@www.educarteinc.org
SUMMARY:EducArte’s Brazilian Percussion Practice
DESCRIPTION:Learn from Brazilian samba master percussionist André Coelho from Rio de Janeiro! André will show and demonstrate each of the essential Brazilian samba percussion instruments. We will have some percussion instruments available for participants to use\, but please bring your own instruments if you have any. \nThis is a regularly occurring Brazilian percussion ensemble practice. All levels are welcome to participate; while primarily intended for adults\, all ages are welcome. \nRegistration is $80 for the full semester (September – December 2022) or $15 per drop-in. Purchase now or at the door. \nThe event is a program of College Park-based arts non-profit EducArte. Special thanks to event sponsor\, the College Park Arts Exchange. \nThanks also to our instrument sponsor\, Contemporânea. EducArte exclusively uses Contemporânea instruments at our Brazilian percussion events.
URL:https://www.educarteinc.org/event/educartes-brazilian-percussion-practice-sept-10/
CATEGORIES:Brazilian Percussion Class Series
ATTACH;FMTTYPE=image/jpeg:https://www.educarteinc.org/wp-content/uploads/2022/01/IMG_9064-scaled.jpg
END:VEVENT
END:VCALENDAR