BEGIN:VCALENDAR
VERSION:2.0
PRODID:-//EducArte - ECPv6.15.20//NONSGML v1.0//EN
CALSCALE:GREGORIAN
METHOD:PUBLISH
X-ORIGINAL-URL:https://www.educarteinc.org
X-WR-CALDESC:Events for EducArte
REFRESH-INTERVAL;VALUE=DURATION:PT1H
X-Robots-Tag:noindex
X-PUBLISHED-TTL:PT1H
BEGIN:VTIMEZONE
TZID:America/New_York
BEGIN:DAYLIGHT
TZOFFSETFROM:-0500
TZOFFSETTO:-0400
TZNAME:EDT
DTSTART:20210314T070000
END:DAYLIGHT
BEGIN:STANDARD
TZOFFSETFROM:-0400
TZOFFSETTO:-0500
TZNAME:EST
DTSTART:20211107T060000
END:STANDARD
BEGIN:DAYLIGHT
TZOFFSETFROM:-0500
TZOFFSETTO:-0400
TZNAME:EDT
DTSTART:20220313T070000
END:DAYLIGHT
BEGIN:STANDARD
TZOFFSETFROM:-0400
TZOFFSETTO:-0500
TZNAME:EST
DTSTART:20221106T060000
END:STANDARD
BEGIN:DAYLIGHT
TZOFFSETFROM:-0500
TZOFFSETTO:-0400
TZNAME:EDT
DTSTART:20230312T070000
END:DAYLIGHT
BEGIN:STANDARD
TZOFFSETFROM:-0400
TZOFFSETTO:-0500
TZNAME:EST
DTSTART:20231105T060000
END:STANDARD
END:VTIMEZONE
BEGIN:VEVENT
DTSTART;TZID=America/New_York:20220918T110000
DTEND;TZID=America/New_York:20220918T124500
DTSTAMP:20260423T113057
CREATED:20220904T140017Z
LAST-MODIFIED:20220904T141531Z
UID:10000271-1663498800-1663505100@www.educarteinc.org
SUMMARY:Tom Rohde & Pablo Regis at Annmarie Artsfest
DESCRIPTION:Tom Rohde (guitar) and Pablo Regis (cavaquinho) will play choro and samba at the Annmarie Artsfest in Solomons\, MD. They will play at the Tonger Fountain. Learn more about the event on their website.
URL:https://www.educarteinc.org/event/tom-rohde-pablo-regis-at-annmarie-artsfest/
LOCATION:Annmarie Sculpture Garden & Arts Center\, 13470 Dowell Road\, Solomons\, MD\, 20688\, United States
CATEGORIES:Concerts & Performances,Pablo Regis
ATTACH;FMTTYPE=image/jpeg:https://www.educarteinc.org/wp-content/uploads/2022/09/Pablo-and-Tom-at-Mr-Henrys-scaled.jpg
END:VEVENT
BEGIN:VEVENT
DTSTART;TZID=America/New_York:20220918T160000
DTEND;TZID=America/New_York:20220918T220000
DTSTAMP:20260423T113057
CREATED:20220901T172259Z
LAST-MODIFIED:20260305T153957Z
UID:10000177-1663516800-1663538400@www.educarteinc.org
SUMMARY:The Grill from Ipanema's 30-Year Anniversary
DESCRIPTION:Join us on September 18 for The Grill from Ipanema‘s 30-year Anniversary Celebration! Come listen to live forró music by Gigi Macaxeira from 4 to 6 pm\, and live Samba music from 7 to 10 pm by Pablo Regis\, André Coelho\, and Richard Miller. \nThe Grill From Ipanema is a piece of Brazil in the heart of Washington DC\, serving authentic Brazilian food since 1992. As a family-owned and operated restaurant\, TGFI is committed to offering the best culinary experience with the warm spirit of Brazilian hospitality. Brazilian cuisine has its strong roots in the Indigenous people\, Immigrants from Africa\, Europe\, Asia\, and many other parts of the world. There is a lot of history and culture behind each dish served at our restaurant. We are committed to offering the best culinary experience so that guests can truly taste traditional Brazilian cookery with different flavors and from different regions in Brazil. \nMake a reservation by calling (202) 986-0757 or by going to their website. No cover charge to get in.
URL:https://www.educarteinc.org/event/the-grill-from-ipanemas-30-year-anniversary/
LOCATION:The Grill From Ipanema\, 1858 Columbia Rd NW\, Washington DC\, DC\, 20009\, United States
END:VEVENT
END:VCALENDAR