BEGIN:VCALENDAR
VERSION:2.0
PRODID:-//EducArte - ECPv6.15.20//NONSGML v1.0//EN
CALSCALE:GREGORIAN
METHOD:PUBLISH
X-WR-CALNAME:EducArte
X-ORIGINAL-URL:https://www.educarteinc.org
X-WR-CALDESC:Events for EducArte
REFRESH-INTERVAL;VALUE=DURATION:PT1H
X-Robots-Tag:noindex
X-PUBLISHED-TTL:PT1H
BEGIN:VTIMEZONE
TZID:America/New_York
BEGIN:DAYLIGHT
TZOFFSETFROM:-0500
TZOFFSETTO:-0400
TZNAME:EDT
DTSTART:20210314T070000
END:DAYLIGHT
BEGIN:STANDARD
TZOFFSETFROM:-0400
TZOFFSETTO:-0500
TZNAME:EST
DTSTART:20211107T060000
END:STANDARD
BEGIN:DAYLIGHT
TZOFFSETFROM:-0500
TZOFFSETTO:-0400
TZNAME:EDT
DTSTART:20220313T070000
END:DAYLIGHT
BEGIN:STANDARD
TZOFFSETFROM:-0400
TZOFFSETTO:-0500
TZNAME:EST
DTSTART:20221106T060000
END:STANDARD
BEGIN:DAYLIGHT
TZOFFSETFROM:-0500
TZOFFSETTO:-0400
TZNAME:EDT
DTSTART:20230312T070000
END:DAYLIGHT
BEGIN:STANDARD
TZOFFSETFROM:-0400
TZOFFSETTO:-0500
TZNAME:EST
DTSTART:20231105T060000
END:STANDARD
END:VTIMEZONE
BEGIN:VEVENT
DTSTART;TZID=America/New_York:20220929T200000
DTEND;TZID=America/New_York:20220929T220000
DTSTAMP:20260423T055035
CREATED:20220830T050004Z
LAST-MODIFIED:20220901T164229Z
UID:10000206-1664481600-1664488800@www.educarteinc.org
SUMMARY:Sergio Mendes at Strathmore Music Center
DESCRIPTION:Bossa Nova was born on July 10\, 1958\, at the old Odeon studios in Rio de Janeiro\, when João Gilberto recorded “Chega de Saudade”—Bossa Nova’s first song and the beginning of a cultural phenomenon. Celebrate 60 years of Bossa Nova with multi-Grammy-winning producer\, composer\, keyboardist\, and vocalist\, Sergio Mendes\, one of the most internationally successful Brazilian artists of all time. His classic song “Mas Que Nada” is the first Portuguese language song ever to hit Billboard’s US pop chart\, and he has collaborated with pop artists like Justin Timberlake\, John Legend\, and The Black Eyed Peas. \nThis concert is presented by Strathmore.
URL:https://www.educarteinc.org/event/sergio-mendes-strathmore-sep-29/
LOCATION:Strathmore\, 5301 Tuckerman Lane\, Bethesda\, MD\, 20852\, United States
CATEGORIES:Concerts & Performances
ATTACH;FMTTYPE=image/jpeg:https://www.educarteinc.org/wp-content/uploads/2022/08/Sergio-Mendes.jpg
END:VEVENT
END:VCALENDAR