BEGIN:VCALENDAR
VERSION:2.0
PRODID:-//EducArte - ECPv6.15.20//NONSGML v1.0//EN
CALSCALE:GREGORIAN
METHOD:PUBLISH
X-ORIGINAL-URL:https://www.educarteinc.org
X-WR-CALDESC:Events for EducArte
REFRESH-INTERVAL;VALUE=DURATION:PT1H
X-Robots-Tag:noindex
X-PUBLISHED-TTL:PT1H
BEGIN:VTIMEZONE
TZID:America/New_York
BEGIN:DAYLIGHT
TZOFFSETFROM:-0500
TZOFFSETTO:-0400
TZNAME:EDT
DTSTART:20210314T070000
END:DAYLIGHT
BEGIN:STANDARD
TZOFFSETFROM:-0400
TZOFFSETTO:-0500
TZNAME:EST
DTSTART:20211107T060000
END:STANDARD
BEGIN:DAYLIGHT
TZOFFSETFROM:-0500
TZOFFSETTO:-0400
TZNAME:EDT
DTSTART:20220313T070000
END:DAYLIGHT
BEGIN:STANDARD
TZOFFSETFROM:-0400
TZOFFSETTO:-0500
TZNAME:EST
DTSTART:20221106T060000
END:STANDARD
BEGIN:DAYLIGHT
TZOFFSETFROM:-0500
TZOFFSETTO:-0400
TZNAME:EDT
DTSTART:20230312T070000
END:DAYLIGHT
BEGIN:STANDARD
TZOFFSETFROM:-0400
TZOFFSETTO:-0500
TZNAME:EST
DTSTART:20231105T060000
END:STANDARD
END:VTIMEZONE
BEGIN:VEVENT
DTSTART;TZID=America/New_York:20221004T193000
DTEND;TZID=America/New_York:20221004T193000
DTSTAMP:20260421T085158
CREATED:20220627T015704Z
LAST-MODIFIED:20220701T171020Z
UID:10000287-1664911800-1664911800@www.educarteinc.org
SUMMARY:Milton Nascimento at The Birchmere
DESCRIPTION:Milton Nascimento announces farewell to the stage and promises an epic tour to honor the fans. \nWith a trajectory that includes a 60-year career and eighty years of life\, Milton Nascimento decided that the time has come to say goodbye to the stage. But for this cycle to be complete\, the artist decided to pay one last tribute to the fans with an international tour that promises to be epic: “One Final Music Session.” \n“I could never end this part of my life of so many years on the road without honoring those who have been with me all this time: the fans. And this tour was designed especially for you!” explains Milton. After forty-three albums\, five GRAMMY awards and an honorary doctorate from the Berklee School of Music in Boston\, Milton is now preparing to sing his greatest hits on a tour that will pass through Brazil\, Europe and the United States. \nAccording to Milton\, “It would be impossible to say goodbye without putting songs from all stages of my career in the repertoire\,” He adds\, “We want to provide a unique and exciting experience\, from beginning to end.” Regarding the tour’s repertoire\, Milton says that classics such as “Ponta de Areia”\, “Encontros e Despedidas\,” “Travessia\,” “Cio da Terra\,” and “Nos Bailes da Vida”\, cannot be left our from the set list. “The rest is a surprise\,” he says. \nThe tour “One Final Music Session” is directed by Augusto K. Nascimento. The stage scenery is designed by the artists OSGEMEOS\, and the clothing used by Milton are by stylist Ronaldo Fraga. The musical direction is by maestro Wilson Lopes. \n“One Final Music Session is the tour that will mark my farewell from the stage. From music\, never. And I wait for you to complete this crossing with me.” – Milton Nascimento \nCREDITS:\n“Milton Nascimento | Tour ONE FINAL MUSIC SESSION \nARTISTIC DIRECTION: AUGUSTO K. NASCIMENTO\nMUSICAL DIRECTION: WILSON LOPES\nSCENERY: OSGEMEOS\nCOSTUMES: RONALDO FRAGA\nPHOTOS: MARCOS HERMES \nBAND:\nWILSON LOPES: ACOUSTIC AND ELECTRIC GUITARS\nLINCOLN CHEIB: DRUMS\nADEMIR FOX: PIANO\nWIDOR SANTIAGO: WIND INSTRUMENTS\nZÉ IBARRA: VOCAL AND GUITAR\nRONALDO SILVA: PERCUSSION\nFREDERICO HELIODORO: BASS AND VOCAL
URL:https://www.educarteinc.org/event/milton-nascimento-at-the-birchmere/
LOCATION:The Birchmere\, 3701 Mount Vernon Avenue\, Alexandria\, VA\, 22305\, United States
CATEGORIES:Concerts & Performances
ATTACH;FMTTYPE=image/jpeg:https://www.educarteinc.org/wp-content/uploads/2022/06/Milton-Nascimento-2022-fotos-marcoshermes-51.jpeg
ORGANIZER;CN="EducArte":MAILTO:educarte@educarteinc.org
END:VEVENT
END:VCALENDAR