BEGIN:VCALENDAR
VERSION:2.0
PRODID:-//EducArte - ECPv6.15.20//NONSGML v1.0//EN
CALSCALE:GREGORIAN
METHOD:PUBLISH
X-ORIGINAL-URL:https://www.educarteinc.org
X-WR-CALDESC:Events for EducArte
REFRESH-INTERVAL;VALUE=DURATION:PT1H
X-Robots-Tag:noindex
X-PUBLISHED-TTL:PT1H
BEGIN:VTIMEZONE
TZID:America/New_York
BEGIN:DAYLIGHT
TZOFFSETFROM:-0500
TZOFFSETTO:-0400
TZNAME:EDT
DTSTART:20210314T070000
END:DAYLIGHT
BEGIN:STANDARD
TZOFFSETFROM:-0400
TZOFFSETTO:-0500
TZNAME:EST
DTSTART:20211107T060000
END:STANDARD
BEGIN:DAYLIGHT
TZOFFSETFROM:-0500
TZOFFSETTO:-0400
TZNAME:EDT
DTSTART:20220313T070000
END:DAYLIGHT
BEGIN:STANDARD
TZOFFSETFROM:-0400
TZOFFSETTO:-0500
TZNAME:EST
DTSTART:20221106T060000
END:STANDARD
BEGIN:DAYLIGHT
TZOFFSETFROM:-0500
TZOFFSETTO:-0400
TZNAME:EDT
DTSTART:20230312T070000
END:DAYLIGHT
BEGIN:STANDARD
TZOFFSETFROM:-0400
TZOFFSETTO:-0500
TZNAME:EST
DTSTART:20231105T060000
END:STANDARD
END:VTIMEZONE
BEGIN:VEVENT
DTSTART;TZID=America/New_York:20221203T100000
DTEND;TZID=America/New_York:20221203T120000
DTSTAMP:20260420T204558
CREATED:20220818T160043Z
LAST-MODIFIED:20220926T141336Z
UID:10000161-1670061600-1670068800@www.educarteinc.org
SUMMARY:ABRACE weekly music lessons
DESCRIPTION:For ABRACE members only. To learn more about ABRACE\, visit abracebrasil.org. Learn more about EducArte’s music program with ABRACE here. \nEducArte’s Portuguese-language music lessons are supported by funding from:
URL:https://www.educarteinc.org/event/weekly-music-lessons-dec-3/
LOCATION:Langley High School\, 6520 Georgetown Pike\, McLean\, VA\, 22101\, United States
CATEGORIES:ABRACE,Workshops & Classes
ATTACH;FMTTYPE=image/jpeg:https://www.educarteinc.org/wp-content/uploads/2022/02/2022-02-28-photo-6.jpg
END:VEVENT
BEGIN:VEVENT
DTSTART;TZID=America/New_York:20221203T130000
DTEND;TZID=America/New_York:20221203T150000
DTSTAMP:20260420T204558
CREATED:20220924T140010Z
LAST-MODIFIED:20221010T135549Z
UID:10000176-1670072400-1670079600@www.educarteinc.org
SUMMARY:Brazilian Carnival Dance Class: Frevo & Samba
DESCRIPTION:Join us for TWO Brazilian carnival dance classes—frevo and samba! You are welcome to come to one or both. Also stay for our bateria (samba percussion ensemble) rehearsal with André Coelho at 3PM! \nFrevo with Kate: 1-2PM\nLearn the basics of Recife’s carnival dance\, frevo! Dancer and dance scholar Kate Spanos will demonstrate and teach frevo dance using the methodology of Mexe Com Tudo (Otávio Bastos) of Recife. Learn more about frevo and Mexe Com Tudo here. \nSamba with Zezeh: 2-3PM\nLearn samba from Zezeh\, Brazilian dancer\, teacher\, choreographer\, performer\, and healer from São Paulo with a mission to bring more joy to the world through art. Zezeh will demonstrate and teach the basics of samba dance. \nThis event is free and open to the public. All levels are welcome to participate. While primarily intended for adults\, everyone is welcome. Please note that this class will be held at Old Parish House of College Park at 4711 Knox Road. \nThe event is a program of College Park-based arts non-profit EducArte. Special thanks to our event sponsor\, the College Park Arts Exchange.
URL:https://www.educarteinc.org/event/brazilian-carnival-dance-class-dec-3/
LOCATION:Old Parish House of College Park\, 4711 Knox Rd\, College Park\, MD\, 20740\, United States
CATEGORIES:Brazilian Dance Class Series,Workshops & Classes
ATTACH;FMTTYPE=image/jpeg:https://www.educarteinc.org/wp-content/uploads/2022/01/IMG_7101-1.jpg
ORGANIZER;CN="EducArte":MAILTO:educarte@educarteinc.org
END:VEVENT
BEGIN:VEVENT
DTSTART;TZID=America/New_York:20221203T150000
DTEND;TZID=America/New_York:20221203T163000
DTSTAMP:20260420T204558
CREATED:20220103T192405Z
LAST-MODIFIED:20220930T154940Z
UID:10000307-1670079600-1670085000@www.educarteinc.org
SUMMARY:EducArte’s Brazilian Percussion Practice
DESCRIPTION:Learn from Brazilian samba master percussionist André Coelho from Rio de Janeiro! André will show and demonstrate each of the essential Brazilian samba percussion instruments. We will have some percussion instruments available for participants to use\, but please bring your own instruments if you have any. \nThis is a regularly occurring Brazilian percussion ensemble practice. All levels are welcome to participate; while primarily intended for adults\, all ages are welcome. \nRegistration is $80 for the full semester (September – December 2022) or $15 per drop-in. Purchase now or at the door. First-timers can participate for free! (Needs-based scholarships are also available if payment is an issue.) \n\nThe event is a program of College Park-based arts non-profit EducArte. Special thanks to our event sponsor\, the College Park Arts Exchange. \nThanks also to our instrument sponsor\, Contemporânea. EducArte exclusively uses Contemporânea instruments at our Brazilian percussion events.
URL:https://www.educarteinc.org/event/educartes-brazilian-percussion-practice-dec-3/
LOCATION:Old Parish House of College Park\, 4711 Knox Rd\, College Park\, MD\, 20740\, United States
CATEGORIES:Brazilian Percussion Class Series
ATTACH;FMTTYPE=image/jpeg:https://www.educarteinc.org/wp-content/uploads/2022/08/2022-08-13-Percussion-workshop.jpg
END:VEVENT
END:VCALENDAR