BEGIN:VCALENDAR
VERSION:2.0
PRODID:-//EducArte - ECPv6.15.20//NONSGML v1.0//EN
CALSCALE:GREGORIAN
METHOD:PUBLISH
X-ORIGINAL-URL:https://www.educarteinc.org
X-WR-CALDESC:Events for EducArte
REFRESH-INTERVAL;VALUE=DURATION:PT1H
X-Robots-Tag:noindex
X-PUBLISHED-TTL:PT1H
BEGIN:VTIMEZONE
TZID:America/New_York
BEGIN:DAYLIGHT
TZOFFSETFROM:-0500
TZOFFSETTO:-0400
TZNAME:EDT
DTSTART:20210314T070000
END:DAYLIGHT
BEGIN:STANDARD
TZOFFSETFROM:-0400
TZOFFSETTO:-0500
TZNAME:EST
DTSTART:20211107T060000
END:STANDARD
BEGIN:DAYLIGHT
TZOFFSETFROM:-0500
TZOFFSETTO:-0400
TZNAME:EDT
DTSTART:20220313T070000
END:DAYLIGHT
BEGIN:STANDARD
TZOFFSETFROM:-0400
TZOFFSETTO:-0500
TZNAME:EST
DTSTART:20221106T060000
END:STANDARD
BEGIN:DAYLIGHT
TZOFFSETFROM:-0500
TZOFFSETTO:-0400
TZNAME:EDT
DTSTART:20230312T070000
END:DAYLIGHT
BEGIN:STANDARD
TZOFFSETFROM:-0400
TZOFFSETTO:-0500
TZNAME:EST
DTSTART:20231105T060000
END:STANDARD
END:VTIMEZONE
BEGIN:VEVENT
DTSTART;TZID=America/New_York:20221204T150000
DTEND;TZID=America/New_York:20221204T170000
DTSTAMP:20260420T204623
CREATED:20221016T144423Z
LAST-MODIFIED:20221103T124148Z
UID:10000269-1670166000-1670173200@www.educarteinc.org
SUMMARY:Irish Céilí Dance at Glen Echo Park
DESCRIPTION:Join us for an Irish social gathering filled with traditional music and dance! We will learn some basic Irish dance steps and beginner friendly group dances\, accompanied by live music by some of the region’s best Irish musicians. \nThe caller will be dancer Kate Spanos and the band will include Marty Frye (flute)\, David McKindley-Ward (tenor banjo/guitar)\, Matt Mulqueen (piano)\, and Peter Brice (button accordion). \nThe event will be held in the Ballroom Back Room at Glen Echo Park. Wear comfortable shoes and bring water. Note: Proof of Covid-19 vaccination is not required; face masks are encouraged but not required. \nThere will be a 50% discount for kids under the age of 7 available at the door. \nThe event is a program of College Park-based arts non-profit EducArte. Special thanks to our event partner\, Glen Echo Park Partnership for Arts and Culture.
URL:https://www.educarteinc.org/event/irish-ceili-dance-at-glen-echo-park/
LOCATION:Ballroom Back Room at Glen Echo Park\, 7300 MacArthur Blvd\, Glen Echo\, 20812\, United States
CATEGORIES:Céilí Series,Community Events
ATTACH;FMTTYPE=image/jpeg:https://www.educarteinc.org/wp-content/uploads/2022/10/2022-09-22-Ceili-at-Glen-Echo-1.jpg
ORGANIZER;CN="EducArte":MAILTO:educarte@educarteinc.org
END:VEVENT
END:VCALENDAR