BEGIN:VCALENDAR
VERSION:2.0
PRODID:-//EducArte - ECPv6.15.20//NONSGML v1.0//EN
CALSCALE:GREGORIAN
METHOD:PUBLISH
X-WR-CALNAME:EducArte
X-ORIGINAL-URL:https://www.educarteinc.org
X-WR-CALDESC:Events for EducArte
REFRESH-INTERVAL;VALUE=DURATION:PT1H
X-Robots-Tag:noindex
X-PUBLISHED-TTL:PT1H
BEGIN:VTIMEZONE
TZID:America/New_York
BEGIN:DAYLIGHT
TZOFFSETFROM:-0500
TZOFFSETTO:-0400
TZNAME:EDT
DTSTART:20210314T070000
END:DAYLIGHT
BEGIN:STANDARD
TZOFFSETFROM:-0400
TZOFFSETTO:-0500
TZNAME:EST
DTSTART:20211107T060000
END:STANDARD
BEGIN:DAYLIGHT
TZOFFSETFROM:-0500
TZOFFSETTO:-0400
TZNAME:EDT
DTSTART:20220313T070000
END:DAYLIGHT
BEGIN:STANDARD
TZOFFSETFROM:-0400
TZOFFSETTO:-0500
TZNAME:EST
DTSTART:20221106T060000
END:STANDARD
BEGIN:DAYLIGHT
TZOFFSETFROM:-0500
TZOFFSETTO:-0400
TZNAME:EDT
DTSTART:20230312T070000
END:DAYLIGHT
BEGIN:STANDARD
TZOFFSETFROM:-0400
TZOFFSETTO:-0500
TZNAME:EST
DTSTART:20231105T060000
END:STANDARD
END:VTIMEZONE
BEGIN:VEVENT
DTSTART;TZID=America/New_York:20221208T140000
DTEND;TZID=America/New_York:20221208T160000
DTSTAMP:20260420T204527
CREATED:20221128T013047Z
LAST-MODIFIED:20221201T174520Z
UID:10000252-1670508000-1670515200@www.educarteinc.org
SUMMARY:Guitar and violin concert (private event)
DESCRIPTION:Private event. Want to hire us to perform or teach a workshop? Contact us.
URL:https://www.educarteinc.org/event/classical-music-performance-private-event-2/
END:VEVENT
BEGIN:VEVENT
DTSTART;TZID=America/New_York:20221208T220000
DTEND;TZID=America/New_York:20221208T233000
DTSTAMP:20260420T204527
CREATED:20220823T173035Z
LAST-MODIFIED:20221207T145620Z
UID:10000128-1670536800-1670542200@www.educarteinc.org
SUMMARY:12/8 Pablo's Baile - Bossa Bistro—CANCELLED
DESCRIPTION:***Note: This event has been cancelled due to illness. See you in the new year!***\nThe last Pablo’s Baile of 2022! Pablo’s Baile happens every month at Bossa Bistro! An electrifying mix of percussion\, passion\, and Brazilian Portuguese\, Pablo’s Baile showcases the best of live Brazilian dance music\, including samba and forró.\n  \nPablo’s Baile was featured in Washington City Paper in December 2021! Check it out: City Lights—Pablo’s Baile Brings Brazil to Adams Morgan\n  \n$10 at the door
URL:https://www.educarteinc.org/event/pablos-baile-december-2022/
LOCATION:Bossa Bistro\, 2463 18th Street NW\, Washington\, DC\, 20009\, United States
CATEGORIES:Concerts & Performances,Pablo Regis
ATTACH;FMTTYPE=image/jpeg:https://www.educarteinc.org/wp-content/uploads/2021/12/Pablo-Regis-de-Oliveira-cavaco-2-web-Photo-by-Violetta-Markelou.jpg
END:VEVENT
END:VCALENDAR