BEGIN:VCALENDAR
VERSION:2.0
PRODID:-//EducArte - ECPv6.15.20//NONSGML v1.0//EN
CALSCALE:GREGORIAN
METHOD:PUBLISH
X-ORIGINAL-URL:https://www.educarteinc.org
X-WR-CALDESC:Events for EducArte
REFRESH-INTERVAL;VALUE=DURATION:PT1H
X-Robots-Tag:noindex
X-PUBLISHED-TTL:PT1H
BEGIN:VTIMEZONE
TZID:America/New_York
BEGIN:DAYLIGHT
TZOFFSETFROM:-0500
TZOFFSETTO:-0400
TZNAME:EDT
DTSTART:20220313T070000
END:DAYLIGHT
BEGIN:STANDARD
TZOFFSETFROM:-0400
TZOFFSETTO:-0500
TZNAME:EST
DTSTART:20221106T060000
END:STANDARD
BEGIN:DAYLIGHT
TZOFFSETFROM:-0500
TZOFFSETTO:-0400
TZNAME:EDT
DTSTART:20230312T070000
END:DAYLIGHT
BEGIN:STANDARD
TZOFFSETFROM:-0400
TZOFFSETTO:-0500
TZNAME:EST
DTSTART:20231105T060000
END:STANDARD
BEGIN:DAYLIGHT
TZOFFSETFROM:-0500
TZOFFSETTO:-0400
TZNAME:EDT
DTSTART:20240310T070000
END:DAYLIGHT
BEGIN:STANDARD
TZOFFSETFROM:-0400
TZOFFSETTO:-0500
TZNAME:EST
DTSTART:20241103T060000
END:STANDARD
END:VTIMEZONE
BEGIN:VEVENT
DTSTART;TZID=America/New_York:20230225T100000
DTEND;TZID=America/New_York:20230225T120000
DTSTAMP:20260420T163609
CREATED:20230117T173611Z
LAST-MODIFIED:20230117T173611Z
UID:10000267-1677319200-1677326400@www.educarteinc.org
SUMMARY:Weekly music lessons at ABRACE
DESCRIPTION:For ABRACE members only. To learn more about ABRACE\, visit abracebrasil.org. Learn more about EducArte’s music program with ABRACE here. \nEducArte’s youth Portuguese-language music lessons have been supported by funding from:
URL:https://www.educarteinc.org/event/weekly-music-lessons-at-abrace-feb-25-23/
LOCATION:Langley High School\, 6520 Georgetown Pike\, McLean\, VA\, 22101\, United States
CATEGORIES:ABRACE,Workshops & Classes
ATTACH;FMTTYPE=image/jpeg:https://www.educarteinc.org/wp-content/uploads/2022/02/2022-02-28-photo-6.jpg
END:VEVENT
BEGIN:VEVENT
DTSTART;TZID=America/New_York:20230225T130000
DTEND;TZID=America/New_York:20230225T153000
DTSTAMP:20260420T163609
CREATED:20230209T193347Z
LAST-MODIFIED:20230215T134440Z
UID:10000288-1677330000-1677339000@www.educarteinc.org
SUMMARY:Viva Brasil! Pre-concert percussion and dance workshops
DESCRIPTION:Creative Alliance’s annual mid-winter Carnival celebration is back\, featuring concerts\, dancers\, dance lessons\, and more! Carnival dates back to the 1600s and is a celebration of Brazilian life and culture. \nThe concert starts at 8PM and there will also be Brazilian percussion and dance workshops earlier in the afternoon\, presented by EducArte. André Coelho will teach percussion at 1-2:30PM and Ilheuma Zezeh will teach samba dance at 2:30-3:30PM. \nRegister for percussion with André at 1PM: https://creativealliance.org/event/brazilian-bateria-class/\nRegister for samba dance with Zezeh at 2:30PM: https://creativealliance.org/event/samba-with-ilheuma-zezeh/
URL:https://www.educarteinc.org/event/viva-brasil-pre-concert-percussion-and-dance-workshops/
LOCATION:Creative Alliance\, The Patterson Building\, 3134 Eastern Avenue\,\, Baltimore\, MD\, 21224\, United States
CATEGORIES:Brazilian Dance Class Series,Brazilian Percussion Class Series,Workshops & Classes
ATTACH;FMTTYPE=image/jpeg:https://www.educarteinc.org/wp-content/uploads/2021/10/Zezeh-Erika-Wilcox-Photography.jpg
END:VEVENT
BEGIN:VEVENT
DTSTART;TZID=America/New_York:20230225T200000
DTEND;TZID=America/New_York:20230225T230000
DTSTAMP:20260420T163609
CREATED:20221220T211807Z
LAST-MODIFIED:20230212T215032Z
UID:10000214-1677355200-1677366000@www.educarteinc.org
SUMMARY:Viva Brasil! Carnival Dance Party at Creative Alliance
DESCRIPTION:Creative Alliance’s annual mid-winter Carnival celebration is back\, featuring concerts\, dancers\, dance lessons\, and more! Carnival dates back to the 1600s and is a celebration of Brazilian life and culture. \nThe concert starts at 8PM and there will also be Brazilian percussion and dance workshops earlier in the afternoon. André Coelho will teach percussion at 1PM and Ilheuma Zezeh will teach samba dance at 2PM. \nFeatured Artists: \n\nJP Silva (presented by EducArte)\nSamba Trovão\nRose Moraes\n\nJP Silva & Band\nJoin us for this special performance by JP Silva\, coming to us directly from Carnival in Rio de Janeiro. JP will perform classic samba and carnival songs with band members Pablo Regis\, André Coelho\, Lucas Ashby\, Filipe Brandão\, and more.\n \nBorn in Rio de Janeiro\, JP Silva is a singer\, composer\, and instrumentalist who professionally entered the world of music through choro at the Escola Portátil de Música da Universidade Federal do Estado do Rio de Janeiro (UNIRIO). He has played with renowned musicians Diogo Nogeira\, Elza Soares\, Toninho Gerais\, Barbeirinho\, Marquinhos de Oswaldo Cruz\, Délcio Carvalho\, Maurício Carrilho\, Elton Medeiros\, Paulão 7 Cordas\, Ademilde Fonseca\, Velha Guarda Império Serrano\, Velha Guarda Mangueira\, Velha Guarda Portela\, Mario Broder\, Neguinho da Beija-Flor\, B Negão\, Wilson Moreira\, Wilson das Neves\, Dudu Nobre\, Fernanda Abreu\, Jorge Aragão\, and Luiz Melodia. \nJP has played the DC/Baltimore area various times in the past\, representing the genres of samba\, choro\, and MPB. He previously performed at Creative Alliance’s Viva Brasil! party in 2019 and 2020.
URL:https://www.educarteinc.org/event/viva-brasil-carnival-dance-party-at-creative-alliance/
LOCATION:Creative Alliance\, The Patterson Building\, 3134 Eastern Avenue\,\, Baltimore\, MD\, 21224\, United States
CATEGORIES:Community Events,Concerts & Performances,Pablo Regis,Workshops & Classes
ATTACH;FMTTYPE=image/jpeg:https://www.educarteinc.org/wp-content/uploads/2022/12/VivaBrasil2023-scaled.jpg
END:VEVENT
END:VCALENDAR