BEGIN:VCALENDAR
VERSION:2.0
PRODID:-//EducArte - ECPv6.15.20//NONSGML v1.0//EN
CALSCALE:GREGORIAN
METHOD:PUBLISH
X-ORIGINAL-URL:https://www.educarteinc.org
X-WR-CALDESC:Events for EducArte
REFRESH-INTERVAL;VALUE=DURATION:PT1H
X-Robots-Tag:noindex
X-PUBLISHED-TTL:PT1H
BEGIN:VTIMEZONE
TZID:America/New_York
BEGIN:DAYLIGHT
TZOFFSETFROM:-0500
TZOFFSETTO:-0400
TZNAME:EDT
DTSTART:20220313T070000
END:DAYLIGHT
BEGIN:STANDARD
TZOFFSETFROM:-0400
TZOFFSETTO:-0500
TZNAME:EST
DTSTART:20221106T060000
END:STANDARD
BEGIN:DAYLIGHT
TZOFFSETFROM:-0500
TZOFFSETTO:-0400
TZNAME:EDT
DTSTART:20230312T070000
END:DAYLIGHT
BEGIN:STANDARD
TZOFFSETFROM:-0400
TZOFFSETTO:-0500
TZNAME:EST
DTSTART:20231105T060000
END:STANDARD
BEGIN:DAYLIGHT
TZOFFSETFROM:-0500
TZOFFSETTO:-0400
TZNAME:EDT
DTSTART:20240310T070000
END:DAYLIGHT
BEGIN:STANDARD
TZOFFSETFROM:-0400
TZOFFSETTO:-0500
TZNAME:EST
DTSTART:20241103T060000
END:STANDARD
END:VTIMEZONE
BEGIN:VEVENT
DTSTART;TZID=America/New_York:20230303T193000
DTEND;TZID=America/New_York:20230303T203000
DTSTAMP:20260420T163943
CREATED:20230110T154604Z
LAST-MODIFIED:20230110T154629Z
UID:10000051-1677871800-1677875400@www.educarteinc.org
SUMMARY:Festival style Irish dance workshop with Kate Spanos
DESCRIPTION:Join Kate for a special community event to learn Festival style Irish step dance at District Irish Dance Academy (DIDA)!  \nIn this workshop\, we will work on some of the movements and techniques that are typical of this style’s “slow” slip jig and learn a short piece of choreography. Festival style Irish dance is from the Belfast area of Northern Ireland and was developed by Patricia Mulholland (or “Miss Mulholland”) in the 1950s to draw the focus of Irish dance away from the “pageantry” of feis style and more towards individual expression. The costumes are simpler and dancers do not wear wigs. Festival slip jigs and set dances are much slower than their feis style counterparts\, and dancers pay particular attention to expressing “light and shade” in the music. Grace\, elegance\, and control are key features of Festival style\, and one of its distinctive motifs is the “burl” or turn/spin.  \nDIDA Tappy Hour is designed with community in mind. This event is open to everyone\, including dancers from any Irish dance school or style. Footwear: Soft shoes\, socks\, or light/non-stick sneakers. \nHere is a video of Kate performing a festival slip jig at the Maryland Irish Festival in November 2022:
URL:https://www.educarteinc.org/event/festival-style-irish-dance-workshop-by-kate-spanos-2/
LOCATION:District Irish Dance Academy\, 4435 Wisconsin Avenue NW\, Suite LL10\, Washington\, DC\, 20016\, United States
CATEGORIES:Community Events,Workshops & Classes
ATTACH;FMTTYPE=image/jpeg:https://www.educarteinc.org/wp-content/uploads/2023/01/Kate-Spanos-Festival-style-at-DIDA-2022-1.jpeg
END:VEVENT
END:VCALENDAR