BEGIN:VCALENDAR
VERSION:2.0
PRODID:-//EducArte - ECPv6.15.20//NONSGML v1.0//EN
CALSCALE:GREGORIAN
METHOD:PUBLISH
X-ORIGINAL-URL:https://www.educarteinc.org
X-WR-CALDESC:Events for EducArte
REFRESH-INTERVAL;VALUE=DURATION:PT1H
X-Robots-Tag:noindex
X-PUBLISHED-TTL:PT1H
BEGIN:VTIMEZONE
TZID:America/New_York
BEGIN:DAYLIGHT
TZOFFSETFROM:-0500
TZOFFSETTO:-0400
TZNAME:EDT
DTSTART:20220313T070000
END:DAYLIGHT
BEGIN:STANDARD
TZOFFSETFROM:-0400
TZOFFSETTO:-0500
TZNAME:EST
DTSTART:20221106T060000
END:STANDARD
BEGIN:DAYLIGHT
TZOFFSETFROM:-0500
TZOFFSETTO:-0400
TZNAME:EDT
DTSTART:20230312T070000
END:DAYLIGHT
BEGIN:STANDARD
TZOFFSETFROM:-0400
TZOFFSETTO:-0500
TZNAME:EST
DTSTART:20231105T060000
END:STANDARD
BEGIN:DAYLIGHT
TZOFFSETFROM:-0500
TZOFFSETTO:-0400
TZNAME:EDT
DTSTART:20240310T070000
END:DAYLIGHT
BEGIN:STANDARD
TZOFFSETFROM:-0400
TZOFFSETTO:-0500
TZNAME:EST
DTSTART:20241103T060000
END:STANDARD
END:VTIMEZONE
BEGIN:VEVENT
DTSTART;TZID=America/New_York:20230304T100000
DTEND;TZID=America/New_York:20230304T120000
DTSTAMP:20260422T074244
CREATED:20230117T173707Z
LAST-MODIFIED:20230117T173707Z
UID:10000266-1677924000-1677931200@www.educarteinc.org
SUMMARY:Weekly music lessons at ABRACE
DESCRIPTION:For ABRACE members only. To learn more about ABRACE\, visit abracebrasil.org. Learn more about EducArte’s music program with ABRACE here. \nEducArte’s youth Portuguese-language music lessons have been supported by funding from:
URL:https://www.educarteinc.org/event/weekly-music-lessons-at-abrace-mar-4-23/
LOCATION:Langley High School\, 6520 Georgetown Pike\, McLean\, VA\, 22101\, United States
CATEGORIES:ABRACE,Workshops & Classes
ATTACH;FMTTYPE=image/jpeg:https://www.educarteinc.org/wp-content/uploads/2022/02/2022-02-28-photo-6.jpg
END:VEVENT
BEGIN:VEVENT
DTSTART;TZID=America/New_York:20230304T130000
DTEND;TZID=America/New_York:20230304T150000
DTSTAMP:20260422T074244
CREATED:20221219T184454Z
LAST-MODIFIED:20230221T190358Z
UID:10000163-1677934800-1677942000@www.educarteinc.org
SUMMARY:Brazilian Carnival Dance Class: Frevo & Samba
DESCRIPTION:Join us for TWO Brazilian carnival dance classes—frevo and samba! You are welcome to come to one or both. Also stay for our bateria (samba percussion ensemble) rehearsal with André Coelho at 3PM! \nFrevo with Kate: 1-2PM\nLearn the basics of Recife’s carnival dance\, frevo! Dancer and dance scholar Kate Spanos will demonstrate and teach frevo dance using the methodology of Mexe Com Tudo (Otávio Bastos) of Recife. Learn more about frevo and Mexe Com Tudo here. \nSamba with Zezeh: 2-3PM\nLearn samba from Zezeh\, Brazilian dancer\, teacher\, choreographer\, performer\, and healer from São Paulo with a mission to bring more joy to the world through art. Zezeh will demonstrate and teach the basics of samba dance. \nThis event is open to the public. All levels are welcome to participate. While primarily intended for adults\, everyone is welcome. Please note that this class will be held at Old Parish House of College Park at 4711 Knox Road. \nRegistration for the full semester of lessons (11 total) is $90. Scholarships are available to those for whom cost is prohibitive (contact us for more information). \n$15 drop-ins are also available.
URL:https://www.educarteinc.org/event/brazilian-carnival-dance-class-mar4/
LOCATION:Old Parish House of College Park\, 4711 Knox Rd\, College Park\, MD\, 20740\, United States
CATEGORIES:Brazilian Dance Class Series,Workshops & Classes
ATTACH;FMTTYPE=image/jpeg:https://www.educarteinc.org/wp-content/uploads/2022/06/2022-08-27-Frevo-dance-class-scaled.jpg
ORGANIZER;CN="EducArte":MAILTO:educarte@educarteinc.org
END:VEVENT
BEGIN:VEVENT
DTSTART;TZID=America/New_York:20230304T150000
DTEND;TZID=America/New_York:20230304T163000
DTSTAMP:20260422T074245
CREATED:20221219T192320Z
LAST-MODIFIED:20221224T004703Z
UID:10000166-1677942000-1677947400@www.educarteinc.org
SUMMARY:Brazilian Bateria Class
DESCRIPTION:Learn from Brazilian samba master percussionist André Coelho from Rio de Janeiro! André will demonstrate and teach each of the essential Brazilian samba percussion instruments. We will have some percussion instruments available for participants to use\, but please bring your own instruments if you have any. \nThis is a regularly occurring Brazilian percussion ensemble practice. All levels are welcome to participate; while primarily intended for adults\, all ages are welcome. \nRegistration for the full semester of lessons (11 total) is $90. Scholarships are available to those for whom cost is prohibitive (contact us for more information). \n$15 drop-ins are also available. \n\nThe event is a program of College Park-based arts non-profit EducArte. Special thanks to our event sponsor\, the College Park Arts Exchange. \nThanks also to our instrument sponsor\, Contemporânea. EducArte exclusively uses Contemporânea instruments at our Brazilian percussion events.
URL:https://www.educarteinc.org/event/brazilian-bateria-class-mar4/
LOCATION:Old Parish House of College Park\, 4711 Knox Rd\, College Park\, MD\, 20740\, United States
CATEGORIES:Brazilian Percussion Class Series
ATTACH;FMTTYPE=image/jpeg:https://www.educarteinc.org/wp-content/uploads/2022/12/2022-12-04-bateria.jpg
END:VEVENT
BEGIN:VEVENT
DTSTART;TZID=America/New_York:20230304T150000
DTEND;TZID=America/New_York:20230304T163000
DTSTAMP:20260422T074245
CREATED:20221219T192536Z
LAST-MODIFIED:20221219T192536Z
UID:10000167-1677942000-1677947400@www.educarteinc.org
SUMMARY:Brazilian Bateria Class
DESCRIPTION:Learn from Brazilian samba master percussionist André Coelho from Rio de Janeiro! André will show and demonstrate each of the essential Brazilian samba percussion instruments. We will have some percussion instruments available for participants to use\, but please bring your own instruments if you have any. \nThis is a regularly occurring Brazilian percussion ensemble practice. All levels are welcome to participate; while primarily intended for adults\, all ages are welcome. \n  \n\nThe event is a program of College Park-based arts non-profit EducArte. Special thanks to our event sponsor\, the College Park Arts Exchange. \nThanks also to our instrument sponsor\, Contemporânea. EducArte exclusively uses Contemporânea instruments at our Brazilian percussion events.
URL:https://www.educarteinc.org/event/brazilian-bateria-class-mar18/
LOCATION:St. Andrew’s Episcopal Church\, 4512 College Avenue\, College Park\, Maryland\, 20740
CATEGORIES:Brazilian Percussion Class Series
ATTACH;FMTTYPE=image/jpeg:https://www.educarteinc.org/wp-content/uploads/2022/01/IMG_9064-scaled.jpg
END:VEVENT
END:VCALENDAR