BEGIN:VCALENDAR
VERSION:2.0
PRODID:-//EducArte - ECPv6.15.20//NONSGML v1.0//EN
CALSCALE:GREGORIAN
METHOD:PUBLISH
X-WR-CALNAME:EducArte
X-ORIGINAL-URL:https://www.educarteinc.org
X-WR-CALDESC:Events for EducArte
REFRESH-INTERVAL;VALUE=DURATION:PT1H
X-Robots-Tag:noindex
X-PUBLISHED-TTL:PT1H
BEGIN:VTIMEZONE
TZID:America/New_York
BEGIN:DAYLIGHT
TZOFFSETFROM:-0500
TZOFFSETTO:-0400
TZNAME:EDT
DTSTART:20220313T070000
END:DAYLIGHT
BEGIN:STANDARD
TZOFFSETFROM:-0400
TZOFFSETTO:-0500
TZNAME:EST
DTSTART:20221106T060000
END:STANDARD
BEGIN:DAYLIGHT
TZOFFSETFROM:-0500
TZOFFSETTO:-0400
TZNAME:EDT
DTSTART:20230312T070000
END:DAYLIGHT
BEGIN:STANDARD
TZOFFSETFROM:-0400
TZOFFSETTO:-0500
TZNAME:EST
DTSTART:20231105T060000
END:STANDARD
BEGIN:DAYLIGHT
TZOFFSETFROM:-0500
TZOFFSETTO:-0400
TZNAME:EDT
DTSTART:20240310T070000
END:DAYLIGHT
BEGIN:STANDARD
TZOFFSETFROM:-0400
TZOFFSETTO:-0500
TZNAME:EST
DTSTART:20241103T060000
END:STANDARD
END:VTIMEZONE
BEGIN:VEVENT
DTSTART;TZID=America/New_York:20230415T100000
DTEND;TZID=America/New_York:20230415T120000
DTSTAMP:20260420T104458
CREATED:20230117T173845Z
LAST-MODIFIED:20230117T173913Z
UID:10000284-1681552800-1681560000@www.educarteinc.org
SUMMARY:Weekly music lessons at ABRACE
DESCRIPTION:For ABRACE members only. To learn more about ABRACE\, visit abracebrasil.org. Learn more about EducArte’s music program with ABRACE here. \nEducArte’s youth Portuguese-language music lessons have been supported by funding from:
URL:https://www.educarteinc.org/event/weekly-music-lessons-at-abrace-apr-15-23/
LOCATION:Langley High School\, 6520 Georgetown Pike\, McLean\, VA\, 22101\, United States
CATEGORIES:ABRACE,Workshops & Classes
ATTACH;FMTTYPE=image/jpeg:https://www.educarteinc.org/wp-content/uploads/2022/02/2022-02-28-photo-6.jpg
END:VEVENT
BEGIN:VEVENT
DTSTART;TZID=America/New_York:20230415T190000
DTEND;TZID=America/New_York:20230415T200000
DTSTAMP:20260420T104458
CREATED:20230410T154447Z
LAST-MODIFIED:20230411T123941Z
UID:10000243-1681585200-1681588800@www.educarteinc.org
SUMMARY:LAMC: A Contemporary Brazilian Choro Lecture-Recital
DESCRIPTION:CUA musicologist and Ph.D. candidate Tom Rohde will be discussing and performing selections of Brazilian choro from the 1950s to the present with a group of talented Brazilian music specialists. The program will focus on the history\, revival\, and maintenance of Brazilian musical traditions in the midst of contemporary musical innovations by some of Brazil’s most renowned musicians and composers. \nFeatured Musicians:\nAndrew Connell\, clarinet\nPablo Regis de Oliveira\, cavaquinho\nLucas Ashby\, percussion \nThis event is being produced with support from LAMC institutional partners from the CUA Office of Global Studies\, the Institute for Latin American and Iberian Studies (ILAIS)\, and the Oliveira Lima Library. \nLocation: Ward Recital Hall
URL:https://www.educarteinc.org/event/lamc-a-contemporary-brazilian-choro-lecture-recital/
LOCATION:CUA Rome School of Music\, Drama\, and Art\, 348 University Dr NE\, Washington\, DC\, 20064\, United States
CATEGORIES:Choro Lecture Series,Concerts & Performances,Presentations
ATTACH;FMTTYPE=image/png:https://www.educarteinc.org/wp-content/uploads/2023/04/CUA-choro-lecture-e1681225644868.png
END:VEVENT
END:VCALENDAR