BEGIN:VCALENDAR
VERSION:2.0
PRODID:-//EducArte - ECPv6.15.20//NONSGML v1.0//EN
CALSCALE:GREGORIAN
METHOD:PUBLISH
X-WR-CALNAME:EducArte
X-ORIGINAL-URL:https://www.educarteinc.org
X-WR-CALDESC:Events for EducArte
REFRESH-INTERVAL;VALUE=DURATION:PT1H
X-Robots-Tag:noindex
X-PUBLISHED-TTL:PT1H
BEGIN:VTIMEZONE
TZID:America/New_York
BEGIN:DAYLIGHT
TZOFFSETFROM:-0500
TZOFFSETTO:-0400
TZNAME:EDT
DTSTART:20220313T070000
END:DAYLIGHT
BEGIN:STANDARD
TZOFFSETFROM:-0400
TZOFFSETTO:-0500
TZNAME:EST
DTSTART:20221106T060000
END:STANDARD
BEGIN:DAYLIGHT
TZOFFSETFROM:-0500
TZOFFSETTO:-0400
TZNAME:EDT
DTSTART:20230312T070000
END:DAYLIGHT
BEGIN:STANDARD
TZOFFSETFROM:-0400
TZOFFSETTO:-0500
TZNAME:EST
DTSTART:20231105T060000
END:STANDARD
BEGIN:DAYLIGHT
TZOFFSETFROM:-0500
TZOFFSETTO:-0400
TZNAME:EDT
DTSTART:20240310T070000
END:DAYLIGHT
BEGIN:STANDARD
TZOFFSETFROM:-0400
TZOFFSETTO:-0500
TZNAME:EST
DTSTART:20241103T060000
END:STANDARD
END:VTIMEZONE
BEGIN:VEVENT
DTSTART;TZID=America/New_York:20230624T143000
DTEND;TZID=America/New_York:20230624T160000
DTSTAMP:20260420T061922
CREATED:20221219T193552Z
LAST-MODIFIED:20230607T133342Z
UID:10000215-1687617000-1687622400@www.educarteinc.org
SUMMARY:Brazilian Bateria Class
DESCRIPTION:Learn from Brazilian samba master percussionist André Coelho from Rio de Janeiro! André will demonstrate and teach each of the essential Brazilian samba percussion instruments. We will have some percussion instruments available for participants to use\, but please bring your own instruments if you have any. This is a regularly occurring Brazilian percussion ensemble practice. All levels are welcome to participate; while primarily intended for adults\, all ages are welcome. Scholarships are available to those for whom cost is prohibitive (contact us for more information). Thanks also to our instrument sponsor\, Contemporânea. EducArte exclusively uses Contemporânea instruments at our Brazilian percussion events. Note: This class is at The Creativity Center (Creative Alliance). Cost: $15 (free for EducArte members)
URL:https://www.educarteinc.org/event/brazilian-bateria-class-june24/
LOCATION:The Creativity Center\, 3139 Eastern Avenue\, Baltimore\, MD\, 21224\, United States
CATEGORIES:Brazilian Percussion Class Series,Workshops & Classes
ATTACH;FMTTYPE=image/jpeg:https://www.educarteinc.org/wp-content/uploads/2022/12/2023-02-25-Viva-Brasil-workshops-10-scaled.jpg
END:VEVENT
BEGIN:VEVENT
DTSTART;TZID=America/New_York:20230624T160000
DTEND;TZID=America/New_York:20230624T180000
DTSTAMP:20260420T061922
CREATED:20221219T191142Z
LAST-MODIFIED:20230607T133423Z
UID:10000148-1687622400-1687629600@www.educarteinc.org
SUMMARY:Brazilian Carnival Dance Class: Frevo & Samba
DESCRIPTION:Join us for TWO Brazilian carnival dance classes—frevo and samba! You are welcome to come to one or both. \nFrevo with Kate: 4-5PM\nLearn the basics of Recife’s carnival dance\, frevo! Dancer and dance scholar Kate Spanos will demonstrate and teach frevo dance using the methodology of Mexe Com Tudo (Otávio Bastos) of Recife. Learn more about frevo and Mexe Com Tudo here. \nSamba with Ilheuma Zezeh: 5-6PM\nLearn samba from Ilheuma Zezeh\, Brazilian dancer\, teacher\, choreographer\, performer\, and healer from São Paulo with a mission to bring more joy to the world through art. Ilheuma will demonstrate and teach the basics of samba dance. This event is open to the public. All levels are welcome to participate. While primarily intended for adults\, everyone is welcome. Scholarships are available to those for whom cost is prohibitive (contact us for more information). Note: This class is at The Creativity Center (Creative Alliance). Cost: $15 (free for EducArte members)
URL:https://www.educarteinc.org/event/brazilian-carnival-dance-class-june24/
LOCATION:The Creativity Center\, 3139 Eastern Avenue\, Baltimore\, MD\, 21224\, United States
CATEGORIES:Brazilian Dance Class Series,Workshops & Classes
ATTACH;FMTTYPE=image/jpeg:https://www.educarteinc.org/wp-content/uploads/2022/12/2023-02-25-Viva-Brasil-workshops-27-1.jpg
ORGANIZER;CN="EducArte":MAILTO:educarte@educarteinc.org
END:VEVENT
BEGIN:VEVENT
DTSTART;TZID=America/New_York:20230624T200000
DTEND;TZID=America/New_York:20230624T213000
DTSTAMP:20260420T061922
CREATED:20230522T203813Z
LAST-MODIFIED:20230603T024325Z
UID:10000308-1687636800-1687642200@www.educarteinc.org
SUMMARY:Iuri Bittar & Almir Côrtes
DESCRIPTION:Iuri Bittar (guitar) and Almir Côrtes (bandolim/mandolin) are recognized for their masterful performance\, often invited for concerts and workshops within and beyond Brazil. Duo Choro Brazil’s repertoire brings the best of Brazilian instrumental music through choros\, sambas\, and bossa nova\, many composed by Brazil’s foremost composers: including Pixinguinha\, Jacob do Bandolim\, Baden Powell\, and Tom Jobim. Duo Choro Brazil enchants audiences with talent\, swing\, and virtuous improvisation! \nIuri Bittar \nIuri Bittar is a guitarist\, composer\, music producer\, and teacher. Originally from the city of Franca in São Paulo’s interior\, he has dedicated himself to playing the guitar for 20 years\, specializing in the Brazilian genres of choro and samba. He moved to Rio de Janeiro in 2008\, where\, for more than 10 years\, he has been on the faculty of the Escola Portátil de Música and the Instituto Casa do Choro\, two internationally renowned centers for teaching and researching choro music. As an academic researcher\, his pioneering Master’s thesis about guitarist Jayme Florence (also known as “O Meira”) has made him an important reference in the historical and musicological study of Brazilian guitar. In his 20 years as a guitarist\, Iuri has participated in various choro and samba groups\, sharing the stage with some of the biggest names in Brazilian music. \nAlmir Côrtes \nA native of Bahia\, Brazil\, versatile multi-instrumentalist Almir Côrtes is equally at home on mandolin\, acoustic and electric guitars\, Viola Caipira (Brazilian ten-string guitar) and the rarely-seen Bahian guitar. His repertoire of styles is equally broad and includes choro\, frevo\, samba\, baião\, bossa nova\, and Brazilian jazz. Equally in demand as a teacher and scholar\, Almir is currently a professor at the University of Rio de Janeiro’s Villa-Lobos Institute – where he conducts the Orchestra of Plucked Strings and the web series Villa de Sons. \nAs a leader of his own groups\, which feature many of his original compositions\, he seeks to expand the boundaries of traditional Brazilian musical styles through experimentation and improvisation. He has performed throughout Brazil as well as the United States\, Europe and Cuba.
URL:https://www.educarteinc.org/event/iuri-bittar-almir-cortes/
LOCATION:Creative Alliance\, The Patterson Building\, 3134 Eastern Avenue\,\, Baltimore\, MD\, 21224\, United States
CATEGORIES:Concerts & Performances
ATTACH;FMTTYPE=image/png:https://www.educarteinc.org/wp-content/uploads/2023/05/Iuri-Bittar-Almir-Cortes-1080x1080-1600-×-1000-px.png
END:VEVENT
END:VCALENDAR