BEGIN:VCALENDAR
VERSION:2.0
PRODID:-//EducArte - ECPv6.15.20//NONSGML v1.0//EN
CALSCALE:GREGORIAN
METHOD:PUBLISH
X-ORIGINAL-URL:https://www.educarteinc.org
X-WR-CALDESC:Events for EducArte
REFRESH-INTERVAL;VALUE=DURATION:PT1H
X-Robots-Tag:noindex
X-PUBLISHED-TTL:PT1H
BEGIN:VTIMEZONE
TZID:America/New_York
BEGIN:DAYLIGHT
TZOFFSETFROM:-0500
TZOFFSETTO:-0400
TZNAME:EDT
DTSTART:20220313T070000
END:DAYLIGHT
BEGIN:STANDARD
TZOFFSETFROM:-0400
TZOFFSETTO:-0500
TZNAME:EST
DTSTART:20221106T060000
END:STANDARD
BEGIN:DAYLIGHT
TZOFFSETFROM:-0500
TZOFFSETTO:-0400
TZNAME:EDT
DTSTART:20230312T070000
END:DAYLIGHT
BEGIN:STANDARD
TZOFFSETFROM:-0400
TZOFFSETTO:-0500
TZNAME:EST
DTSTART:20231105T060000
END:STANDARD
BEGIN:DAYLIGHT
TZOFFSETFROM:-0500
TZOFFSETTO:-0400
TZNAME:EDT
DTSTART:20240310T070000
END:DAYLIGHT
BEGIN:STANDARD
TZOFFSETFROM:-0400
TZOFFSETTO:-0500
TZNAME:EST
DTSTART:20241103T060000
END:STANDARD
END:VTIMEZONE
BEGIN:VEVENT
DTSTART;TZID=America/New_York:20230908T200000
DTEND;TZID=America/New_York:20230908T220000
DTSTAMP:20260420T032112
CREATED:20230806T203357Z
LAST-MODIFIED:20230820T130443Z
UID:10000343-1694203200-1694210400@www.educarteinc.org
SUMMARY:Richard Miller (Brazilian guitar) at Brentwood Arts Exchange
DESCRIPTION:Born and raised in Rio de Janeiro\, Brazil\, Richard Miller dazzles audiences with the expressive sounds of the Brazilian 7-string nylon guitar\, including a repertoire of Brazilian styles (choro\, samba\, bossa nova\, forro\, etc.)\, American jazz\, and Latin American styles. Now living on the West Coast\, Richard received his Doctor of Philosophy degree in music theory from Catholic University and was the premier Brazilian guitarist and arranger in Washington\, D.C.\, including serving as the Music Director for the Kennedy Center’s commissioned musical\, “OLIVERio: A Brazilian Twist.” \nEducArte presents Richard Miller at the Brentwood Arts Exchange’s Listening Room Concert Series.
URL:https://www.educarteinc.org/event/richard-miller-brazilian-guitar-at-brentwood-arts-exchange/
LOCATION:Brentwood Arts Exchange\, 3901 Rhode Island Ave\, Brentwood\, MD\, 20722\, United States
CATEGORIES:Concerts & Performances
ATTACH;FMTTYPE=image/jpeg:https://www.educarteinc.org/wp-content/uploads/2020/12/Richard-Miller.jpg
END:VEVENT
END:VCALENDAR