BEGIN:VCALENDAR
VERSION:2.0
PRODID:-//EducArte - ECPv6.15.20//NONSGML v1.0//EN
CALSCALE:GREGORIAN
METHOD:PUBLISH
X-WR-CALNAME:EducArte
X-ORIGINAL-URL:https://www.educarteinc.org
X-WR-CALDESC:Events for EducArte
REFRESH-INTERVAL;VALUE=DURATION:PT1H
X-Robots-Tag:noindex
X-PUBLISHED-TTL:PT1H
BEGIN:VTIMEZONE
TZID:America/New_York
BEGIN:DAYLIGHT
TZOFFSETFROM:-0500
TZOFFSETTO:-0400
TZNAME:EDT
DTSTART:20220313T070000
END:DAYLIGHT
BEGIN:STANDARD
TZOFFSETFROM:-0400
TZOFFSETTO:-0500
TZNAME:EST
DTSTART:20221106T060000
END:STANDARD
BEGIN:DAYLIGHT
TZOFFSETFROM:-0500
TZOFFSETTO:-0400
TZNAME:EDT
DTSTART:20230312T070000
END:DAYLIGHT
BEGIN:STANDARD
TZOFFSETFROM:-0400
TZOFFSETTO:-0500
TZNAME:EST
DTSTART:20231105T060000
END:STANDARD
BEGIN:DAYLIGHT
TZOFFSETFROM:-0500
TZOFFSETTO:-0400
TZNAME:EDT
DTSTART:20240310T070000
END:DAYLIGHT
BEGIN:STANDARD
TZOFFSETFROM:-0400
TZOFFSETTO:-0500
TZNAME:EST
DTSTART:20241103T060000
END:STANDARD
END:VTIMEZONE
BEGIN:VEVENT
DTSTART;TZID=America/New_York:20230915T200000
DTEND;TZID=America/New_York:20230915T233000
DTSTAMP:20260422T042806
CREATED:20230721T140011Z
LAST-MODIFIED:20260305T154418Z
UID:10000315-1694808000-1694820600@www.educarteinc.org
SUMMARY:Diogo Nogueira at Karma DC Live Music Venue
DESCRIPTION:[wp-eventbrite-checkout] \nPORTUGUÊS: \nDiogo Nogueira é um dos maiores nomes da música brasileira da atualidade. Filho do lendário João Nogueira\, ele canta o samba\, a música pulsante\, popular e alegre\, sinônimo da cultura brasileira. Artista multifacetado\, Diogo é cantor\, compositor\, instrumentista e também personalidade da TV e do rádio. Foi indicado ao LATIN GRAMMY por TODOS os seus álbuns e foi vencedor na categoria “Melhor Álbum de Samba” e “Melhor Canção Brasileira” em diferentes anos. Sua discografia rendeu mais de dois milhões de álbuns vendidos\, sendo seis CDs de Ouro\, três DVDs de Ouro\, dois DVDs de Platina e um de Platina Dupla. Completando 15 anos de carreira\, Diogo lançou no final do ano passado um álbum gravado ao vivo no Rio de Janeiro\, no icônico Pão de Açúcar\, chamado “Ao Vivo no Noites Cariocas”\, com sucessos populares e clássicos do samba. O trabalho foi amplamente elogiado pelo público\, artistas e críticos\, confirmando seu lugar como uma grande estrela da música brasileira. Agora\, Diogo prepara seu oitavo álbum de estúdio com músicas inéditas e vem rodando o Brasil com esse novo show que irá apresentar nos Estados Unidos. \nENGLISH: \nDiogo Nogueira is one of the biggest names in Brazilian music today. Son of the legendary João Nogueira\, he sings samba\, the pulsating\, popular\, and happy music that is synonymous with Brazilian culture. A multifaceted artist\, Diogo is a singer\, songwriter\, instrumentalist\, and also a TV and radio personality. He has been nominated for a Latin GRAMMY for ALL of his albums and has won in the category “Best Samba Album” and “Best Brazilian Song.” Nogueira has sold over two million albums\, including six Gold CDs\, three Gold DVDs\, two Platinum DVDs\, and one Double Platinum. Completing a 15-year career\, Diogo released an album recorded live in Rio de Janeiro at the end of 2022\, on the iconic Pão de Açúcar\, called “Ao Vivo no Noites Cariocas\,” with popular hits and samba classics. The album was widely praised by the public\, artists\, and critics\, confirming his place as a great star of Brazilian music. Now\, Diogo is preparing his eighth studio album and has been touring Brazil with this new show that he now presents in the United States. \n \n\nABOUT KARMA DC LIVE MUSIC VENUE: \n\nLocation: 2221 Adams Place NE\, Washington\, D.C. 20018\nKarma is a live music concert hall\, with plenty of space for guests\, a VIP Area\, a top-shelf bar\, and a great sound system. The venue is for ages 21 and up.\nParking is available off-site. We recommend parking in the paid parking lot. You can reserve parking ahead of time through RunParking.\n\nTICKETS: \nAdvance sales (while supplies last): \n\nPrimeiro lote / batch 1: $45\nSegundo lote / batch 2: $55\nTerceiro lote / batch 3: $65\nPortaria / door: $75 (after 12 p.m. on the day of the show)\n\nVIP tickets: \n\nVIP Side Stage Area for 4 (sofas for 4 + $400 drink minimum required per group): $500\nVIP Main Area for 4 (sofas for 4 + $400 drink minimum required per group): $500\nVIP Main Area for 2 (sofa for 2 + $200 drink minimum required per group): $250\nVIP Floor Area for 4 (sofas for 4 + $250 drink minimum required per group): $500\nVIP Floor Area for 2 (sofa for 2 + $125 drink minimum required per group): $250\n\nFor requests or questions about custom VIP seating options\, please call (202) 450-8541. \nAdvance sales end at 12 p.m. on the day of the show.  \nTickets will be available at the door for $75. \nPresented by EducArte.
URL:https://www.educarteinc.org/event/diogo-nogueira-at-karma-dc/
LOCATION:Karma DC Live Music Venue\, 2221 Adams Place NE\, Washington\, DC\, 20018\, United States
CATEGORIES:Concerts & Performances
ATTACH;FMTTYPE=image/png:https://www.educarteinc.org/wp-content/uploads/2023/07/Diogo-Nogueira-2023-DC-square.png
ORGANIZER;CN="EducArte":MAILTO:educarte@educarteinc.org
END:VEVENT
END:VCALENDAR