BEGIN:VCALENDAR
VERSION:2.0
PRODID:-//EducArte - ECPv6.15.20//NONSGML v1.0//EN
CALSCALE:GREGORIAN
METHOD:PUBLISH
X-WR-CALNAME:EducArte
X-ORIGINAL-URL:https://www.educarteinc.org
X-WR-CALDESC:Events for EducArte
REFRESH-INTERVAL;VALUE=DURATION:PT1H
X-Robots-Tag:noindex
X-PUBLISHED-TTL:PT1H
BEGIN:VTIMEZONE
TZID:America/New_York
BEGIN:DAYLIGHT
TZOFFSETFROM:-0500
TZOFFSETTO:-0400
TZNAME:EDT
DTSTART:20220313T070000
END:DAYLIGHT
BEGIN:STANDARD
TZOFFSETFROM:-0400
TZOFFSETTO:-0500
TZNAME:EST
DTSTART:20221106T060000
END:STANDARD
BEGIN:DAYLIGHT
TZOFFSETFROM:-0500
TZOFFSETTO:-0400
TZNAME:EDT
DTSTART:20230312T070000
END:DAYLIGHT
BEGIN:STANDARD
TZOFFSETFROM:-0400
TZOFFSETTO:-0500
TZNAME:EST
DTSTART:20231105T060000
END:STANDARD
BEGIN:DAYLIGHT
TZOFFSETFROM:-0500
TZOFFSETTO:-0400
TZNAME:EDT
DTSTART:20240310T070000
END:DAYLIGHT
BEGIN:STANDARD
TZOFFSETFROM:-0400
TZOFFSETTO:-0500
TZNAME:EST
DTSTART:20241103T060000
END:STANDARD
END:VTIMEZONE
BEGIN:VEVENT
DTSTART;TZID=America/New_York:20230924T143000
DTEND;TZID=America/New_York:20230924T153000
DTSTAMP:20260419T222019
CREATED:20230814T193626Z
LAST-MODIFIED:20230815T130457Z
UID:10000345-1695565800-1695569400@www.educarteinc.org
SUMMARY:Pablo Regis Band at Maryland Folk Festival
DESCRIPTION:Pablo Regis is a cavaco (string instrument) player\, singer\, and percussionist performing Brazilian music in the D.C. metro area. He grew up in Los Angeles and Brasília\, surrounded by Brazilian music and culture. He is a recipient of a Maryland State Arts Council 2018 Individual Artist Award. He has also trained in a variety of Brazilian movement styles\, including the martial art of capoeira\, and frevo and cavalo marinho from the state of Pernambuco.
URL:https://www.educarteinc.org/event/pablo-regis-band-at-maryland-folk-festival/
LOCATION:Downtown Salisbury\, Salisbury\, MD\, 21801\, United States
CATEGORIES:Concerts & Performances,Pablo Regis
ATTACH;FMTTYPE=image/png:https://www.educarteinc.org/wp-content/uploads/2020/08/Pablo-cavaco-blue-2-2048x1360-1.png
END:VEVENT
END:VCALENDAR