BEGIN:VCALENDAR
VERSION:2.0
PRODID:-//EducArte - ECPv6.15.20//NONSGML v1.0//EN
CALSCALE:GREGORIAN
METHOD:PUBLISH
X-WR-CALNAME:EducArte
X-ORIGINAL-URL:https://www.educarteinc.org
X-WR-CALDESC:Events for EducArte
REFRESH-INTERVAL;VALUE=DURATION:PT1H
X-Robots-Tag:noindex
X-PUBLISHED-TTL:PT1H
BEGIN:VTIMEZONE
TZID:America/New_York
BEGIN:DAYLIGHT
TZOFFSETFROM:-0500
TZOFFSETTO:-0400
TZNAME:EDT
DTSTART:20220313T070000
END:DAYLIGHT
BEGIN:STANDARD
TZOFFSETFROM:-0400
TZOFFSETTO:-0500
TZNAME:EST
DTSTART:20221106T060000
END:STANDARD
BEGIN:DAYLIGHT
TZOFFSETFROM:-0500
TZOFFSETTO:-0400
TZNAME:EDT
DTSTART:20230312T070000
END:DAYLIGHT
BEGIN:STANDARD
TZOFFSETFROM:-0400
TZOFFSETTO:-0500
TZNAME:EST
DTSTART:20231105T060000
END:STANDARD
BEGIN:DAYLIGHT
TZOFFSETFROM:-0500
TZOFFSETTO:-0400
TZNAME:EDT
DTSTART:20240310T070000
END:DAYLIGHT
BEGIN:STANDARD
TZOFFSETFROM:-0400
TZOFFSETTO:-0500
TZNAME:EST
DTSTART:20241103T060000
END:STANDARD
END:VTIMEZONE
BEGIN:VEVENT
DTSTART;TZID=America/New_York:20230929T183000
DTEND;TZID=America/New_York:20230929T210000
DTSTAMP:20260419T205151
CREATED:20230724T194838Z
LAST-MODIFIED:20230724T212234Z
UID:10000329-1696012200-1696021200@www.educarteinc.org
SUMMARY:Pablo Regis at Sandy Spring Museum Summer Beer & Wine Garden
DESCRIPTION:On the final Summer Beer & Wine Garden evening in September\, Sandy Spring Museum is thrilled to feature Pablo’s Baile! \nThis celebrated DC nightlife event is going to Sandy Spring! An electrifying mix of percussion\, passion\, and Brazilian Portuguese\, Pablo’s Baile showcases the best of live Brazilian dance music\, including samba and forró. \nEnjoy good eateries\, family lawn games\, and connections with people from the region’s ever-growing diverse community. \n\nSummer Beer & Wine Gardens are held on the last Friday of June\, July\, August\, and September.\nPicnic tables are available on a first-come-first-serve basis. Feel free to bring chairs and blankets.\nIn the event of inclement weather\, the gathering will move indoors.\n\nAdmission \n\n$10/adult\n$3/age 20 and under\nVIP tents (seating for 6) available for $100\n20% off for members (online only)
URL:https://www.educarteinc.org/event/pablo-regis-at-sandy-spring-museum-summer-beer-wine-garden/
LOCATION:Sandy Spring Museum\, 17901 Bentley Road\, Sandy Spring\, 20860\, United States
CATEGORIES:Concerts & Performances,Pablo Regis
ATTACH;FMTTYPE=image/jpeg:https://www.educarteinc.org/wp-content/uploads/2021/12/Pablo-Regis-de-Oliveira-cavaco-2-web-Photo-by-Violetta-Markelou.jpg
ORGANIZER;CN="EducArte":MAILTO:educarte@educarteinc.org
END:VEVENT
END:VCALENDAR