BEGIN:VCALENDAR
VERSION:2.0
PRODID:-//EducArte - ECPv6.15.20//NONSGML v1.0//EN
CALSCALE:GREGORIAN
METHOD:PUBLISH
X-WR-CALNAME:EducArte
X-ORIGINAL-URL:https://www.educarteinc.org
X-WR-CALDESC:Events for EducArte
REFRESH-INTERVAL;VALUE=DURATION:PT1H
X-Robots-Tag:noindex
X-PUBLISHED-TTL:PT1H
BEGIN:VTIMEZONE
TZID:America/New_York
BEGIN:DAYLIGHT
TZOFFSETFROM:-0500
TZOFFSETTO:-0400
TZNAME:EDT
DTSTART:20220313T070000
END:DAYLIGHT
BEGIN:STANDARD
TZOFFSETFROM:-0400
TZOFFSETTO:-0500
TZNAME:EST
DTSTART:20221106T060000
END:STANDARD
BEGIN:DAYLIGHT
TZOFFSETFROM:-0500
TZOFFSETTO:-0400
TZNAME:EDT
DTSTART:20230312T070000
END:DAYLIGHT
BEGIN:STANDARD
TZOFFSETFROM:-0400
TZOFFSETTO:-0500
TZNAME:EST
DTSTART:20231105T060000
END:STANDARD
BEGIN:DAYLIGHT
TZOFFSETFROM:-0500
TZOFFSETTO:-0400
TZNAME:EDT
DTSTART:20240310T070000
END:DAYLIGHT
BEGIN:STANDARD
TZOFFSETFROM:-0400
TZOFFSETTO:-0500
TZNAME:EST
DTSTART:20241103T060000
END:STANDARD
END:VTIMEZONE
BEGIN:VEVENT
DTSTART;TZID=America/New_York:20231001T143000
DTEND;TZID=America/New_York:20231001T153000
DTSTAMP:20260419T192727
CREATED:20230827T140828Z
LAST-MODIFIED:20230827T140828Z
UID:10000348-1696170600-1696174200@www.educarteinc.org
SUMMARY:Pablo Regis Band at Echo Arts Festival
DESCRIPTION:Pablo Regis and his band will perform Brazilian music at Glen Echo Park on October 1 for their annual Echo Arts Festival\, a celebration of visual and performing arts. This FREE event will include a multitude of hands-on activities\, live music\, and unique opportunities to delve into the arts.
URL:https://www.educarteinc.org/event/pablo-regis-band-at-echo-arts-festival/
LOCATION:Bumper Car Pavilion at Glen Echo Park\, 7300 MacArthur Blvd\, Glen Echo\, 20812\, United States
CATEGORIES:Community Events,Concerts & Performances
ATTACH;FMTTYPE=image/png:https://www.educarteinc.org/wp-content/uploads/2023/08/Echo-Arts-Festival-2023.png
END:VEVENT
END:VCALENDAR