BEGIN:VCALENDAR
VERSION:2.0
PRODID:-//EducArte - ECPv6.15.20//NONSGML v1.0//EN
CALSCALE:GREGORIAN
METHOD:PUBLISH
X-WR-CALNAME:EducArte
X-ORIGINAL-URL:https://www.educarteinc.org
X-WR-CALDESC:Events for EducArte
REFRESH-INTERVAL;VALUE=DURATION:PT1H
X-Robots-Tag:noindex
X-PUBLISHED-TTL:PT1H
BEGIN:VTIMEZONE
TZID:America/New_York
BEGIN:DAYLIGHT
TZOFFSETFROM:-0500
TZOFFSETTO:-0400
TZNAME:EDT
DTSTART:20220313T070000
END:DAYLIGHT
BEGIN:STANDARD
TZOFFSETFROM:-0400
TZOFFSETTO:-0500
TZNAME:EST
DTSTART:20221106T060000
END:STANDARD
BEGIN:DAYLIGHT
TZOFFSETFROM:-0500
TZOFFSETTO:-0400
TZNAME:EDT
DTSTART:20230312T070000
END:DAYLIGHT
BEGIN:STANDARD
TZOFFSETFROM:-0400
TZOFFSETTO:-0500
TZNAME:EST
DTSTART:20231105T060000
END:STANDARD
BEGIN:DAYLIGHT
TZOFFSETFROM:-0500
TZOFFSETTO:-0400
TZNAME:EDT
DTSTART:20240310T070000
END:DAYLIGHT
BEGIN:STANDARD
TZOFFSETFROM:-0400
TZOFFSETTO:-0500
TZNAME:EST
DTSTART:20241103T060000
END:STANDARD
END:VTIMEZONE
BEGIN:VEVENT
DTSTART;TZID=America/New_York:20231216T130000
DTEND;TZID=America/New_York:20231216T150000
DTSTAMP:20260419T162905
CREATED:20230605T191305Z
LAST-MODIFIED:20230808T145345Z
UID:10000328-1702731600-1702738800@www.educarteinc.org
SUMMARY:Brazilian Carnival Dance Class: Frevo & Samba
DESCRIPTION:Join us for our two-part Brazilian carnival dance class\, featuring frevo and samba! You are welcome to come to one or both parts. Also\, stay for our bateria (samba percussion ensemble) rehearsal with André Coelho at 3PM! This event is open to the public. All levels are welcome to participate. \nFrevo with Kate: 1-2PM\nLearn the basics of Recife’s carnival dance\, frevo! Dancer and dance scholar Kate Spanos will demonstrate and teach frevo dance using the methodology of Mexe Com Tudo (Otávio Bastos) of Recife. Learn more about frevo and Mexe Com Tudo here. \nSamba with Ilheuma Zezeh: 2-3PM\nLearn samba from Ilheuma Zezeh\, Brazilian dancer\, teacher\, choreographer\, performer\, and healer from São Paulo with a mission to bring more joy to the world through art. Ilheuma will demonstrate and teach the basics of samba dance. \nRegistration for the full semester of lessons (9 total) is $120. Scholarships are available to those for whom cost is prohibitive (contact us for more information). \n$20 drop-ins are also available. \n\nThe event is a program of College Park-based arts non-profit EducArte. Special thanks to our event sponsor\, the College Park Arts Exchange.
URL:https://www.educarteinc.org/event/brazilian-carnival-dance-class/2023-12-16/
LOCATION:Old Parish House of College Park\, 4711 Knox Rd\, College Park\, MD\, 20740\, United States
CATEGORIES:Brazilian Dance Class Series,Workshops & Classes
ATTACH;FMTTYPE=image/jpeg:https://www.educarteinc.org/wp-content/uploads/2023/05/CeylonMitchell-_F5A3528-Enhanced-NR-2-scaled.jpg
ORGANIZER;CN="EducArte":MAILTO:educarte@educarteinc.org
END:VEVENT
END:VCALENDAR