BEGIN:VCALENDAR
VERSION:2.0
PRODID:-//EducArte - ECPv6.15.20//NONSGML v1.0//EN
CALSCALE:GREGORIAN
METHOD:PUBLISH
X-ORIGINAL-URL:https://www.educarteinc.org
X-WR-CALDESC:Events for EducArte
REFRESH-INTERVAL;VALUE=DURATION:PT1H
X-Robots-Tag:noindex
X-PUBLISHED-TTL:PT1H
BEGIN:VTIMEZONE
TZID:America/New_York
BEGIN:DAYLIGHT
TZOFFSETFROM:-0500
TZOFFSETTO:-0400
TZNAME:EDT
DTSTART:20230312T070000
END:DAYLIGHT
BEGIN:STANDARD
TZOFFSETFROM:-0400
TZOFFSETTO:-0500
TZNAME:EST
DTSTART:20231105T060000
END:STANDARD
BEGIN:DAYLIGHT
TZOFFSETFROM:-0500
TZOFFSETTO:-0400
TZNAME:EDT
DTSTART:20240310T070000
END:DAYLIGHT
BEGIN:STANDARD
TZOFFSETFROM:-0400
TZOFFSETTO:-0500
TZNAME:EST
DTSTART:20241103T060000
END:STANDARD
BEGIN:DAYLIGHT
TZOFFSETFROM:-0500
TZOFFSETTO:-0400
TZNAME:EDT
DTSTART:20250309T070000
END:DAYLIGHT
BEGIN:STANDARD
TZOFFSETFROM:-0400
TZOFFSETTO:-0500
TZNAME:EST
DTSTART:20251102T060000
END:STANDARD
END:VTIMEZONE
BEGIN:VEVENT
DTSTART;TZID=America/New_York:20240208T183000
DTEND;TZID=America/New_York:20240208T200000
DTSTAMP:20260419T131900
CREATED:20240104T171953Z
LAST-MODIFIED:20240205T170715Z
UID:10000363-1707417000-1707422400@www.educarteinc.org
SUMMARY:EducArte at Levine: Brazilian Bateria Samba Drumming Class
DESCRIPTION:Have you been mesmerized by the energy and cohesion of the carnival street percussion groups of Rio de Janeiro\, Brazil? Join this weekly Brazilian bateria class to learn the fundamentals of samba percussion technique and repertoire. A bateria is the percussion ensemble driving the groove of the whole samba band. \nEducArte’s percussion director and Rio de Janeiro native André Coelho leads the bateria classes. André has played in many carnival groups\, such as Carmelitas\, Céu na Terra\, Cacique de Ramos\, Orquestra Voadora\, Prata Preta\, and Tá Pirando. Classes are also taught by Levine faculty member Christopher Payne\, a multi-faceted drummer and percussionist who fuses ethnic hand percussion\, orchestral percussion\, and drum set to create music across a multitude of genres. \nEducArte at Levine welcomes all levels\, from beginners to advanced\, semi-professionals\, and music teachers. No auditions are required. The bateria class meets for 1.5 hours a week to work on technique and repertoire and to rehearse for group performances. All students will have the opportunity to perform periodically if they choose to. \nPlease see our online bateria demonstration videos here. \nSemester tuition and drop-in classes available. Register for the semester ($325) on Levine’s website or purchase a $20 drop-in at the door. \nScholarships are also available to students. Please fill out this form to be considered for a scholarship. \nQuestions about payments or registration? Contact Levine student services at sservices@levinemusic.org or (202) 686.8000.
URL:https://www.educarteinc.org/event/educarte-at-levine-brazilian-bateria-samba-drumming-classes/2024-02-08/
LOCATION:Levine Music (Silver Spring campus)\, 900 Wayne Ave 2nd floor\, Silver Spring\, MD\, 20910\, United States
CATEGORIES:Brazilian Percussion Class Series
ATTACH;FMTTYPE=image/jpeg:https://www.educarteinc.org/wp-content/uploads/2023/03/2023-03-04-Bateria-10-scaled.jpg
ORGANIZER;CN="EducArte":MAILTO:educarte@educarteinc.org
END:VEVENT
BEGIN:VEVENT
DTSTART;TZID=America/New_York:20240208T193000
DTEND;TZID=America/New_York:20240208T213000
DTSTAMP:20260419T131900
CREATED:20240117T163752Z
LAST-MODIFIED:20240117T163752Z
UID:10000425-1707420600-1707427800@www.educarteinc.org
SUMMARY:Music From The Sole: I Didn't Come to Stay at The Clarice
DESCRIPTION:A tap dance and live music company that blurs the line between concert dance and music performance\, Music From The Sole celebrates tap’s roots in the African diaspora\, particularly its connections to Afro-Brazilian dance and music and its lineage to forms like house dance and passinho (Brazilian funk). The New Yorker notes that the group’s “dancers\, whose bodies also provide percussion\, are in a constant give-and-take with musicians on piano\, sax and bass. The feeling is that of being at a family reunion\, in which every family member has something to say.” \nTap\, percussive dance\, samba\, house and live music come together in I Didn’t Come to Stay. The work explores tap’s lineage and connections to other Afro-diasporic forms. Together\, the ensemble embraces shared roots across the diaspora to reflect on what shapes their cultural and artistic identity and to celebrate the joy\, depth and virtuosity of Black dance and music. \nLed by Brazilian choreographer Leonardo Sandoval and composer Gregory Richardson\, Music from the Sole’s work embraces tap’s unique nature as a blend of sound and movement\, incorporating wide-ranging influences like samba\, passinho\, Afro-Cuban\, jazz and house. \nI Didn’t Come to Stay is a commission from Works & Process at the Guggenheim and was created with the support of a summer 2020 Works & Process bubble residency at Kaatsbaan Cultural Park\, as well as residency support in March 2021 from The Yard\, an April 2021 Pillow Lab residency at Jacob’s Pillow\, a February 2022 Creative residency at Chelsea Factory\, and a March 2022 Works & Process LaunchPAD “Process as Destination” residency at Catskill Mountain Foundation. Additional rehearsal support was provided by the American Tap Dance Foundation. \nFUNDING\nThis presentation of Music From the Sole is made possible by the New England Foundation for the Arts’ National Dance Project\, with lead funding from the Doris Duke Charitable Foundation and the Mellon Foundation. The performance is also supported in part by the Maryland State Arts Council and The Morris and Gwendolyn Cafritz Foundation. I Didn’t Come to Stay is a commission from Works & Process at the Guggenheim. \nCo-presented by The Clarice and EducArte.
URL:https://www.educarteinc.org/event/music-from-the-sole-i-didnt-come-to-stay-at-the-clarice/
LOCATION:The Clarice Smith Performing Arts Center\, College Park\, MD\, 20742\, United States
CATEGORIES:Concerts & Performances
ATTACH;FMTTYPE=image/tiff:https://www.educarteinc.org/wp-content/uploads/2024/01/04_11_2022_Music_from_the_Sole_Titus_Ogilvie_Laing-0333.tif
END:VEVENT
BEGIN:VEVENT
DTSTART;TZID=America/New_York:20240208T200000
DTEND;TZID=America/New_York:20240208T210000
DTSTAMP:20260419T131900
CREATED:20240104T172255Z
LAST-MODIFIED:20240205T170934Z
UID:10000403-1707422400-1707426000@www.educarteinc.org
SUMMARY:EducArte at Levine: Brazilian Samba Dance Class
DESCRIPTION:Samba is one of Brazil’s most recognized dance styles\, full of energy and charisma! Join this weekly in-person samba dance class\, which builds up the fundamentals of technique and groove\, including samba steps\, body isolations\, and hip work. This class will prepare you to perform samba with a live music ensemble.  \nIlheuma Zezeh is a renowned Brazilian samba teacher\, choreographer\, and professional performer. Originally from São Paulo\, Brazil\, Zezeh is a former carnival queen of the Unidos do Peruche samba school located in São Paulo. She has taught and danced professionally for over 30 years in a number of countries including Brazil\, the United States\, and elsewhere. Zezeh’s teaching philosophy explores mental and physical well-being\, self expression\, and positivity.  \nEducArte at Levine welcomes all levels\, from beginners to advanced\, semi-professionals\, and dance instructors. No auditions required. The dance class meets for 1 hour a week to work on technique\, repertoire\, and performance. All students will have the opportunity to perform periodically with the EducArte at Levine percussion ensemble\, if they choose to.  \nSemester tuition and drop-ins classes available. Register for the semester ($250) on Levine’s websiteor purchase a $20 drop-in at the door. \nScholarships are also available to students. Please fill out this form to be considered for a scholarship. \nQuestions about payments or registration? Contact Levine student services at sservices@levinemusic.org or (202) 686.8000.
URL:https://www.educarteinc.org/event/educarte-at-levine-brazilian-samba-dance-class/2024-02-08/
LOCATION:Levine Music (Silver Spring campus)\, 900 Wayne Ave 2nd floor\, Silver Spring\, MD\, 20910\, United States
CATEGORIES:Brazilian Dance Class Series
ATTACH;FMTTYPE=image/jpeg:https://www.educarteinc.org/wp-content/uploads/2022/12/2023-02-25-Viva-Brasil-workshops-27-1.jpg
ORGANIZER;CN="EducArte":MAILTO:educarte@educarteinc.org
END:VEVENT
END:VCALENDAR