BEGIN:VCALENDAR
VERSION:2.0
PRODID:-//EducArte - ECPv6.15.20//NONSGML v1.0//EN
CALSCALE:GREGORIAN
METHOD:PUBLISH
X-WR-CALNAME:EducArte
X-ORIGINAL-URL:https://www.educarteinc.org
X-WR-CALDESC:Events for EducArte
REFRESH-INTERVAL;VALUE=DURATION:PT1H
X-Robots-Tag:noindex
X-PUBLISHED-TTL:PT1H
BEGIN:VTIMEZONE
TZID:America/New_York
BEGIN:DAYLIGHT
TZOFFSETFROM:-0500
TZOFFSETTO:-0400
TZNAME:EDT
DTSTART:20200308T070000
END:DAYLIGHT
BEGIN:STANDARD
TZOFFSETFROM:-0400
TZOFFSETTO:-0500
TZNAME:EST
DTSTART:20201101T060000
END:STANDARD
BEGIN:DAYLIGHT
TZOFFSETFROM:-0500
TZOFFSETTO:-0400
TZNAME:EDT
DTSTART:20210314T070000
END:DAYLIGHT
BEGIN:STANDARD
TZOFFSETFROM:-0400
TZOFFSETTO:-0500
TZNAME:EST
DTSTART:20211107T060000
END:STANDARD
BEGIN:DAYLIGHT
TZOFFSETFROM:-0500
TZOFFSETTO:-0400
TZNAME:EDT
DTSTART:20220313T070000
END:DAYLIGHT
BEGIN:STANDARD
TZOFFSETFROM:-0400
TZOFFSETTO:-0500
TZNAME:EST
DTSTART:20221106T060000
END:STANDARD
END:VTIMEZONE
BEGIN:VEVENT
DTSTART;TZID=America/New_York:20210501T103000
DTEND;TZID=America/New_York:20210501T114500
DTSTAMP:20260426T002956
CREATED:20210220T183822Z
LAST-MODIFIED:20211104T230116Z
UID:10000066-1619865000-1619869500@www.educarteinc.org
SUMMARY:ABRACE weekly music lessons
DESCRIPTION:For ABRACE members only. To learn more about ABRACE\, visit abracebrasil.org.
URL:https://www.educarteinc.org/event/abrace-weekly-music-lessons-11/
LOCATION:Online
CATEGORIES:ABRACE,Online,Workshops & Classes
ORGANIZER;CN="EducArte":MAILTO:educarte@educarteinc.org
END:VEVENT
BEGIN:VEVENT
DTSTART;TZID=America/New_York:20210508T103000
DTEND;TZID=America/New_York:20210508T114500
DTSTAMP:20260426T002956
CREATED:20210220T183900Z
LAST-MODIFIED:20211104T230123Z
UID:10000067-1620469800-1620474300@www.educarteinc.org
SUMMARY:ABRACE weekly music lessons
DESCRIPTION:For ABRACE members only. To learn more about ABRACE\, visit abracebrasil.org.
URL:https://www.educarteinc.org/event/abrace-weekly-music-lessons-12/
LOCATION:Online
CATEGORIES:ABRACE,Online,Workshops & Classes
ORGANIZER;CN="EducArte":MAILTO:educarte@educarteinc.org
END:VEVENT
BEGIN:VEVENT
DTSTART;TZID=America/New_York:20210513T180000
DTEND;TZID=America/New_York:20210513T193000
DTSTAMP:20260426T002956
CREATED:20210420T144646Z
LAST-MODIFIED:20210704T173656Z
UID:10000071-1620928800-1620934200@www.educarteinc.org
SUMMARY:Pandeiro workshop with André Coelho
DESCRIPTION:This workshop focuses on the pandeiro and the samba rhythm\, including its subdivisions: partido alto\, samba de roda\, samba canção\, and other rhythms such as maxixe and ijexá\, which can be heard in a traditional samba roda.  \nThis workshop is for all levels\, but focused on intermediate and advanced players. Both the pandeiro de couro (animal skin) and nylon pandeiro will be used. \nRegister for the workshop \nIf you do not have a pandeiro\, you can use a hardcover book to practice. Take a look at this video: https://youtu.be/Y6jjwPbFbq0. \nIf you would like to invest in a pandeiro\, take a look at these inexpensive pandeiros:\nGeneric brand 8 ” (kids): https://amzn.to/3tccBlO\nGeneric brand 10″: https://amzn.to/3rIty6X\nRemo 10″: https://amzn.to/3l9KxwI \nThis video shows how to make an American tambourine sound like a pandeiro: https://youtu.be/pb5v3rJ-WoA \nYou can also choose more expensive pandeiros sold in the US that will last longer and can be used to practice or in performance.\nLP Couro 10″: https://amzn.to/3lc0D8P\nLP Nylon 10″: https://amzn.to/2OF6veF\nMeinl Nylon 10″: https://amzn.to/30Cb9wA
URL:https://www.educarteinc.org/event/pandeiro-workshop-with-andre-coelho/
LOCATION:Online
CATEGORIES:Online,Workshops & Classes
ORGANIZER;CN="EducArte":MAILTO:educarte@educarteinc.org
END:VEVENT
BEGIN:VEVENT
DTSTART;TZID=America/New_York:20210515T103000
DTEND;TZID=America/New_York:20210515T114500
DTSTAMP:20260426T002956
CREATED:20210220T184048Z
LAST-MODIFIED:20211104T230130Z
UID:10000068-1621074600-1621079100@www.educarteinc.org
SUMMARY:ABRACE weekly music lessons
DESCRIPTION:For ABRACE members only. To learn more about ABRACE\, visit abracebrasil.org.
URL:https://www.educarteinc.org/event/abrace-weekly-music-lessons-13/
LOCATION:Online
CATEGORIES:ABRACE,Online,Workshops & Classes
ORGANIZER;CN="EducArte":MAILTO:educarte@educarteinc.org
END:VEVENT
BEGIN:VEVENT
DTSTART;TZID=America/New_York:20210523T190000
DTEND;TZID=America/New_York:20210523T210000
DTSTAMP:20260426T002956
CREATED:20210428T150003Z
LAST-MODIFIED:20210428T150412Z
UID:10000072-1621796400-1621803600@www.educarteinc.org
SUMMARY:Cavaquinhos Across the Continents
DESCRIPTION:The Cavaquinho is a small string instrument (like the ukulele) of the European guitar family with four wires or gut strings. This instrument first went to Madeira (in 1854\, to become the braguinha) and then on to Hawaii (in 1879) to become the ukulele. \nPresented by Partners of the Americas – District of Columbia Chapter \nA cultural exchange\nOne of the highlights of former DC Partners President Maricy Schmitz’s Education and Cultural Program in Brasília in November 2019 was visiting Associação Waldir Azevedo to learn about the actions of the organization and have a private concert featuring musician Dudu Oliveira and two adolescents who played cavaquinho – Meninos do Cavaquinho. Maricy wanted to show the amazing talent of the Meninos to the Partners community and have them meet Pablo Regis de Oliveira\, a fantastic cavaquinho player who lives in Washington\, DC. This is how this concert was envisioned – a cultural exchange to connect people from the Americas and to bring inspirational moments to all! \nPablo Regis de Oliveira\n\nPablo Regis de Oliveira is a Brazilian\, Peruvian and American musician who grew up in the world of Brazilian music in Los Angeles and Brasília. He plays cavaquinho and percussion. He has also worked as a music and artistic producer in Washington\, DC and Maryland since 2005. With dancer Kate Spanos\, Pablo founded EducArte\, a non-profit organization whose mission is to promote Brazilian music and culture\, support local and international artists\, and encourage creativity and artistic expression of all individuals.\n\nProjeto Cultural Waldir Azevedo\nProjeto Cultural Waldir Azevedo is a center for artistic studies and practices\, whose mission is to enable access to art free of charge in the metropolitan area of Brasilia\, Brazil. Projeto Cultural Waldir Azevedo was created in 2009 by musician Dudu Oliveira. Mr. Oliveira’s dedication to the goals of the center has been phenomenal. Through his actions he gave life to the Orquestra de Cavaquinhos de Brasília\, an orchestra founded in 2013\, and Coral Armorial\, a choir composed of visually impaired individuals. \nJoin the event at GoToMeeting on Sunday\, May 23 at 7PM Eastern Time: https://global.gotomeeting.com/join/504307973
URL:https://www.educarteinc.org/event/cavaquinhos-across-the-continents/
LOCATION:Online
CATEGORIES:Concerts & Performances,Online
END:VEVENT
BEGIN:VEVENT
DTSTART;TZID=America/New_York:20210529T103000
DTEND;TZID=America/New_York:20210529T114500
DTSTAMP:20260426T002956
CREATED:20210220T184131Z
LAST-MODIFIED:20211104T230136Z
UID:10000069-1622284200-1622288700@www.educarteinc.org
SUMMARY:ABRACE weekly music lessons
DESCRIPTION:For ABRACE members only. To learn more about ABRACE\, visit abracebrasil.org.
URL:https://www.educarteinc.org/event/abrace-weekly-music-lessons-14/
LOCATION:Online
CATEGORIES:ABRACE,Online,Workshops & Classes
ORGANIZER;CN="EducArte":MAILTO:educarte@educarteinc.org
END:VEVENT
END:VCALENDAR