BEGIN:VCALENDAR
VERSION:2.0
PRODID:-//EducArte - ECPv6.15.20//NONSGML v1.0//EN
CALSCALE:GREGORIAN
METHOD:PUBLISH
X-ORIGINAL-URL:https://www.educarteinc.org
X-WR-CALDESC:Events for EducArte
REFRESH-INTERVAL;VALUE=DURATION:PT1H
X-Robots-Tag:noindex
X-PUBLISHED-TTL:PT1H
BEGIN:VTIMEZONE
TZID:America/New_York
BEGIN:DAYLIGHT
TZOFFSETFROM:-0500
TZOFFSETTO:-0400
TZNAME:EDT
DTSTART:20200308T070000
END:DAYLIGHT
BEGIN:STANDARD
TZOFFSETFROM:-0400
TZOFFSETTO:-0500
TZNAME:EST
DTSTART:20201101T060000
END:STANDARD
BEGIN:DAYLIGHT
TZOFFSETFROM:-0500
TZOFFSETTO:-0400
TZNAME:EDT
DTSTART:20210314T070000
END:DAYLIGHT
BEGIN:STANDARD
TZOFFSETFROM:-0400
TZOFFSETTO:-0500
TZNAME:EST
DTSTART:20211107T060000
END:STANDARD
BEGIN:DAYLIGHT
TZOFFSETFROM:-0500
TZOFFSETTO:-0400
TZNAME:EDT
DTSTART:20220313T070000
END:DAYLIGHT
BEGIN:STANDARD
TZOFFSETFROM:-0400
TZOFFSETTO:-0500
TZNAME:EST
DTSTART:20221106T060000
END:STANDARD
END:VTIMEZONE
BEGIN:VEVENT
DTSTART;TZID=America/New_York:20211104T193000
DTEND;TZID=America/New_York:20211104T223000
DTSTAMP:20260425T181347
CREATED:20210815T202707Z
LAST-MODIFIED:20211104T172824Z
UID:10000086-1636054200-1636065000@www.educarteinc.org
SUMMARY:Pablo Regis Quartet at Mr. Henry's
DESCRIPTION:The Pablo Regis Quartet will play at Mr. Henry’s as part of “Groove Thursdays\,” a series featuring the best of Brazilian music in Washington\, DC.  \nMr. Henry’s is artist friendly and offers opportunities to many performers in this area. Make sure you get your seats early because ticket holders are always guaranteed to get the best seats in the house!  
URL:https://www.educarteinc.org/event/pablo-regis-quartet-at-mr-henrys-4/
LOCATION:Mr. Henry’s\, 601 Pennsylvania Avenue SE\, Washington\, DC\, 20003\, United States
CATEGORIES:Concerts & Performances
ATTACH;FMTTYPE=image/png:https://www.educarteinc.org/wp-content/uploads/2021/08/Mr-Henrys-nao-deixe-o-samba-morrer-smaller.png
END:VEVENT
BEGIN:VEVENT
DTSTART;TZID=America/New_York:20211106T140000
DTEND;TZID=America/New_York:20211106T144500
DTSTAMP:20260425T181347
CREATED:20211026T204509Z
LAST-MODIFIED:20211103T012826Z
UID:10000130-1636207200-1636209900@www.educarteinc.org
SUMMARY:EducArte’s Brazilian Dance Workshop
DESCRIPTION:Learn samba from Zezeh\, Brazilian dancer\, teacher\, choreographer\, performer\, and healer from São Paulo with a mission to bring more joy to the world through art. Zezeh will demonstrate and teach the basics of samba dance. Also stay for our percussion ensemble workshop with André Coelho immediately following the dance workshop! \nThis is a regularly occurring Brazilian dance workshop hosted by EducArte. All levels are welcome to participate. \nThis event is free and open to the public. While primarily intended for adults\, everyone is welcome. Please note that this workshop will be held at Old Parish House of College Park at 4711 Knox Road. \nThe event is a program of College Park-based arts non-profit EducArte. Special thanks to event sponsor\, the College Park Arts Exchange.
URL:https://www.educarteinc.org/event/educartes-brazilian-dance-workshop-4/
LOCATION:Old Parish House of College Park\, 4711 Knox Rd\, College Park\, MD\, 20740\, United States
CATEGORIES:Brazilian Dance Class Series,Workshops & Classes
ATTACH;FMTTYPE=image/jpeg:https://www.educarteinc.org/wp-content/uploads/2021/10/Zezeh-Erika-Wilcox-Photography-1.jpg
ORGANIZER;CN="EducArte":MAILTO:educarte@educarteinc.org
END:VEVENT
BEGIN:VEVENT
DTSTART;TZID=America/New_York:20211106T150000
DTEND;TZID=America/New_York:20211106T163000
DTSTAMP:20260425T181347
CREATED:20211026T200958Z
LAST-MODIFIED:20211103T012259Z
UID:10000129-1636210800-1636216200@www.educarteinc.org
SUMMARY:EducArte’s Brazilian Percussion Workshop & Jam
DESCRIPTION:Learn from and jam with Brazilian samba master percussionist André Coelho from Rio de Janeiro. André will show and demonstrate each of the essential Brazilian percussion instruments. Participants will learn basic rhythms and the event will finish with a jam session. Also come early for our dance workshop with Zezeh immediately before the percussion ensemble. \nWe will have some percussion instruments\, like pandeiros\, tamborins\, and surdos for participants. But please bring your instrument if you have one. \nThis is a regularly occurring Brazilian percussion meetup. All levels are welcome to participate. \nThis event is free and open to the public. While primarily intended for adults\, everyone is welcome. Please note that this workshop will be held at Old Parish House of College Park at 4711 Knox Road. \nThe event is a program of College Park-based arts non-profit EducArte. Special thanks to event sponsor\, the College Park Arts Exchange.
URL:https://www.educarteinc.org/event/educartes-brazilian-percussion-workshop-jam-6/
LOCATION:Old Parish House of College Park\, 4711 Knox Rd\, College Park\, MD\, 20740\, United States
CATEGORIES:Brazilian Percussion Class Series,Workshops & Classes
ATTACH;FMTTYPE=image/jpeg:https://www.educarteinc.org/wp-content/uploads/2021/10/Brazilian-percussion-ensemble-St.-Andrews.jpg
ORGANIZER;CN="EducArte":MAILTO:educarte@educarteinc.org
END:VEVENT
BEGIN:VEVENT
DTSTART;TZID=America/New_York:20211113T103000
DTEND;TZID=America/New_York:20211113T120000
DTSTAMP:20260425T181347
CREATED:20211004T144827Z
LAST-MODIFIED:20211206T224837Z
UID:10000104-1636799400-1636804800@www.educarteinc.org
SUMMARY:ABRACE weekly music lessons
DESCRIPTION:For ABRACE members only. To learn more about ABRACE\, visit abracebrasil.org. Learn more about EducArte’s music program with ABRACE here.
URL:https://www.educarteinc.org/event/abrace-weekly-music-lessons-17/
LOCATION:McLean High School\, 1633 Davidson Rd\, McLean\, VA\, 22101\, United States
CATEGORIES:ABRACE,Workshops & Classes
ATTACH;FMTTYPE=image/jpeg:https://www.educarteinc.org/wp-content/uploads/2021/10/b5ebb84d-1367-4775-93f9-32d5aca38cc6.jpg
END:VEVENT
BEGIN:VEVENT
DTSTART;TZID=America/New_York:20211118T213000
DTEND;TZID=America/New_York:20211118T233000
DTSTAMP:20260425T181347
CREATED:20211025T145633Z
LAST-MODIFIED:20211103T013018Z
UID:10000124-1637271000-1637278200@www.educarteinc.org
SUMMARY:Pablo’s Baile at Bossa Bistro
DESCRIPTION:Pablo’s Baile occurs every third Thursday of the month at Bossa Bistro! An electrifying mix of percussion\, passion\, and Brazilian Portuguese\, Pablo’s Baile showcases the best of live Brazilian dance music\, including samba and forró. \n$10 at the door
URL:https://www.educarteinc.org/event/pablos-baile-at-bossa-bistro-5/
LOCATION:Bossa Bistro\, 2463 18th Street NW\, Washington\, DC\, 20009\, United States
CATEGORIES:Concerts & Performances
ATTACH;FMTTYPE=image/png:https://www.educarteinc.org/wp-content/uploads/2020/08/Pablo-cavaco-blue-2-2048x1360-1.png
END:VEVENT
BEGIN:VEVENT
DTSTART;TZID=America/New_York:20211119T180000
DTEND;TZID=America/New_York:20211119T193000
DTSTAMP:20260425T181347
CREATED:20210910T200152Z
LAST-MODIFIED:20211120T013012Z
UID:10000112-1637344800-1637350200@www.educarteinc.org
SUMMARY:Choro Lecture Series: Connections between Brazilian Choro and American Jazz\, by Andy Connell (virtual)
DESCRIPTION:In this lecture\, Andy Connell\, PhD\, discusses the similarities between American jazz and Brazilian choro. He also presents the work of Hermeto Pascoal\, one of Brazil’s most eccentric\, prolific\, and treasured composers and musicians\, and a man once described by Miles Davis as “one of the most important musicians on the planet.” \nThis is a free\, virtual event that will later be posted to EducArte’s YouTube page. \nAbout Andy Connell:\nAndrew Connell is an ethnomusicologist whose primary research is in Brazilian popular instrumental music\, focusing on issues of identity and musical globalization. He has recent articles published in Music Cultures of Latin America: Global Effects\, Past and Present (UCLA Selected Reports in Ethnomusicology) and Women and Music in America Since 1900 (Greenwood Press) and has given presentations at various national and international conferences including the Society for Ethnomusicology and the International Council of Traditional Music. His current scholarly activities include completing a book on Brazilian jazz. \nAs a performer\, Dr. Connell plays saxophone and clarinet in ensembles ranging from jazz to classical chamber music to Brazilian chorinho. He studied jazz improvisation and arranging with Ray Brown\, clarinet with Rosario Mazzeo\, Janet Averett\, and Fred Ormand\, and saxophone with Don Sinta. He has played with the Santa Cruz\, Monterey\, and Toledo (Ohio) Symphonies\, and has appeared at the Monterey\, Montreux–Detroit\, and San Francisco jazz festivals\, and the Spoleto Festival USA. In addition\, Dr. Connell has performed with a wide range of artists including Luciano Pavarotti\, Dave Leibman\, Lou Rawls\, Mike Marshall\, and Hermeto Pascoal\, and has recorded for the Musical Heritage Society\, Intrada\, Adventure Music\, Earthbeat! Traveler\, and Acoustic Levitation labels. At James Madison University\, Dr. Connell teaches courses in American music\, the history of jazz\, world music\, and coaches small jazz ensembles. \nThis project was made possible by a grant from Maryland Humanities\, with funding received from the Maryland Historical Trust in the Maryland Department of Planning. Maryland Humanities’ Grants Program is also supported by the National Endowment for the Humanities and private funders. Any views\, findings\, conclusions\, or recommendations expressed in this series do not necessarily represent those of Maryland Humanities\, Maryland Historical Trust\, Maryland Department of Planning\, or National Endowment for the Humanities. \n \nLearn more about the full Choro Lecture Series this fall.
URL:https://www.educarteinc.org/event/choro-lecture-series-connections-between-brazilian-choro-and-american-jazz-by-andy-connell-virtual/
LOCATION:Zoom
CATEGORIES:Choro Lecture Series,Online,Presentations
ATTACH;FMTTYPE=image/jpeg:https://www.educarteinc.org/wp-content/uploads/2021/09/Andy-Connell.jpg
ORGANIZER;CN="EducArte":MAILTO:educarte@educarteinc.org
END:VEVENT
BEGIN:VEVENT
DTSTART;TZID=America/New_York:20211119T190000
DTEND;TZID=America/New_York:20211119T220000
DTSTAMP:20260425T181347
CREATED:20211025T144935Z
LAST-MODIFIED:20211121T224918Z
UID:10000123-1637348400-1637359200@www.educarteinc.org
SUMMARY:Pablo and the Baile Band (private event)
DESCRIPTION:Private event with Pablo and the Baile Band. Want to hire the band for your event? Contact us.
URL:https://www.educarteinc.org/event/pablo-and-the-baile-band-private-event/
CATEGORIES:Concerts & Performances
ATTACH;FMTTYPE=image/png:https://www.educarteinc.org/wp-content/uploads/2020/08/Pablo-cavaco-blue-2-2048x1360-1.png
END:VEVENT
BEGIN:VEVENT
DTSTART;TZID=America/New_York:20211120T103000
DTEND;TZID=America/New_York:20211120T120000
DTSTAMP:20260425T181347
CREATED:20211004T144904Z
LAST-MODIFIED:20211206T224850Z
UID:10000105-1637404200-1637409600@www.educarteinc.org
SUMMARY:ABRACE weekly music lessons
DESCRIPTION:For ABRACE members only. To learn more about ABRACE\, visit abracebrasil.org. Learn more about EducArte’s music program with ABRACE here.
URL:https://www.educarteinc.org/event/abrace-weekly-music-lessons-18/
LOCATION:McLean High School\, 1633 Davidson Rd\, McLean\, VA\, 22101\, United States
CATEGORIES:ABRACE,Workshops & Classes
ATTACH;FMTTYPE=image/jpeg:https://www.educarteinc.org/wp-content/uploads/2021/10/b5ebb84d-1367-4775-93f9-32d5aca38cc6.jpg
END:VEVENT
BEGIN:VEVENT
DTSTART;TZID=America/New_York:20211120T140000
DTEND;TZID=America/New_York:20211120T144500
DTSTAMP:20260425T181347
CREATED:20211027T171432Z
LAST-MODIFIED:20211119T134653Z
UID:10000132-1637416800-1637419500@www.educarteinc.org
SUMMARY:EducArte’s Brazilian Dance Workshop
DESCRIPTION:*****UPDATE: WE HAVE HAD TO MAKE A LAST MINUTE TEACHER SUBSTITUTION FOR THIS CLASS. Kate Spanos will be teaching frevo instead of Katie Kirkpatrick teaching samba. If you’ve never danced frevo\, it is a fun carnival dance from Recife\, and it will be taught for all levels! Learn more here: https://www.educarteinc.org/event/educartes-brazilian-dance-workshop-7/***** \nThis event is free and open to the public. While primarily intended for adults\, everyone is welcome. Please note that this workshop will be held at Old Parish House of College Park at 4711 Knox Road. \nLearn from Brazilian samba dancer Katie Kirkpatrick\, who has been performing and teaching in the DC area for over ten years. She has trained with some of the best samba experts in the country\, as well as from Brazil\, and specializes in choreography\, technique\, and stylings. Katie will demonstrate and teach the basics of samba dance. Also stay for our percussion ensemble workshop with André Coelho immediately following the dance workshop! \nThis is a regularly occurring Brazilian dance workshop hosted by EducArte. All levels are welcome to participate. \nThe event is a program of College Park-based arts non-profit EducArte. Special thanks to event sponsor\, the College Park Arts Exchange.
URL:https://www.educarteinc.org/event/educartes-brazilian-dance-workshop-5/
LOCATION:Old Parish House of College Park\, 4711 Knox Rd\, College Park\, MD\, 20740\, United States
CATEGORIES:Brazilian Dance Class Series,Workshops & Classes
ATTACH;FMTTYPE=image/jpeg:https://www.educarteinc.org/wp-content/uploads/2021/10/Katie-Kirkpatrick-samba-dance-workshop-1.jpg
ORGANIZER;CN="EducArte":MAILTO:educarte@educarteinc.org
END:VEVENT
BEGIN:VEVENT
DTSTART;TZID=America/New_York:20211120T150000
DTEND;TZID=America/New_York:20211120T163000
DTSTAMP:20260425T181347
CREATED:20211027T170149Z
LAST-MODIFIED:20211103T013239Z
UID:10000131-1637420400-1637425800@www.educarteinc.org
SUMMARY:EducArte’s Brazilian Percussion Workshop & Jam
DESCRIPTION:Learn from and jam with Brazilian samba master percussionist André Coelho from Rio de Janeiro. André will show and demonstrate each of the essential Brazilian percussion instruments. Participants will learn basic rhythms and the event will finish with a jam session. Also come early for our dance workshop with Katie Kirkpatrick immediately before the percussion ensemble! \nWe will have some percussion instruments\, like pandeiros\, tamborins\, and surdos for participants. But please bring your instrument if you have one. \nThis is a regularly occurring Brazilian percussion meetup. All levels are welcome to participate. \nThis event is free and open to the public. While primarily intended for adults\, everyone is welcome. Please note that this workshop will be held at Old Parish House of College Park at 4711 Knox Road. \nThe event is a program of College Park-based arts non-profit EducArte. Special thanks to event sponsor\, the College Park Arts Exchange.
URL:https://www.educarteinc.org/event/educartes-brazilian-percussion-workshop-jam-7/
LOCATION:Old Parish House of College Park\, 4711 Knox Rd\, College Park\, MD\, 20740\, United States
CATEGORIES:Brazilian Percussion Class Series,Workshops & Classes
ATTACH;FMTTYPE=image/jpeg:https://www.educarteinc.org/wp-content/uploads/2021/10/Andre-Coelho-Brazilian-percussion-ensemble.jpg
ORGANIZER;CN="EducArte":MAILTO:educarte@educarteinc.org
END:VEVENT
BEGIN:VEVENT
DTSTART;VALUE=DATE:20211130
DTEND;VALUE=DATE:20211201
DTSTAMP:20260425T181347
CREATED:20211101T154116Z
LAST-MODIFIED:20211104T172930Z
UID:10000138-1638230400-1638316799@www.educarteinc.org
SUMMARY:Giving Tuesday 2021
DESCRIPTION:GivingTuesday is a global day of generosity that will take place on November 30\, 2021. GivingTuesday was created in 2012 as a simple idea: a day that encourages people to do good. Over the past nine years\, this idea has grown into a global movement that inspires hundreds of millions of people to give\, collaborate\, and celebrate generosity. \nPeople can show their generosity in a variety of ways during GivingTuesday⁠⁠—whether it’s helping a neighbor\, advocating for an issue\, sharing a skill\, or giving to causes—everyone has something to give and every act of generosity counts. \nEven in times of economic uncertainty\, we each have a deep reserve of generosity\, which we can deploy in myriad ways to make a difference–your time\, your kindness\, your skills\, your voice are all things you can give in addition to charitable donations. \nEducArte appreciates any support you can offer\, at any giving level. Please consider giving to EducArte on this GivingTuesday through our donations page.
URL:https://www.educarteinc.org/event/giving-tuesday-2021/
ATTACH;FMTTYPE=image/png:https://www.educarteinc.org/wp-content/uploads/2021/11/stacked-color.png
END:VEVENT
END:VCALENDAR