BEGIN:VCALENDAR
VERSION:2.0
PRODID:-//EducArte - ECPv6.15.20//NONSGML v1.0//EN
CALSCALE:GREGORIAN
METHOD:PUBLISH
X-ORIGINAL-URL:https://www.educarteinc.org
X-WR-CALDESC:Events for EducArte
REFRESH-INTERVAL;VALUE=DURATION:PT1H
X-Robots-Tag:noindex
X-PUBLISHED-TTL:PT1H
BEGIN:VTIMEZONE
TZID:America/New_York
BEGIN:DAYLIGHT
TZOFFSETFROM:-0500
TZOFFSETTO:-0400
TZNAME:EDT
DTSTART:20200308T070000
END:DAYLIGHT
BEGIN:STANDARD
TZOFFSETFROM:-0400
TZOFFSETTO:-0500
TZNAME:EST
DTSTART:20201101T060000
END:STANDARD
BEGIN:DAYLIGHT
TZOFFSETFROM:-0500
TZOFFSETTO:-0400
TZNAME:EDT
DTSTART:20210314T070000
END:DAYLIGHT
BEGIN:STANDARD
TZOFFSETFROM:-0400
TZOFFSETTO:-0500
TZNAME:EST
DTSTART:20211107T060000
END:STANDARD
BEGIN:DAYLIGHT
TZOFFSETFROM:-0500
TZOFFSETTO:-0400
TZNAME:EDT
DTSTART:20220313T070000
END:DAYLIGHT
BEGIN:STANDARD
TZOFFSETFROM:-0400
TZOFFSETTO:-0500
TZNAME:EST
DTSTART:20221106T060000
END:STANDARD
END:VTIMEZONE
BEGIN:VEVENT
DTSTART;TZID=America/New_York:20211202T193000
DTEND;TZID=America/New_York:20211202T223000
DTSTAMP:20260425T152730
CREATED:20210815T202752Z
LAST-MODIFIED:20211103T013353Z
UID:10000087-1638473400-1638484200@www.educarteinc.org
SUMMARY:Pablo Regis Quartet at Mr. Henry's
DESCRIPTION:The Pablo Regis Quartet will play at Mr. Henry’s as part of “Groove Thursdays\,” a series featuring the best of Brazilian music in Washington\, DC.  \nMr. Henry’s is artist friendly and offers opportunities to many performers in this area. Make sure you get your seats early because ticket holders are always guaranteed to get the best seats in the house!
URL:https://www.educarteinc.org/event/pablo-regis-quartet-at-mr-henrys-5/
LOCATION:Mr. Henry’s\, 601 Pennsylvania Avenue SE\, Washington\, DC\, 20003\, United States
CATEGORIES:Concerts & Performances
ATTACH;FMTTYPE=image/png:https://www.educarteinc.org/wp-content/uploads/2021/08/Mr-Henrys-nao-deixe-o-samba-morrer-smaller.png
END:VEVENT
BEGIN:VEVENT
DTSTART;TZID=America/New_York:20211203T180000
DTEND;TZID=America/New_York:20211203T193000
DTSTAMP:20260425T152730
CREATED:20210910T202814Z
LAST-MODIFIED:20211205T131137Z
UID:10000114-1638554400-1638559800@www.educarteinc.org
SUMMARY:Choro Lecture Series: Pixinguinha and Black Contributions to Choro Music\, by Ceylon Mitchell
DESCRIPTION:Many of the early great composers and performers of the choro genre were Afro-Brazilians\, like Patapio Silva and Pixinguinha. In this lecture\, Ceylon Mitchell talks about Pixinguinha\, the father of Brazilian choro. Pixinguinha’s compositions and playing style are by far the most popular and have a heavy influence to this day. Ceylon will demonstrate Pixinguinha’s compositional innovations\, such as his use of counterpoint melody. \nThis is a free\, in-person\, and socially distanced event that will later be posted to EducArte’s YouTube page. EducArte follows all City of College Park\, Prince George’s County\, and Maryland State safety guidelines. \nAbout Ceylon Mitchell:\nCeylon Mitchell II is a contemporary classical flutist\, educator\, and entrepreneur on a mission to celebrate Black and Latinx voices in classical music. Originally from Anchorage\, Alaska\, he now resides in the Washington D.C. metropolitan area. After earning a Bachelor of Music (Woodwind Performance) and a Master of Music Education degree from Boston University\, he went on to earn a Master of Music Performance degree from the University of Maryland\, College Park. Ceylon is currently a Doctor of Musical Arts student under the tutelage of Dr. Sarah Frisof\, also at the University of Maryland\, College Park. Recent achievements include the Strathmore Artist in Residence Class of 2021\, a Prince George’s County Forty UNDER 40 Award in Arts & Humanities\, and a 2019 Prince George’s Arts and Humanities Council Artist Fellowship Grant. As part of the grant\, Ceylon and an acclaimed ensemble presented a classical crossover series of music performances during National Hispanic Heritage Month 2019\, exploring classical and popular flute music in the Latin American countries of Puerto Rico\, Cuba\, and Brazil. \nAn active freelance flutist and chamber musician\, Ceylon is committed to promoting traditionally marginalized communities. As a music educator\, Ceylon maintains a private studio in Maryland and serves as the Potomac Valley Youth Orchestra flute choir conductor. He previously served as a teaching artist with the Boston Flute Academy and as the director of the Boston University Flute Ensemble. Ceylon supports performing artists\, arts organizations\, and beyond with multimedia production and digital marketing consulting as the founder and co-owner of M3 | Mitchell Media & Marketing\, LLC. He is also an active arts advocate in the D.C. area\, serving as the marketing committee chair with the Umoja Flute Institute\, a junior board member of Washington Performing Arts\, a Professional Member of the Recording Academy Washington D.C. Chapter\, and Arts Advocates Network of Maryland (AAMN) member with Maryland Citizens for the Arts. Ceylon currently resides in Prince George’s County\, Maryland with his wife and two sons. \nThis final lecture in the Choro Lecture Series will be followed by a short performance/demonstration of choro music. \n\n \n\n \nThis project was made possible by a grant from Maryland Humanities\, with funding received from the Maryland Historical Trust in the Maryland Department of Planning. Maryland Humanities’ Grants Program is also supported by the National Endowment for the Humanities and private funders. Any views\, findings\, conclusions\, or recommendations expressed in this series do not necessarily represent those of Maryland Humanities\, Maryland Historical Trust\, Maryland Department of Planning\, or National Endowment for the Humanities. \nLearn more about the full Choro Lecture Series this fall.
URL:https://www.educarteinc.org/event/choro-lecture-series-pixinguinha-and-black-contributions-to-choro-music-by-ceylon-mitchell/
LOCATION:Old Parish House of College Park\, 4711 Knox Rd\, College Park\, MD\, 20740\, United States
CATEGORIES:Choro Lecture Series,Presentations
ATTACH;FMTTYPE=image/jpeg:https://www.educarteinc.org/wp-content/uploads/2021/09/Ceylon-Mitchell-1-scaled.jpg
ORGANIZER;CN="EducArte":MAILTO:educarte@educarteinc.org
END:VEVENT
BEGIN:VEVENT
DTSTART;TZID=America/New_York:20211204T103000
DTEND;TZID=America/New_York:20211204T120000
DTSTAMP:20260425T152730
CREATED:20211004T144943Z
LAST-MODIFIED:20211206T224826Z
UID:10000106-1638613800-1638619200@www.educarteinc.org
SUMMARY:ABRACE weekly music lessons
DESCRIPTION:For ABRACE members only. To learn more about ABRACE\, visit abracebrasil.org. Learn more about EducArte’s music program with ABRACE here.
URL:https://www.educarteinc.org/event/abrace-weekly-music-lessons-19/
LOCATION:McLean High School\, 1633 Davidson Rd\, McLean\, VA\, 22101\, United States
CATEGORIES:ABRACE,Workshops & Classes
ATTACH;FMTTYPE=image/jpeg:https://www.educarteinc.org/wp-content/uploads/2021/10/b5ebb84d-1367-4775-93f9-32d5aca38cc6.jpg
END:VEVENT
BEGIN:VEVENT
DTSTART;TZID=America/New_York:20211204T140000
DTEND;TZID=America/New_York:20211204T144500
DTSTAMP:20260425T152730
CREATED:20211027T205209Z
LAST-MODIFIED:20211103T013559Z
UID:10000135-1638626400-1638629100@www.educarteinc.org
SUMMARY:EducArte’s Brazilian Dance Workshop
DESCRIPTION:Learn samba from Zezeh\, Brazilian dancer\, teacher\, choreographer\, performer\, and healer from São Paulo with a mission to bring more joy to the world through art. Zezeh will demonstrate and teach the basics of samba dance.Also stay for our percussion ensemble workshop with André Coelho immediately following the dance workshop! \nThis is a regularly occurring Brazilian dance workshop hosted by EducArte. All levels are welcome to participate. \nThis event is free and open to the public. While primarily intended for adults\, everyone is welcome. Please note that this will be held at St. Andrew’s Episcopal Church at 4512 College Avenue in College Park\, MD. \nThe event is a program of College Park-based arts non-profit EducArte. Special thanks to event sponsor\, the College Park Arts Exchange.
URL:https://www.educarteinc.org/event/educartes-brazilian-dance-workshop-6/
LOCATION:St. Andrew’s Episcopal Church\, 4512 College Avenue\, College Park\, Maryland\, 20740
CATEGORIES:Brazilian Dance Class Series,Workshops & Classes
ATTACH;FMTTYPE=image/jpeg:https://www.educarteinc.org/wp-content/uploads/2021/10/Zezeh-Erika-Wilcox-Photography-1.jpg
ORGANIZER;CN="EducArte":MAILTO:educarte@educarteinc.org
END:VEVENT
BEGIN:VEVENT
DTSTART;TZID=America/New_York:20211204T150000
DTEND;TZID=America/New_York:20211204T163000
DTSTAMP:20260425T152730
CREATED:20211027T202904Z
LAST-MODIFIED:20211103T013741Z
UID:10000134-1638630000-1638635400@www.educarteinc.org
SUMMARY:EducArte’s Brazilian Percussion Workshop & Jam
DESCRIPTION:Learn from and jam with Brazilian samba master percussionist André Coelho from Rio de Janeiro. André will show and demonstrate each of the essential Brazilian percussion instruments. Participants will learn basic rhythms and the event will finish with a jam session. Also come early for our dance workshop with Kate Spanos immediately before the percussion ensemble! \nWe will have some percussion instruments\, like pandeiros\, tamborins\, and surdos for participants. But please bring your instrument if you have one. \nThis is a regularly occurring Brazilian percussion meetup. All levels are welcome to participate. \nThis event is free and open to the public. While primarily intended for adults\, everyone is welcome. Please note that this will be held at St. Andrew’s Episcopal Church at 4512 College Avenue in College Park\, MD. \nThe event is a program of College Park-based arts non-profit EducArte. Special thanks to event sponsor\, the College Park Arts Exchange.
URL:https://www.educarteinc.org/event/educartes-brazilian-percussion-workshop-jam-8/
LOCATION:St. Andrew’s Episcopal Church\, 4512 College Avenue\, College Park\, Maryland\, 20740
CATEGORIES:Brazilian Percussion Class Series,Workshops & Classes
ATTACH;FMTTYPE=image/jpeg:https://www.educarteinc.org/wp-content/uploads/2021/10/IMG_5936-scaled.jpg
ORGANIZER;CN="EducArte":MAILTO:educarte@educarteinc.org
END:VEVENT
BEGIN:VEVENT
DTSTART;TZID=America/New_York:20211211T103000
DTEND;TZID=America/New_York:20211211T120000
DTSTAMP:20260425T152730
CREATED:20211004T145021Z
LAST-MODIFIED:20211206T224814Z
UID:10000107-1639218600-1639224000@www.educarteinc.org
SUMMARY:ABRACE weekly music lessons
DESCRIPTION:For ABRACE members only. To learn more about ABRACE\, visit abracebrasil.org. Learn more about EducArte’s music program with ABRACE here.
URL:https://www.educarteinc.org/event/abrace-weekly-music-lessons-20/
LOCATION:McLean High School\, 1633 Davidson Rd\, McLean\, VA\, 22101\, United States
CATEGORIES:ABRACE,Workshops & Classes
ATTACH;FMTTYPE=image/jpeg:https://www.educarteinc.org/wp-content/uploads/2021/10/b5ebb84d-1367-4775-93f9-32d5aca38cc6.jpg
END:VEVENT
BEGIN:VEVENT
DTSTART;TZID=America/New_York:20211211T140000
DTEND;TZID=America/New_York:20211211T144500
DTSTAMP:20260425T152730
CREATED:20211030T203021Z
LAST-MODIFIED:20211103T013854Z
UID:10000137-1639231200-1639233900@www.educarteinc.org
SUMMARY:EducArte’s Brazilian Dance Workshop
DESCRIPTION:Learn the basics of Recife’s carnival dance\, frevo! Dancer and dance scholar Kate Spanos will demonstrate and teach frevo dance using the methodology of Mexe Com Tudo (Otávio Bastos) of Recife. Also stay for our percussion ensemble workshop with André Coelho immediately following the dance workshop! \nThis is a regularly occurring Brazilian dance workshop hosted by EducArte. All levels are welcome to participate. \nThis event is free and open to the public. While primarily intended for adults\, everyone is welcome. Please note that this workshop will be held at Old Parish House of College Park at 4711 Knox Road. \nThe event is a program of College Park-based arts non-profit EducArte. Special thanks to event sponsor\, the College Park Arts Exchange.
URL:https://www.educarteinc.org/event/educartes-brazilian-dance-workshop-7/
LOCATION:Old Parish House of College Park\, 4711 Knox Rd\, College Park\, MD\, 20740\, United States
CATEGORIES:Brazilian Dance Class Series,Workshops & Classes
ATTACH;FMTTYPE=image/jpeg:https://www.educarteinc.org/wp-content/uploads/2021/09/Frevo-Kennedy-Center-2021.jpg
ORGANIZER;CN="EducArte":MAILTO:educarte@educarteinc.org
END:VEVENT
BEGIN:VEVENT
DTSTART;TZID=America/New_York:20211211T150000
DTEND;TZID=America/New_York:20211211T163000
DTSTAMP:20260425T152730
CREATED:20211029T141016Z
LAST-MODIFIED:20211103T013946Z
UID:10000136-1639234800-1639240200@www.educarteinc.org
SUMMARY:EducArte’s Brazilian Percussion Workshop & Jam
DESCRIPTION:Learn from and jam with Brazilian samba master percussionist André Coelho from Rio de Janeiro. André will show and demonstrate each of the essential Brazilian percussion instruments. Participants will learn basic rhythms and the event will finish with a jam session. Also come early for our dance workshop with Zezeh immediately before the percussion ensemble! \nWe will have some percussion instruments\, like pandeiros\, tamborins\, and surdos for participants. But please bring your instrument if you have one. \nThis is a regularly occurring Brazilian percussion meetup. All levels are welcome to participate. \nThis event is free and open to the public. While primarily intended for adults\, everyone is welcome. Please note that this workshop will be held at Old Parish House of College Park at 4711 Knox Road. \nThe event is a program of College Park-based arts non-profit EducArte. Special thanks to event sponsor\, the College Park Arts Exchange.
URL:https://www.educarteinc.org/event/educartes-brazilian-percussion-workshop-jam-9/
LOCATION:Old Parish House of College Park\, 4711 Knox Rd\, College Park\, MD\, 20740\, United States
CATEGORIES:Brazilian Percussion Class Series,Workshops & Classes
ATTACH;FMTTYPE=image/jpeg:https://www.educarteinc.org/wp-content/uploads/2021/10/2021-10-23-Brazilian-percussion-ensemble-1.jpg
ORGANIZER;CN="EducArte":MAILTO:educarte@educarteinc.org
END:VEVENT
BEGIN:VEVENT
DTSTART;TZID=America/New_York:20211216T213000
DTEND;TZID=America/New_York:20211216T233000
DTSTAMP:20260425T152730
CREATED:20211025T150035Z
LAST-MODIFIED:20211103T014023Z
UID:10000113-1639690200-1639697400@www.educarteinc.org
SUMMARY:Pablo’s Baile at Bossa Bistro
DESCRIPTION:Pablo’s Baile occurs every third Thursday of the month at Bossa Bistro! An electrifying mix of percussion\, passion\, and Brazilian Portuguese\, Pablo’s Baile showcases the best of live Brazilian dance music\, including samba and forró. \n$10 at the door
URL:https://www.educarteinc.org/event/pablos-baile-at-bossa-bistro-6/
LOCATION:Bossa Bistro\, 2463 18th Street NW\, Washington\, DC\, 20009\, United States
CATEGORIES:Concerts & Performances
ATTACH;FMTTYPE=image/png:https://www.educarteinc.org/wp-content/uploads/2020/12/Pablo-cavaco-blue-2-2048x1360-1.png
END:VEVENT
END:VCALENDAR