BEGIN:VCALENDAR
VERSION:2.0
PRODID:-//EducArte - ECPv6.15.20//NONSGML v1.0//EN
CALSCALE:GREGORIAN
METHOD:PUBLISH
X-WR-CALNAME:EducArte
X-ORIGINAL-URL:https://www.educarteinc.org
X-WR-CALDESC:Events for EducArte
REFRESH-INTERVAL;VALUE=DURATION:PT1H
X-Robots-Tag:noindex
X-PUBLISHED-TTL:PT1H
BEGIN:VTIMEZONE
TZID:America/New_York
BEGIN:DAYLIGHT
TZOFFSETFROM:-0500
TZOFFSETTO:-0400
TZNAME:EDT
DTSTART:20210314T070000
END:DAYLIGHT
BEGIN:STANDARD
TZOFFSETFROM:-0400
TZOFFSETTO:-0500
TZNAME:EST
DTSTART:20211107T060000
END:STANDARD
BEGIN:DAYLIGHT
TZOFFSETFROM:-0500
TZOFFSETTO:-0400
TZNAME:EDT
DTSTART:20220313T070000
END:DAYLIGHT
BEGIN:STANDARD
TZOFFSETFROM:-0400
TZOFFSETTO:-0500
TZNAME:EST
DTSTART:20221106T060000
END:STANDARD
BEGIN:DAYLIGHT
TZOFFSETFROM:-0500
TZOFFSETTO:-0400
TZNAME:EDT
DTSTART:20230312T070000
END:DAYLIGHT
BEGIN:STANDARD
TZOFFSETFROM:-0400
TZOFFSETTO:-0500
TZNAME:EST
DTSTART:20231105T060000
END:STANDARD
END:VTIMEZONE
BEGIN:VEVENT
DTSTART;TZID=America/New_York:20220106T193000
DTEND;TZID=America/New_York:20220106T223000
DTSTAMP:20260425T141731
CREATED:20210815T202752Z
LAST-MODIFIED:20211228T191051Z
UID:10000210-1641497400-1641508200@www.educarteinc.org
SUMMARY:Pablo Regis Quartet at Mr. Henry's
DESCRIPTION:The Pablo Regis Quartet plays every first Thursday of the month at Mr. Henry’s as part of “Groove Thursdays\,” a series featuring the best of Brazilian music in Washington\, DC.  \nMr. Henry’s is artist friendly and offers opportunities to many performers in this area. Make sure you get your seats early because ticket holders are always guaranteed to get the best seats in the house! \nNote: Masks and proof of vaccination are required at Mr. Henry’s.
URL:https://www.educarteinc.org/event/pablo-regis-quartet-at-mr-henrys-5-2/
LOCATION:Mr. Henry’s\, 601 Pennsylvania Avenue SE\, Washington\, DC\, 20003\, United States
CATEGORIES:Concerts & Performances
ATTACH;FMTTYPE=image/png:https://www.educarteinc.org/wp-content/uploads/2021/08/Mr-Henrys-nao-deixe-o-samba-morrer-smaller.png
END:VEVENT
BEGIN:VEVENT
DTSTART;TZID=America/New_York:20220108T140000
DTEND;TZID=America/New_York:20220108T150000
DTSTAMP:20260425T141731
CREATED:20220103T184411Z
LAST-MODIFIED:20220103T184750Z
UID:10000157-1641650400-1641654000@www.educarteinc.org
SUMMARY:EducArte’s Brazilian Dance Workshop
DESCRIPTION:Learn samba from Zezeh\, Brazilian dancer\, teacher\, choreographer\, performer\, and healer from São Paulo with a mission to bring more joy to the world through art. Zezeh will demonstrate and teach the basics of samba dance. Also stay for our percussion ensemble workshop with André Coelho  immediately following the dance workshop! \nThis is a regularly occurring Brazilian dance workshop hosted by EducArte. All levels are welcome to participate. \nThis event is free and open to the public. While primarily intended for adults\, everyone is welcome. Please note that this workshop will be held at Old Parish House of College Park at 4711 Knox Road. \nPlease note that masks and proof of vaccination are required at this event. Please contact us if you have any questions or concerns. \nThe event is a program of College Park-based arts non-profit EducArte. Special thanks to event sponsor\, the College Park Arts Exchange.
URL:https://www.educarteinc.org/event/educartes-brazilian-dance-workshop-8/
CATEGORIES:Brazilian Dance Class Series
ATTACH;FMTTYPE=image/jpeg:https://www.educarteinc.org/wp-content/uploads/2022/01/2610_image-scaled.jpg
END:VEVENT
BEGIN:VEVENT
DTSTART;TZID=America/New_York:20220108T150000
DTEND;TZID=America/New_York:20220108T163000
DTSTAMP:20260425T141731
CREATED:20220103T184513Z
LAST-MODIFIED:20220103T185042Z
UID:10000118-1641654000-1641659400@www.educarteinc.org
SUMMARY:EducArte’s Brazilian Percussion Workshop & Jam
DESCRIPTION:Learn from and jam with Brazilian samba master percussionist André Coelho from Rio de Janeiro. André will show and demonstrate each of the essential Brazilian percussion instruments. Participants will learn basic rhythms and the event will finish with a jam session. Also come early for our dance workshop with Zezeh immediately before the percussion ensemble! \nWe will have some percussion instruments\, like pandeiros\, tamborins\, and surdos for participants. But please bring your instrument if you have one. \nThis is a regularly occurring Brazilian percussion meetup. All levels are welcome to participate. \nThis event is free and open to the public. While primarily intended for adults\, everyone is welcome. Please note that this workshop will be held at Old Parish House of College Park at 4711 Knox Road. \nPlease note that masks and proof of vaccination are required at this event. Please contact us if you have any questions or concerns. \nThe event is a program of College Park-based arts non-profit EducArte. Special thanks to event sponsor\, the College Park Arts Exchange.
URL:https://www.educarteinc.org/event/educartes-brazilian-percussion-workshop-jam-10/
CATEGORIES:Brazilian Percussion Class Series
ATTACH;FMTTYPE=image/jpeg:https://www.educarteinc.org/wp-content/uploads/2022/01/2613_image-scaled.jpg
END:VEVENT
BEGIN:VEVENT
DTSTART;TZID=America/New_York:20220120T213000
DTEND;TZID=America/New_York:20220120T233000
DTSTAMP:20260425T141731
CREATED:20211025T150035Z
LAST-MODIFIED:20220120T181254Z
UID:10000201-1642714200-1642721400@www.educarteinc.org
SUMMARY:Pablo’s Baile at Bossa Bistro
DESCRIPTION:Pablo’s Baile occurs every third Thursday of the month at Bossa Bistro! An electrifying mix of percussion\, passion\, and Brazilian Portuguese\, Pablo’s Baile showcases the best of live Brazilian dance music\, including samba and forró. \nPablo’s Baile was featured in Washington City Paper in December 2021! Check it out: City Lights—Pablo’s Baile Brings Brazil to Adams Morgan: https://washingtoncitypaper.​com/article/542825/city-lights-pablos-baile-brings-brazil-to-adams-morgan/ \n$10 at the door
URL:https://www.educarteinc.org/event/pablos-baile-at-bossa-bistro-6-2/
LOCATION:Bossa Bistro\, 2463 18th Street NW\, Washington\, DC\, 20009\, United States
CATEGORIES:Concerts & Performances,Pablo Regis
ATTACH;FMTTYPE=image/jpeg:https://www.educarteinc.org/wp-content/uploads/2021/12/Pablo-Regis-de-Oliveira-cavaco-2-web-Photo-by-Violetta-Markelou.jpg
END:VEVENT
BEGIN:VEVENT
DTSTART;TZID=America/New_York:20220122T140000
DTEND;TZID=America/New_York:20220122T150000
DTSTAMP:20260425T141731
CREATED:20220103T192319Z
LAST-MODIFIED:20220120T194336Z
UID:10000133-1642860000-1642863600@www.educarteinc.org
SUMMARY:EducArte’s Brazilian Dance Workshop CANCELLED
DESCRIPTION:Learn the basics of Recife’s carnival dance\, frevo! Dancer and dance scholar Kate Spanos will demonstrate and teach frevo dance using the methodology of Mexe Com Tudo (Otávio Bastos) of Recife. Also stay for our percussion ensemble workshop with André Coelho immediately following the dance workshop! \nThis is a regularly occurring Brazilian dance workshop hosted by EducArte. All levels are welcome to participate. \nThis event is free and open to the public. While primarily intended for adults\, everyone is welcome. Please note that this workshop will be held at Old Parish House of College Park at 4711 Knox Road. \nPlease note that masks and proof of vaccination are required at this event. Please contact us if you have any questions or concerns. \nThe event is a program of College Park-based arts non-profit EducArte. Special thanks to event sponsor\, the College Park Arts Exchange. \nUnfortunately we have to cancel this Saturday’s workshop due to unforeseen circumstances. We will announce a new date soon. Thank you for understanding.
URL:https://www.educarteinc.org/event/educartes-brazilian-dance-workshop-9/
CATEGORIES:Brazilian Dance Class Series
ATTACH;FMTTYPE=image/jpeg:https://www.educarteinc.org/wp-content/uploads/2022/01/2620_image-scaled.jpg
END:VEVENT
BEGIN:VEVENT
DTSTART;TZID=America/New_York:20220122T150000
DTEND;TZID=America/New_York:20220122T163000
DTSTAMP:20260425T141731
CREATED:20220103T192405Z
LAST-MODIFIED:20220120T194417Z
UID:10000200-1642863600-1642869000@www.educarteinc.org
SUMMARY:EducArte’s Brazilian Percussion Workshop & Jam CANCELLED
DESCRIPTION:Learn from and jam with Brazilian samba master percussionist André Coelho from Rio de Janeiro. André will show and demonstrate each of the essential Brazilian percussion instruments. Participants will learn basic rhythms and the event will finish with a jam session. Also come early for our dance workshop with Zezeh immediately before the percussion ensemble! \nWe will have some percussion instruments\, like pandeiros\, tamborins\, and surdos for participants. But please bring your instrument if you have one. \nThis is a regularly occurring Brazilian percussion meetup. All levels are welcome to participate. \nThis event is free and open to the public. While primarily intended for adults\, everyone is welcome. Please note that this workshop will be held at Old Parish House of College Park at 4711 Knox Road. \nPlease note that masks and proof of vaccination are required at this event. Please contact us if you have any questions or concerns. \nThe event is a program of College Park-based arts non-profit EducArte. Special thanks to event sponsor\, the College Park Arts Exchange. \nUnfortunately we have to cancel this Saturday’s workshop due to unforeseen circumstances. We will announce a new date soon. Thank you for understanding.
URL:https://www.educarteinc.org/event/educartes-brazilian-percussion-workshop-jam-11/
CATEGORIES:Brazilian Percussion Class Series
ATTACH;FMTTYPE=image/jpeg:https://www.educarteinc.org/wp-content/uploads/2022/01/2623_image.jpg
END:VEVENT
END:VCALENDAR