BEGIN:VCALENDAR
VERSION:2.0
PRODID:-//EducArte - ECPv6.15.20//NONSGML v1.0//EN
CALSCALE:GREGORIAN
METHOD:PUBLISH
X-ORIGINAL-URL:https://www.educarteinc.org
X-WR-CALDESC:Events for EducArte
REFRESH-INTERVAL;VALUE=DURATION:PT1H
X-Robots-Tag:noindex
X-PUBLISHED-TTL:PT1H
BEGIN:VTIMEZONE
TZID:America/New_York
BEGIN:DAYLIGHT
TZOFFSETFROM:-0500
TZOFFSETTO:-0400
TZNAME:EDT
DTSTART:20210314T070000
END:DAYLIGHT
BEGIN:STANDARD
TZOFFSETFROM:-0400
TZOFFSETTO:-0500
TZNAME:EST
DTSTART:20211107T060000
END:STANDARD
BEGIN:DAYLIGHT
TZOFFSETFROM:-0500
TZOFFSETTO:-0400
TZNAME:EDT
DTSTART:20220313T070000
END:DAYLIGHT
BEGIN:STANDARD
TZOFFSETFROM:-0400
TZOFFSETTO:-0500
TZNAME:EST
DTSTART:20221106T060000
END:STANDARD
BEGIN:DAYLIGHT
TZOFFSETFROM:-0500
TZOFFSETTO:-0400
TZNAME:EDT
DTSTART:20230312T070000
END:DAYLIGHT
BEGIN:STANDARD
TZOFFSETFROM:-0400
TZOFFSETTO:-0500
TZNAME:EST
DTSTART:20231105T060000
END:STANDARD
END:VTIMEZONE
BEGIN:VEVENT
DTSTART;TZID=America/New_York:20220203T193000
DTEND;TZID=America/New_York:20220203T223000
DTSTAMP:20260425T130344
CREATED:20210815T202752Z
LAST-MODIFIED:20220119T212621Z
UID:10000218-1643916600-1643927400@www.educarteinc.org
SUMMARY:Pablo Regis Roots Samba at Mr. Henry's
DESCRIPTION:Pablo Regis plays every first Thursday of the month at Mr. Henry’s as part of “Groove Thursdays\,” a series featuring the best of Brazilian music in Washington\, DC.\n\nMr. Henry’s is artist friendly and offers opportunities to many performers in this area. Make sure you get your seats early because ticket holders are always guaranteed to get the best seats in the house!\n\nNote: Masks and proof of vaccination are required at Mr. Henry’s.
URL:https://www.educarteinc.org/event/pablo-regis-quartet-at-mr-henrys-5-2-2/
LOCATION:Mr. Henry’s\, 601 Pennsylvania Avenue SE\, Washington\, DC\, 20003\, United States
CATEGORIES:Concerts & Performances,Pablo Regis
ATTACH;FMTTYPE=image/jpeg:https://www.educarteinc.org/wp-content/uploads/2021/08/2022-01-06-Pablo-at-Mr-Henrys-min-1.jpg
END:VEVENT
BEGIN:VEVENT
DTSTART;TZID=America/New_York:20220212T140000
DTEND;TZID=America/New_York:20220212T144500
DTSTAMP:20260425T130344
CREATED:20220103T184411Z
LAST-MODIFIED:20220129T183853Z
UID:10000221-1644674400-1644677100@www.educarteinc.org
SUMMARY:EducArte’s Brazilian Dance Workshop
DESCRIPTION:Learn samba from Zezeh\, Brazilian dancer\, teacher\, choreographer\, performer\, and healer from São Paulo with a mission to bring more joy to the world through art. Zezeh will demonstrate and teach the basics of samba dance. Also stay for our percussion ensemble workshop with André Coelho immediately following the dance workshop! \nThis is a regularly occurring Brazilian dance workshop hosted by EducArte. All levels are welcome to participate. \nThis event is free and open to the public. While primarily intended for adults\, everyone is welcome. Please note that this workshop will be held at Old Parish House of College Park at 4711 Knox Road. \nPlease note that masks and proof of vaccination are required at this event. Please contact us if you have any questions or concerns. \nThe event is a program of College Park-based arts non-profit EducArte. Special thanks to event sponsor\, the College Park Arts Exchange.
URL:https://www.educarteinc.org/event/educartes-brazilian-dance-workshop-8-2/
CATEGORIES:Brazilian Dance Class Series
ATTACH;FMTTYPE=image/jpeg:https://www.educarteinc.org/wp-content/uploads/2022/01/IMG_7076-1.jpg
END:VEVENT
BEGIN:VEVENT
DTSTART;TZID=America/New_York:20220212T150000
DTEND;TZID=America/New_York:20220212T163000
DTSTAMP:20260425T130344
CREATED:20220103T192405Z
LAST-MODIFIED:20220129T183747Z
UID:10000208-1644678000-1644683400@www.educarteinc.org
SUMMARY:EducArte’s Brazilian Percussion Workshop & Jam
DESCRIPTION:Learn from and jam with Brazilian samba master percussionist André Coelho from Rio de Janeiro. André will show and demonstrate each of the essential Brazilian percussion instruments. Participants will learn basic rhythms and the event will finish with a jam session. Also come early for our Brazilian dance workshop immediately before the percussion ensemble! \nWe will have some percussion instruments\, like pandeiros\, tamborins\, and surdos for participants. But please bring your instruments if you have any. \nThis is a regularly occurring Brazilian percussion meetup. All levels are welcome to participate. \nThis event is free and open to the public. While primarily intended for adults\, everyone is welcome. Please note that this workshop will be held at Old Parish House of College Park at 4711 Knox Road. \nPlease note that masks and proof of vaccination are required at this event. Please contact us if you have any questions or concerns. \nThe event is a program of College Park-based arts non-profit EducArte. Special thanks to event sponsor\, the College Park Arts Exchange.
URL:https://www.educarteinc.org/event/educartes-brazilian-percussion-workshop-jam-11-2/
CATEGORIES:Brazilian Percussion Class Series
ATTACH;FMTTYPE=image/jpeg:https://www.educarteinc.org/wp-content/uploads/2022/01/IMG_6416.jpg
END:VEVENT
BEGIN:VEVENT
DTSTART;TZID=America/New_York:20220217T213000
DTEND;TZID=America/New_York:20220217T233000
DTSTAMP:20260425T130344
CREATED:20211025T150035Z
LAST-MODIFIED:20220119T212615Z
UID:10000223-1645133400-1645140600@www.educarteinc.org
SUMMARY:Pablo’s Baile at Bossa Bistro
DESCRIPTION:Pablo’s Baile happens every third Thursday of the month at Bossa Bistro! An electrifying mix of percussion\, passion\, and Brazilian Portuguese\, Pablo’s Baile showcases the best of live Brazilian dance music\, including samba and forró.\n\nPablo’s Baile was featured in Washington City Paper in December 2021! Check it out: City Lights—Pablo’s Baile Brings Brazil to Adams Morgan\n\n$10 at the door
URL:https://www.educarteinc.org/event/pablos-baile-at-bossa-bistro-6-2-2/
LOCATION:Bossa Bistro\, 2463 18th Street NW\, Washington\, DC\, 20009\, United States
CATEGORIES:Concerts & Performances,Pablo Regis
ATTACH;FMTTYPE=image/jpeg:https://www.educarteinc.org/wp-content/uploads/2021/12/Pablo-Regis-de-Oliveira-cavaco-2-web-Photo-by-Violetta-Markelou.jpg
END:VEVENT
BEGIN:VEVENT
DTSTART;TZID=America/New_York:20220219T100000
DTEND;TZID=America/New_York:20220219T120000
DTSTAMP:20260425T130344
CREATED:20211004T145021Z
LAST-MODIFIED:20220222T192313Z
UID:10000228-1645264800-1645272000@www.educarteinc.org
SUMMARY:ABRACE weekly music lessons
DESCRIPTION:For ABRACE members only. To learn more about ABRACE\, visit abracebrasil.org. Learn more about EducArte’s music program with ABRACE here.
URL:https://www.educarteinc.org/event/abrace-weekly-music-lessons-20-2/
LOCATION:McLean High School\, 1633 Davidson Rd\, McLean\, VA\, 22101\, United States
CATEGORIES:ABRACE,Workshops & Classes
ATTACH;FMTTYPE=image/jpeg:https://www.educarteinc.org/wp-content/uploads/2021/10/b5ebb84d-1367-4775-93f9-32d5aca38cc6.jpg
END:VEVENT
BEGIN:VEVENT
DTSTART;TZID=America/New_York:20220226T100000
DTEND;TZID=America/New_York:20220226T120000
DTSTAMP:20260425T130344
CREATED:20211004T145021Z
LAST-MODIFIED:20220224T194622Z
UID:10000172-1645869600-1645876800@www.educarteinc.org
SUMMARY:ABRACE weekly music lessons
DESCRIPTION:For ABRACE members only. To learn more about ABRACE\, visit abracebrasil.org. Learn more about EducArte’s music program with ABRACE here.
URL:https://www.educarteinc.org/event/abrace-weekly-music-lessons-20-2-2/
LOCATION:McLean High School\, 1633 Davidson Rd\, McLean\, VA\, 22101\, United States
CATEGORIES:ABRACE,Workshops & Classes
END:VEVENT
BEGIN:VEVENT
DTSTART;TZID=America/New_York:20220226T140000
DTEND;TZID=America/New_York:20220226T144500
DTSTAMP:20260425T130344
CREATED:20220103T184411Z
LAST-MODIFIED:20220131T013122Z
UID:10000186-1645884000-1645886700@www.educarteinc.org
SUMMARY:EducArte’s Brazilian Dance Workshop
DESCRIPTION:Learn the basics of Recife’s carnival dance\, frevo! Dancer and dance scholar Kate Spanos will demonstrate and teach frevo dance using the methodology of Mexe Com Tudo (Otávio Bastos) of Recife. Also stay for our percussion ensemble workshop with André Coelho immediately following the dance workshop! \nThis is a regularly occurring Brazilian dance workshop hosted by EducArte. All levels are welcome to participate. \nThis event is free and open to the public. While primarily intended for adults\, everyone is welcome. Please note that this workshop will be held at Old Parish House of College Park at 4711 Knox Road. \nThe event is a program of College Park-based arts non-profit EducArte. Special thanks to event sponsor\, the College Park Arts Exchange.
URL:https://www.educarteinc.org/event/educartes-brazilian-dance-workshop-8-2-2-2/
CATEGORIES:Brazilian Dance Class Series
ATTACH;FMTTYPE=image/jpeg:https://www.educarteinc.org/wp-content/uploads/2022/01/IMG_8020_1-1.jpg
END:VEVENT
BEGIN:VEVENT
DTSTART;TZID=America/New_York:20220226T150000
DTEND;TZID=America/New_York:20220226T163000
DTSTAMP:20260425T130344
CREATED:20220103T192405Z
LAST-MODIFIED:20220129T185719Z
UID:10000152-1645887600-1645893000@www.educarteinc.org
SUMMARY:EducArte’s Brazilian Percussion Workshop & Jam
DESCRIPTION:Learn from and jam with Brazilian samba master percussionist André Coelho from Rio de Janeiro. André will show and demonstrate each of the essential Brazilian percussion instruments. Participants will learn basic rhythms and the event will finish with a jam session. Also come early for our Brazilian dance workshop immediately before the percussion ensemble! \nWe will have some percussion instruments\, like pandeiros\, tamborins\, and surdos for participants. But please bring your instruments if you have any. \nThis is a regularly occurring Brazilian percussion meetup. All levels are welcome to participate. \nThis event is free and open to the public. While primarily intended for adults\, everyone is welcome. Please note that this workshop will be held at Old Parish House of College Park at 4711 Knox Road. \nPlease note that masks and proof of vaccination are required at this event. Please contact us if you have any questions or concerns. \nThe event is a program of College Park-based arts non-profit EducArte. Special thanks to event sponsor\, the College Park Arts Exchange.
URL:https://www.educarteinc.org/event/educartes-brazilian-percussion-workshop-jam-11-2-2/
CATEGORIES:Brazilian Percussion Class Series
ATTACH;FMTTYPE=image/jpeg:https://www.educarteinc.org/wp-content/uploads/2022/01/IMG_6438.jpg
END:VEVENT
END:VCALENDAR