BEGIN:VCALENDAR
VERSION:2.0
PRODID:-//EducArte - ECPv6.15.20//NONSGML v1.0//EN
CALSCALE:GREGORIAN
METHOD:PUBLISH
X-ORIGINAL-URL:https://www.educarteinc.org
X-WR-CALDESC:Events for EducArte
REFRESH-INTERVAL;VALUE=DURATION:PT1H
X-Robots-Tag:noindex
X-PUBLISHED-TTL:PT1H
BEGIN:VTIMEZONE
TZID:America/New_York
BEGIN:DAYLIGHT
TZOFFSETFROM:-0500
TZOFFSETTO:-0400
TZNAME:EDT
DTSTART:20210314T070000
END:DAYLIGHT
BEGIN:STANDARD
TZOFFSETFROM:-0400
TZOFFSETTO:-0500
TZNAME:EST
DTSTART:20211107T060000
END:STANDARD
BEGIN:DAYLIGHT
TZOFFSETFROM:-0500
TZOFFSETTO:-0400
TZNAME:EDT
DTSTART:20220313T070000
END:DAYLIGHT
BEGIN:STANDARD
TZOFFSETFROM:-0400
TZOFFSETTO:-0500
TZNAME:EST
DTSTART:20221106T060000
END:STANDARD
BEGIN:DAYLIGHT
TZOFFSETFROM:-0500
TZOFFSETTO:-0400
TZNAME:EDT
DTSTART:20230312T070000
END:DAYLIGHT
BEGIN:STANDARD
TZOFFSETFROM:-0400
TZOFFSETTO:-0500
TZNAME:EST
DTSTART:20231105T060000
END:STANDARD
END:VTIMEZONE
BEGIN:VEVENT
DTSTART;TZID=America/New_York:20220402T190000
DTEND;TZID=America/New_York:20220402T220000
DTSTAMP:20260425T092856
CREATED:20211227T202041Z
LAST-MODIFIED:20260305T153534Z
UID:10000193-1648926000-1648936800@www.educarteinc.org
SUMMARY:Emerald Isle Céilí Club
DESCRIPTION:Traditional Irish céilí dance called by Kate Spanos\, with music by Peter Fitzgerald and the J. Patrick’s All-Stars. \nThe set list will be:\nWaltz\nSiege of Ennis\nRakes of Mallow\nWalls of Limerick \nBreak: Workshop for the Fairy Reel \nSix Hand Fairy Reel\nShoe the Donkey\nNorth Kerry Set \nBreak: Workshop for the Sweets of May \nSweets of May\nHaymaker’s Jig/Balleyvourney Jig Set\nConnemara Reel Set \nProof of vaccination and masks required. \nLearn more here: https://emeraldisleclub.com/ceili-april/
URL:https://www.educarteinc.org/event/emerald-isle-ceili-club-2/
LOCATION:Atlantic Ballroom\, 8819 Orchard Tree Lane\, Towson\, MD\, 21286\, United States
CATEGORIES:Workshops & Classes
END:VEVENT
BEGIN:VEVENT
DTSTART;TZID=America/New_York:20220407T193000
DTEND;TZID=America/New_York:20220407T223000
DTSTAMP:20260425T092856
CREATED:20210815T202752Z
LAST-MODIFIED:20220119T212557Z
UID:10000220-1649359800-1649370600@www.educarteinc.org
SUMMARY:Pablo Regis Roots Samba at Mr. Henry's
DESCRIPTION:Pablo Regis plays every first Thursday of the month at Mr. Henry’s as part of “Groove Thursdays\,” a series featuring the best of Brazilian music in Washington\, DC.\n\nMr. Henry’s is artist friendly and offers opportunities to many performers in this area. Make sure you get your seats early because ticket holders are always guaranteed to get the best seats in the house!\n\nNote: Masks and proof of vaccination are required at Mr. Henry’s.
URL:https://www.educarteinc.org/event/pablo-regis-quartet-at-mr-henrys-5-2-2-2-2/
LOCATION:Mr. Henry’s\, 601 Pennsylvania Avenue SE\, Washington\, DC\, 20003\, United States
CATEGORIES:Concerts & Performances,Pablo Regis
ATTACH;FMTTYPE=image/jpeg:https://www.educarteinc.org/wp-content/uploads/2021/08/2022-01-06-Pablo-at-Mr-Henrys-min-1.jpg
END:VEVENT
BEGIN:VEVENT
DTSTART;TZID=America/New_York:20220408T150000
DTEND;TZID=America/New_York:20220408T170000
DTSTAMP:20260425T092856
CREATED:20220429T194309Z
LAST-MODIFIED:20220525T130337Z
UID:10000256-1649430000-1649437200@www.educarteinc.org
SUMMARY:Spanish and bossa nova guitar performance (private)
DESCRIPTION:Private event. Want to hire us to perform or teach a workshops? Contact us.
URL:https://www.educarteinc.org/event/spanish-and-bossa-nova-guitar-performance-private/
CATEGORIES:Concerts & Performances
ATTACH;FMTTYPE=image/png:https://www.educarteinc.org/wp-content/uploads/2022/05/event-template-bg.png
ORGANIZER;CN="EducArte":MAILTO:educarte@educarteinc.org
END:VEVENT
BEGIN:VEVENT
DTSTART;TZID=America/New_York:20220409T100000
DTEND;TZID=America/New_York:20220409T120000
DTSTAMP:20260425T092856
CREATED:20211004T145021Z
LAST-MODIFIED:20220315T152222Z
UID:10000230-1649498400-1649505600@www.educarteinc.org
SUMMARY:ABRACE weekly music lessons
DESCRIPTION:For ABRACE members only. To learn more about ABRACE\, visit abracebrasil.org. Learn more about EducArte’s music program with ABRACE here.
URL:https://www.educarteinc.org/event/abrace-weekly-music-lessons-20-2-2-2-2-2-2/
LOCATION:McLean High School\, 1633 Davidson Rd\, McLean\, VA\, 22101\, United States
CATEGORIES:ABRACE,Workshops & Classes
ATTACH;FMTTYPE=image/jpeg:https://www.educarteinc.org/wp-content/uploads/2022/02/2022-02-28-photo-6.jpg
END:VEVENT
BEGIN:VEVENT
DTSTART;TZID=America/New_York:20220409T140000
DTEND;TZID=America/New_York:20220409T144500
DTSTAMP:20260425T092856
CREATED:20220103T184411Z
LAST-MODIFIED:20220406T225748Z
UID:10000140-1649512800-1649515500@www.educarteinc.org
SUMMARY:EducArte’s Brazilian Dance Workshop
DESCRIPTION:Learn samba from Zezeh\, Brazilian dancer\, teacher\, choreographer\, performer\, and healer from São Paulo with a mission to bring more joy to the world through art. Zezeh will demonstrate and teach the basics of samba dance. Also stay for our percussion ensemble workshop with André Coelho immediately following the dance workshop! \nThis is a regularly occurring Brazilian dance workshop hosted by EducArte. All levels are welcome to participate. \nThis event is free and open to the public. While primarily intended for adults\, everyone is welcome. Please note that this will be held in the outdoor courtyard at St. Andrew’s Episcopal Church at 4512 College Avenue in College Park\, MD. You can park in any of the parking lots behind the church—just turn onto Princetown Ave or Yale Ave to access the parking lots. We will meet outside behind the church at the circular labyrinth (looks like this: https://www.educarteinc.org/wp-content/uploads/2021/10/Brazilian-percussion-ensemble-St.-Andrews.jpg). \nThere is a chance of rain on Saturday so please check your email and our social media channels for updates in case of a weather cancellation. \nPlease note that masks and proof of vaccination are required at this event. Please contact us if you have any questions or concerns. \nThe event is a program of College Park-based arts non-profit EducArte. Special thanks to event sponsor\, the College Park Arts Exchange.
URL:https://www.educarteinc.org/event/educartes-brazilian-dance-workshop-8-2-2-3-2-3/
LOCATION:St. Andrew’s Episcopal Church\, 4512 College Avenue\, College Park\, Maryland\, 20740
CATEGORIES:Brazilian Dance Class Series
ATTACH;FMTTYPE=image/jpeg:https://www.educarteinc.org/wp-content/uploads/2022/01/IMG_7101-1.jpg
END:VEVENT
BEGIN:VEVENT
DTSTART;TZID=America/New_York:20220409T150000
DTEND;TZID=America/New_York:20220409T163000
DTSTAMP:20260425T092856
CREATED:20220103T192405Z
LAST-MODIFIED:20220406T225852Z
UID:10000142-1649516400-1649521800@www.educarteinc.org
SUMMARY:EducArte’s Brazilian Percussion Workshop & Jam
DESCRIPTION:Learn from and jam with Brazilian samba master percussionist André Coelho from Rio de Janeiro. André will show and demonstrate each of the essential Brazilian percussion instruments. Participants will learn basic rhythms and the event will finish with a jam session. Also come early for our Brazilian dance workshop immediately before the percussion ensemble! \nWe will have some percussion instruments\, like pandeiros\, tamborins\, and surdos for participants. But please bring your instruments if you have any. \nThis is a regularly occurring Brazilian percussion meetup. All levels are welcome to participate. \nThis event is free and open to the public. While primarily intended for adults\, everyone is welcome. Please note that this workshop will be held at St. Andrew’s Episcopal Church at 4512 College Avenue in College Park\, MD. You can park in any of the parking lots behind the church—just turn onto Princetown Ave or Yale Ave to access the parking lots. We will meet outside behind the church at the circular labyrinth (looks like this: https://www.educarteinc.org/wp-content/uploads/2021/10/Brazilian-percussion-ensemble-St.-Andrews.jpg). \nThere is a chance of rain on Saturday so please check your email and our social media channels for updates in case of a weather cancellation.  \nPlease note that masks and proof of vaccination are required at this event. Please contact us if you have any questions or concerns. \nThe event is a program of College Park-based arts non-profit EducArte. Special thanks to event sponsor\, the College Park Arts Exchange.
URL:https://www.educarteinc.org/event/educartes-brazilian-percussion-workshop-jam-11-2-2-2-2-2-3/
LOCATION:St. Andrew’s Episcopal Church\, 4512 College Avenue\, College Park\, Maryland\, 20740
CATEGORIES:Brazilian Percussion Class Series
ATTACH;FMTTYPE=image/jpeg:https://www.educarteinc.org/wp-content/uploads/2022/01/IMG_6416-1.jpg
END:VEVENT
BEGIN:VEVENT
DTSTART;TZID=America/New_York:20220421T213000
DTEND;TZID=America/New_York:20220421T233000
DTSTAMP:20260425T092856
CREATED:20211025T150035Z
LAST-MODIFIED:20220119T212552Z
UID:10000225-1650576600-1650583800@www.educarteinc.org
SUMMARY:Pablo’s Baile at Bossa Bistro
DESCRIPTION:Pablo’s Baile happens every third Thursday of the month at Bossa Bistro! An electrifying mix of percussion\, passion\, and Brazilian Portuguese\, Pablo’s Baile showcases the best of live Brazilian dance music\, including samba and forró.\n\nPablo’s Baile was featured in Washington City Paper in December 2021! Check it out: City Lights—Pablo’s Baile Brings Brazil to Adams Morgan\n\n$10 at the door
URL:https://www.educarteinc.org/event/pablos-baile-at-bossa-bistro-6-2-2-2-2/
LOCATION:Bossa Bistro\, 2463 18th Street NW\, Washington\, DC\, 20009\, United States
CATEGORIES:Concerts & Performances,Pablo Regis
ATTACH;FMTTYPE=image/jpeg:https://www.educarteinc.org/wp-content/uploads/2021/12/Pablo-Regis-de-Oliveira-cavaco-2-web-Photo-by-Violetta-Markelou.jpg
END:VEVENT
BEGIN:VEVENT
DTSTART;TZID=America/New_York:20220422T150000
DTEND;TZID=America/New_York:20220422T163000
DTSTAMP:20260425T092856
CREATED:20220429T194811Z
LAST-MODIFIED:20220525T130327Z
UID:10000257-1650639600-1650645000@www.educarteinc.org
SUMMARY:Spanish and bossa nova guitar performance (private)
DESCRIPTION:Private event. Want to hire us to perform or teach a workshops? Contact us.
URL:https://www.educarteinc.org/event/spanish-and-bossa-nova-guitar-performance-private-2/
CATEGORIES:Concerts & Performances
ATTACH;FMTTYPE=image/png:https://www.educarteinc.org/wp-content/uploads/2022/05/event-template-bg.png
ORGANIZER;CN="EducArte":MAILTO:educarte@educarteinc.org
END:VEVENT
BEGIN:VEVENT
DTSTART;TZID=America/New_York:20220423T100000
DTEND;TZID=America/New_York:20220423T120000
DTSTAMP:20260425T092856
CREATED:20211004T145021Z
LAST-MODIFIED:20220316T221619Z
UID:10000185-1650708000-1650715200@www.educarteinc.org
SUMMARY:ABRACE weekly music lessons
DESCRIPTION:For ABRACE members only. To learn more about ABRACE\, visit abracebrasil.org. Learn more about EducArte’s music program with ABRACE here.
URL:https://www.educarteinc.org/event/abrace-weekly-music-lessons-20-2-2-2-2-2-2-2/
LOCATION:McLean High School\, 1633 Davidson Rd\, McLean\, VA\, 22101\, United States
CATEGORIES:ABRACE,Workshops & Classes
ATTACH;FMTTYPE=image/jpeg:https://www.educarteinc.org/wp-content/uploads/2022/02/2022-02-28-photo-6.jpg
END:VEVENT
BEGIN:VEVENT
DTSTART;TZID=America/New_York:20220423T140000
DTEND;TZID=America/New_York:20220423T144500
DTSTAMP:20260425T092856
CREATED:20220103T184411Z
LAST-MODIFIED:20220201T031922Z
UID:10000188-1650722400-1650725100@www.educarteinc.org
SUMMARY:EducArte’s Brazilian Dance Workshop
DESCRIPTION:Learn the basics of Recife’s carnival dance\, frevo! Dancer and dance scholar Kate Spanos will demonstrate and teach frevo dance using the methodology of Mexe Com Tudo (Otávio Bastos) of Recife. Also stay for our percussion ensemble workshop with André Coelho immediately following the dance workshop!\n\nThis is a regularly occurring Brazilian dance workshop hosted by EducArte. All levels are welcome to participate.\n\nThis event is free and open to the public. While primarily intended for adults\, everyone is welcome. Please note that this workshop will be held at Old Parish House of College Park at 4711 Knox Road.\n\nThe event is a program of College Park-based arts non-profit EducArte. Special thanks to event sponsor\, the College Park Arts Exchange.
URL:https://www.educarteinc.org/event/educartes-brazilian-dance-workshop-8-2-2-3/
CATEGORIES:Brazilian Dance Class Series
ATTACH;FMTTYPE=image/jpeg:https://www.educarteinc.org/wp-content/uploads/2022/01/IMG_8020_1-2.jpg
END:VEVENT
BEGIN:VEVENT
DTSTART;TZID=America/New_York:20220423T150000
DTEND;TZID=America/New_York:20220423T163000
DTSTAMP:20260425T092856
CREATED:20220103T192405Z
LAST-MODIFIED:20220201T032719Z
UID:10000189-1650726000-1650731400@www.educarteinc.org
SUMMARY:EducArte’s Brazilian Percussion Workshop & Jam
DESCRIPTION:Learn from and jam with Brazilian samba master percussionist André Coelho from Rio de Janeiro. André will show and demonstrate each of the essential Brazilian percussion instruments. Participants will learn basic rhythms and the event will finish with a jam session. Also come early for our Brazilian dance workshop immediately before the percussion ensemble! \nWe will have some percussion instruments\, like pandeiros\, tamborins\, and surdos for participants. But please bring your instruments if you have any. \nThis is a regularly occurring Brazilian percussion meetup. All levels are welcome to participate. \nThis event is free and open to the public. While primarily intended for adults\, everyone is welcome. Please note that this workshop will be held at Old Parish House of College Park at 4711 Knox Road. \nPlease note that masks and proof of vaccination are required at this event. Please contact us if you have any questions or concerns. \nThe event is a program of College Park-based arts non-profit EducArte. Special thanks to event sponsor\, the College Park Arts Exchange.
URL:https://www.educarteinc.org/event/educartes-brazilian-percussion-workshop-jam-11-2-2-2-2-2/
CATEGORIES:Brazilian Percussion Class Series
ATTACH;FMTTYPE=image/jpeg:https://www.educarteinc.org/wp-content/uploads/2022/01/IMG_6438-1.jpg
END:VEVENT
BEGIN:VEVENT
DTSTART;TZID=America/New_York:20220427T150000
DTEND;TZID=America/New_York:20220427T170000
DTSTAMP:20260425T092856
CREATED:20220429T194944Z
LAST-MODIFIED:20220525T130317Z
UID:10000258-1651071600-1651078800@www.educarteinc.org
SUMMARY:Spanish and bossa nova guitar performance (private)
DESCRIPTION:Private event. Want to hire us to perform or teach a workshops? Contact us.
URL:https://www.educarteinc.org/event/spanish-and-bossa-nova-guitar-performance-private-3/
CATEGORIES:Concerts & Performances
ATTACH;FMTTYPE=image/png:https://www.educarteinc.org/wp-content/uploads/2022/05/event-template-bg.png
ORGANIZER;CN="EducArte":MAILTO:educarte@educarteinc.org
END:VEVENT
BEGIN:VEVENT
DTSTART;TZID=America/New_York:20220429T110000
DTEND;TZID=America/New_York:20220429T120000
DTSTAMP:20260425T092856
CREATED:20220429T200437Z
LAST-MODIFIED:20220505T131039Z
UID:10000259-1651230000-1651233600@www.educarteinc.org
SUMMARY:Capoeira workshop and performance (private)
DESCRIPTION:Private event. Want to hire us to perform or teach a workshops? Contact us.
URL:https://www.educarteinc.org/event/capoeira-workshop-and-performance-private/
CATEGORIES:Concerts & Performances,Workshops & Classes
ORGANIZER;CN="EducArte":MAILTO:educarte@educarteinc.org
END:VEVENT
BEGIN:VEVENT
DTSTART;TZID=America/New_York:20220430T100000
DTEND;TZID=America/New_York:20220430T120000
DTSTAMP:20260425T092856
CREATED:20211004T145021Z
LAST-MODIFIED:20220316T221737Z
UID:10000143-1651312800-1651320000@www.educarteinc.org
SUMMARY:ABRACE weekly music lessons
DESCRIPTION:For ABRACE members only. To learn more about ABRACE\, visit abracebrasil.org. Learn more about EducArte’s music program with ABRACE here.
URL:https://www.educarteinc.org/event/abrace-weekly-music-lessons-20-2-2-2-2-2-2-2-2/
LOCATION:McLean High School\, 1633 Davidson Rd\, McLean\, VA\, 22101\, United States
CATEGORIES:ABRACE,Workshops & Classes
ATTACH;FMTTYPE=image/jpeg:https://www.educarteinc.org/wp-content/uploads/2022/02/2022-02-28-photo-6.jpg
END:VEVENT
BEGIN:VEVENT
DTSTART;TZID=America/New_York:20220430T200000
DTEND;TZID=America/New_York:20220430T220000
DTSTAMP:20260425T092856
CREATED:20220308T220814Z
LAST-MODIFIED:20220407T150627Z
UID:10000156-1651348800-1651356000@www.educarteinc.org
SUMMARY:Roberto Carlos at DAR Constitution Hall
DESCRIPTION:On Saturday 30th April 2022\, Washington will be the heart of Latin Music when the breathtaking Roberto Carlos comes to the DAR Constitution Hall for a live concert. If you get your tickets here\, you’ll get to see the awe inspiring stylings of one of the ultimate musicians in Latin music today. You’ll fall in love with their one-of-a-kind voice and will never forget this show as it takes over Washington for one-night-only. But don’t delay\, because Roberto Carlos has a history of playing to sold out crowds\, and fans are already lining up to order their tickets. Order yours here by clicking the Buy Tickets button below. \nThis concert is presented and produced by DAR Constitution Hall.
URL:https://www.educarteinc.org/event/roberto-carlos-at-dar-constitution-hall/
LOCATION:DAR Constitution Hall\, 1776 D Street NW\, Washington\, 20006\, United States
CATEGORIES:Concerts & Performances
ATTACH;FMTTYPE=image/jpeg:https://www.educarteinc.org/wp-content/uploads/2022/03/Image-Roberto-Carlos-2022-Tour-2.jpg
END:VEVENT
END:VCALENDAR