BEGIN:VCALENDAR
VERSION:2.0
PRODID:-//EducArte - ECPv6.15.20//NONSGML v1.0//EN
CALSCALE:GREGORIAN
METHOD:PUBLISH
X-WR-CALNAME:EducArte
X-ORIGINAL-URL:https://www.educarteinc.org
X-WR-CALDESC:Events for EducArte
REFRESH-INTERVAL;VALUE=DURATION:PT1H
X-Robots-Tag:noindex
X-PUBLISHED-TTL:PT1H
BEGIN:VTIMEZONE
TZID:America/New_York
BEGIN:DAYLIGHT
TZOFFSETFROM:-0500
TZOFFSETTO:-0400
TZNAME:EDT
DTSTART:20210314T070000
END:DAYLIGHT
BEGIN:STANDARD
TZOFFSETFROM:-0400
TZOFFSETTO:-0500
TZNAME:EST
DTSTART:20211107T060000
END:STANDARD
BEGIN:DAYLIGHT
TZOFFSETFROM:-0500
TZOFFSETTO:-0400
TZNAME:EDT
DTSTART:20220313T070000
END:DAYLIGHT
BEGIN:STANDARD
TZOFFSETFROM:-0400
TZOFFSETTO:-0500
TZNAME:EST
DTSTART:20221106T060000
END:STANDARD
BEGIN:DAYLIGHT
TZOFFSETFROM:-0500
TZOFFSETTO:-0400
TZNAME:EDT
DTSTART:20230312T070000
END:DAYLIGHT
BEGIN:STANDARD
TZOFFSETFROM:-0400
TZOFFSETTO:-0500
TZNAME:EST
DTSTART:20231105T060000
END:STANDARD
END:VTIMEZONE
BEGIN:VEVENT
DTSTART;TZID=America/New_York:20220813T090000
DTEND;TZID=America/New_York:20220817T220000
DTSTAMP:20260423T113013
CREATED:20220301T182304Z
LAST-MODIFIED:20260305T153620Z
UID:10000197-1660381200-1660773600@www.educarteinc.org
SUMMARY:14th Annual UkeFest at Strathmore
DESCRIPTION:Register for Strathmore’s 14th Annual UkeFest\, where EducArte’s executive director and co-founder Pablo Regis will be teaching cavaquinho (Brazilian style ukulele). \nIt’s not too early to plan a strummer of a summer learning (or perfecting) your ukulele skills! UkeFest Artistic Directors Cathy Fink and Marcy Marxer return along with Herb Ohta\, Jr.\, Daniel Ward\, Eve Goldberg\, and more extraordinary instructors for five days dedicated to this small-but-mighty music maker. Registration includes 8 hours of skill-based classes\, 5 hours of choose-your-own classes\, jam sessions\, admission to the student and instructor showcases\, and a grand finale Live from the Lawn performance. For those looking for intensive skill development\, Strathmore’s UkeFest is the only program of its kind that offers an advanced track. \nSaturday\, August 13 to Wednesday\, August 17\nAt the Strathmore Mansion\nEarly bird: $468 by May 15\nRegular: $488 May 16 and later\nRegistration closes August 8 \nINCLUDED IN TUITION:\n8 hours of skill-based classes\n5 hours of Choose Your Own class sessions\nJam sessions and ensemble work \n2022 INSTRUCTORS: \nCathy Fink\nMarcy Marxer\nHerb Ohta\, Jr.\nDaniel Ward\nEve Goldberg\nPablo Regis\nMaureen Andary \nLearn more and register now
URL:https://www.educarteinc.org/event/14th-annual-ukefest-at-strathmore/
LOCATION:Strathmore\, 5301 Tuckerman Lane\, Bethesda\, MD\, 20852\, United States
CATEGORIES:Workshops & Classes
END:VEVENT
BEGIN:VEVENT
DTSTART;TZID=America/New_York:20220813T140000
DTEND;TZID=America/New_York:20220813T145000
DTSTAMP:20260423T113013
CREATED:20220605T002924Z
LAST-MODIFIED:20220706T141959Z
UID:10000272-1660399200-1660402200@www.educarteinc.org
SUMMARY:EducArte’s Brazilian Dance Class
DESCRIPTION:This is a regularly occurring Brazilian dance workshop hosted by EducArte. All levels are welcome to participate. \nLearn the basics of Recife’s carnival dance\, frevo! Dancer and dance scholar Kate Spanos will demonstrate and teach frevo dance using the methodology of Mexe Com Tudo (Otávio Bastos) of Recife. Also stay for our percussion ensemble workshop with André Coelho immediately following the dance workshop! \nThis is a regularly occurring Brazilian dance workshop hosted by EducArte. All levels are welcome to participate. \nThis event is free and open to the public. While primarily intended for adults\, everyone is welcome. Please note that this workshop will be held at Old Parish House of College Park at 4711 Knox Road. \nThe event is a program of College Park-based arts non-profit EducArte. Special thanks to event sponsor\, the College Park Arts Exchange.
URL:https://www.educarteinc.org/event/educartes-brazilian-dance-class-aug-13/
CATEGORIES:Brazilian Dance Class Series
ATTACH;FMTTYPE=image/jpeg:https://www.educarteinc.org/wp-content/uploads/2022/06/4083_image-1-scaled.jpg
END:VEVENT
BEGIN:VEVENT
DTSTART;TZID=America/New_York:20220813T150000
DTEND;TZID=America/New_York:20220813T163000
DTSTAMP:20260423T113013
CREATED:20220103T192405Z
LAST-MODIFIED:20220706T142352Z
UID:10000273-1660402800-1660408200@www.educarteinc.org
SUMMARY:EducArte’s Brazilian Percussion Practice
DESCRIPTION:Learn from Brazilian samba master percussionist André Coelho from Rio de Janeiro! André will show and demonstrate each of the essential Brazilian samba percussion instruments. We will have some percussion instruments available for participants to use\, but please bring your own instruments if you have any. \nThis is a regularly occurring Brazilian percussion ensemble practice. All levels are welcome to participate; while primarily intended for adults\, all ages are welcome. \nThis event is free and open to the public at the Old Parish House of College Park at 4711 Knox Road. \nThe event is a program of College Park-based arts non-profit EducArte. Special thanks to event sponsor\, the College Park Arts Exchange.
URL:https://www.educarteinc.org/event/educartes-brazilian-percussion-practice-aug-13/
CATEGORIES:Brazilian Percussion Class Series
ATTACH;FMTTYPE=image/jpeg:https://www.educarteinc.org/wp-content/uploads/2022/05/IMG_8285-scaled.jpg
END:VEVENT
BEGIN:VEVENT
DTSTART;TZID=America/New_York:20220813T183000
DTEND;TZID=America/New_York:20220813T200000
DTSTAMP:20260423T113013
CREATED:20220607T134211Z
LAST-MODIFIED:20220607T134320Z
UID:10000306-1660415400-1660420800@www.educarteinc.org
SUMMARY:8/13 Pablo Regis at Strathmore's UkeFest
DESCRIPTION:Join us at Strathmore’s UkeFest for an evening performance by both professional and amateur ukulele players\, including UkeFest faculty member and EducArte executive director Pablo Regis (cavaquinho). The programs starts with a half-hour open mic for UkeFest students followed by an amazing lineup of our esteemed instructors. \n  \nLineup:\n6:30pm: Open Mic (UkeFest students)\n7:00pm:\nHerb Ohta\, Jr.\nEve Goldberg\nPablo Regis
URL:https://www.educarteinc.org/event/pablo-regis-at-strathmores-ukefest-aug-13/
LOCATION:Strathmore\, 5301 Tuckerman Lane\, Bethesda\, MD\, 20852\, United States
CATEGORIES:Concerts & Performances,Pablo Regis
ATTACH;FMTTYPE=image/jpeg:https://www.educarteinc.org/wp-content/uploads/2021/12/Pablo-Regis-de-Oliveira-cavaco-2-web-Photo-by-Violetta-Markelou.jpg
END:VEVENT
BEGIN:VEVENT
DTSTART;TZID=America/New_York:20220818T213000
DTEND;TZID=America/New_York:20220818T233000
DTSTAMP:20260423T113013
CREATED:20211025T150035Z
LAST-MODIFIED:20220517T190310Z
UID:10000234-1660858200-1660865400@www.educarteinc.org
SUMMARY:8/18 Pablo's Baile - Bossa Bistro
DESCRIPTION:Pablo’s Baile happens every third Thursday of the month at Bossa Bistro! An electrifying mix of percussion\, passion\, and Brazilian Portuguese\, Pablo’s Baile showcases the best of live Brazilian dance music\, including samba and forró.\n \nPablo’s Baile was featured in Washington City Paper in December 2021! Check it out: City Lights—Pablo’s Baile Brings Brazil to Adams Morgan\n \n$10 at the door
URL:https://www.educarteinc.org/event/pablos-baile-august-2022/
LOCATION:Bossa Bistro\, 2463 18th Street NW\, Washington\, DC\, 20009\, United States
CATEGORIES:Concerts & Performances,Pablo Regis
ATTACH;FMTTYPE=image/jpeg:https://www.educarteinc.org/wp-content/uploads/2021/12/Pablo-Regis-de-Oliveira-cavaco-2-web-Photo-by-Violetta-Markelou.jpg
END:VEVENT
BEGIN:VEVENT
DTSTART;TZID=America/New_York:20220820T170000
DTEND;TZID=America/New_York:20220820T220000
DTSTAMP:20260423T113013
CREATED:20220512T022330Z
LAST-MODIFIED:20220512T022330Z
UID:10000233-1661014800-1661032800@www.educarteinc.org
SUMMARY:Samba concert at Prince George's Community Pool (private\, for pool members only)
DESCRIPTION:Private event. Want to hire us to perform or teach a workshop? Contact us.
URL:https://www.educarteinc.org/event/privatepoolconcert/
LOCATION:Prince George’s Community Pool\, 3301 Buchanan Street\, Mt. Rainier\, MD
ATTACH;FMTTYPE=image/png:https://www.educarteinc.org/wp-content/uploads/2022/05/event-template-bg.png
END:VEVENT
BEGIN:VEVENT
DTSTART;TZID=America/New_York:20220827T140000
DTEND;TZID=America/New_York:20220827T145000
DTSTAMP:20260423T113013
CREATED:20220605T002924Z
LAST-MODIFIED:20220706T162232Z
UID:10000274-1661608800-1661611800@www.educarteinc.org
SUMMARY:EducArte’s Brazilian Dance Class
DESCRIPTION:Learn samba dance from Sonia Pessoa\, a native of Bahia\, Brazil\, the first home of samba. Sonia is an authentic sambista\, with her charismatic smile\, unique hip movements\, and long\, expressive arms. She spreads charm and vibrant energy to those who watch her. She has been dancing professionally and teaching the art and magic of samba for more than 18 years. \nSonia will demonstrate and teach the basics of samba dance. Also stay for our percussion ensemble workshop with André Coelho immediately following the dance workshop! \nThis is a regularly occurring Brazilian dance workshop hosted by EducArte. All levels are welcome to participate. \nThis event is free and open to the public. While primarily intended for adults\, everyone is welcome. Please note that this workshop will be held at Old Parish House of College Park at 4711 Knox Road. \nThe event is a program of College Park-based arts non-profit EducArte. Special thanks to event sponsor\, the College Park Arts Exchange.
URL:https://www.educarteinc.org/event/educartes-brazilian-dance-class-aug-27/
CATEGORIES:Brazilian Dance Class Series
ATTACH;FMTTYPE=image/jpeg:https://www.educarteinc.org/wp-content/uploads/2022/06/Sonia-Pessoa.jpg
END:VEVENT
BEGIN:VEVENT
DTSTART;TZID=America/New_York:20220827T150000
DTEND;TZID=America/New_York:20220827T163000
DTSTAMP:20260423T113013
CREATED:20220103T192405Z
LAST-MODIFIED:20220706T163259Z
UID:10000275-1661612400-1661617800@www.educarteinc.org
SUMMARY:EducArte’s Brazilian Percussion Practice
DESCRIPTION:Learn from Brazilian samba master percussionist André Coelho from Rio de Janeiro! André will show and demonstrate each of the essential Brazilian samba percussion instruments. We will have some percussion instruments available for participants to use\, but please bring your own instruments if you have any. \nThis is a regularly occurring Brazilian percussion ensemble practice. All levels are welcome to participate; while primarily intended for adults\, all ages are welcome. \nThis event is free and open to the public at the Old Parish House of College Park at 4711 Knox Road. \nThe event is a program of College Park-based arts non-profit EducArte. Special thanks to event sponsor\, the College Park Arts Exchange.
URL:https://www.educarteinc.org/event/educartes-brazilian-percussion-practice-aug-27/
CATEGORIES:Brazilian Percussion Class Series
ATTACH;FMTTYPE=image/jpeg:https://www.educarteinc.org/wp-content/uploads/2022/05/IMG_8285-scaled.jpg
END:VEVENT
BEGIN:VEVENT
DTSTART;TZID=America/New_York:20220828T140000
DTEND;TZID=America/New_York:20220828T144500
DTSTAMP:20260423T113013
CREATED:20220428T170627Z
LAST-MODIFIED:20220823T203439Z
UID:10000254-1661695200-1661697900@www.educarteinc.org
SUMMARY:Pablo Regis Quartet at National Folk Festival
DESCRIPTION:The Pablo Regis Quartet performs Brazilian music as part of the National Folk Festival in Salisbury\, MD\, organized by the National Council for the Traditional Arts. Pablo is joined on stage by Felipe Hostins (accordion)\, Lucas Ashby (drums/percussion)\, and Jon Steele (bass). \nA Great American Festival Comes to Maryland’s Historic Eastern Shore\nMake your plans now to join us in Salisbury\, Maryland\, for the National Folk Festival—one of America’s largest\, most prestigious and longest-running celebrations of arts\, culture\, and heritage. \nA free\, large-scale three-day outdoor event\, the National Folk Festival celebrates the roots\, richness and variety of American culture. It features over 350 of the nation’s finest traditional musicians\, dancers\, craftspeople and other keepers of culture in performances\, workshops\, and demonstrations\, plus children’s activities\, savory regional and ethnic cuisines and craft brews\, non-stop participatory dancing\, storytelling\, parades\, and more. \nBest of all\, it’s FREE!
URL:https://www.educarteinc.org/event/pablo-regis-trio-at-national-folk-festival/
LOCATION:Downtown Salisbury\, Salisbury\, MD\, 21801\, United States
CATEGORIES:Concerts & Performances,Pablo Regis
ATTACH;FMTTYPE=image/png:https://www.educarteinc.org/wp-content/uploads/2022/04/Folk-Fest-995x498-1.png
END:VEVENT
END:VCALENDAR