BEGIN:VCALENDAR
VERSION:2.0
PRODID:-//EducArte - ECPv6.15.20//NONSGML v1.0//EN
CALSCALE:GREGORIAN
METHOD:PUBLISH
X-WR-CALNAME:EducArte
X-ORIGINAL-URL:https://www.educarteinc.org
X-WR-CALDESC:Events for EducArte
REFRESH-INTERVAL;VALUE=DURATION:PT1H
X-Robots-Tag:noindex
X-PUBLISHED-TTL:PT1H
BEGIN:VTIMEZONE
TZID:America/New_York
BEGIN:DAYLIGHT
TZOFFSETFROM:-0500
TZOFFSETTO:-0400
TZNAME:EDT
DTSTART:20220313T070000
END:DAYLIGHT
BEGIN:STANDARD
TZOFFSETFROM:-0400
TZOFFSETTO:-0500
TZNAME:EST
DTSTART:20221106T060000
END:STANDARD
BEGIN:DAYLIGHT
TZOFFSETFROM:-0500
TZOFFSETTO:-0400
TZNAME:EDT
DTSTART:20230312T070000
END:DAYLIGHT
BEGIN:STANDARD
TZOFFSETFROM:-0400
TZOFFSETTO:-0500
TZNAME:EST
DTSTART:20231105T060000
END:STANDARD
BEGIN:DAYLIGHT
TZOFFSETFROM:-0500
TZOFFSETTO:-0400
TZNAME:EDT
DTSTART:20240310T070000
END:DAYLIGHT
BEGIN:STANDARD
TZOFFSETFROM:-0400
TZOFFSETTO:-0500
TZNAME:EST
DTSTART:20241103T060000
END:STANDARD
END:VTIMEZONE
BEGIN:VEVENT
DTSTART;TZID=America/New_York:20230107T130000
DTEND;TZID=America/New_York:20230107T150000
DTSTAMP:20260420T162955
CREATED:20221219T181716Z
LAST-MODIFIED:20230103T224109Z
UID:10000033-1673096400-1673103600@www.educarteinc.org
SUMMARY:Brazilian Carnival Dance Class: Frevo & Samba
DESCRIPTION:Join us for TWO Brazilian carnival dance classes—frevo and samba! You are welcome to come to one or both. Also stay for our bateria (samba percussion ensemble) rehearsal with André Coelho at 3PM! \nFrevo with Kate: 1-2PM\nLearn the basics of Recife’s carnival dance\, frevo! Dancer and dance scholar Kate Spanos will demonstrate and teach frevo dance using the methodology of Mexe Com Tudo (Otávio Bastos) of Recife. Learn more about frevo and Mexe Com Tudo here. \nSamba with Ilheuma Zezeh: 2-3PM\nLearn samba from Ilheuma Zezeh\, Brazilian dancer\, teacher\, choreographer\, performer\, and healer from São Paulo with a mission to bring more joy to the world through art. Ilheuma will demonstrate and teach the basics of samba dance. \nThis event is free and open to the public. All levels are welcome to participate. While primarily intended for adults\, everyone is welcome. \nNote that this session will take place on the University of Maryland campus in the Prince George’s Community Room (#2523) in the Clarice Smith Performing Arts Center. Parking on this day will be available in Stadium Drive Garage and in Lot 1. The closest entrance to the Prince George’s Community Room is on Alumni Drive (across from Stadium Drive Garage). \nRegistration for the full semester of lessons (11 total) is $90. Scholarships are available to those for whom cost is prohibitive (contact us for more information). \n$15 drop-ins are also available.
URL:https://www.educarteinc.org/event/brazilian-carnival-dance-class-jan7/
LOCATION:Prince George’s Community Room (The Clarice Smith Performing Arts Center)\, Room #2523\, The Clarice Smith Performing Arts Center\, College Park\, MD\, 20742\, United States
CATEGORIES:Brazilian Dance Class Series,Workshops & Classes
ATTACH;FMTTYPE=image/jpeg:https://www.educarteinc.org/wp-content/uploads/2021/01/Frevo-Guerreiros-do-Passo-Confusao.jpg
ORGANIZER;CN="EducArte":MAILTO:educarte@educarteinc.org
END:VEVENT
BEGIN:VEVENT
DTSTART;TZID=America/New_York:20230107T150000
DTEND;TZID=America/New_York:20230107T163000
DTSTAMP:20260420T162955
CREATED:20221219T191437Z
LAST-MODIFIED:20230103T224153Z
UID:10000149-1673103600-1673109000@www.educarteinc.org
SUMMARY:Brazilian Bateria Class
DESCRIPTION:Learn from Brazilian samba master percussionist André Coelho from Rio de Janeiro! André will demonstrate and teach each of the essential Brazilian samba percussion instruments. We will have some percussion instruments available for participants to use\, but please bring your own instruments if you have any. \nThis is a regularly occurring Brazilian percussion ensemble practice. All levels are welcome to participate; while primarily intended for adults\, all ages are welcome. \nRegistration for the full semester of lessons (11 total) is $90. Scholarships are available to those for whom cost is prohibitive (contact us for more information). \n$15 drop-ins are also available. \nNote that this session will take place on the University of Maryland campus in the Prince George’s Community Room (#2523) in the Clarice Smith Performing Arts Center. Parking on this day will be available in Stadium Drive Garage and in Lot 1. The closest entrance to the Prince George’s Community Room is on Alumni Drive (across from Stadium Drive Garage). \n\nThe event is a program of College Park-based arts non-profit EducArte. Special thanks to our event sponsor\, the College Park Arts Exchange. \nThanks also to our instrument sponsor\, Contemporânea. EducArte exclusively uses Contemporânea instruments at our Brazilian percussion events.
URL:https://www.educarteinc.org/event/brazilian-bateria-class-jan7/
LOCATION:Prince George’s Community Room (The Clarice Smith Performing Arts Center)\, Room #2523\, The Clarice Smith Performing Arts Center\, College Park\, MD\, 20742\, United States
CATEGORIES:Brazilian Percussion Class Series
ATTACH;FMTTYPE=image/jpeg:https://www.educarteinc.org/wp-content/uploads/2022/12/2022-11-05-bateria.jpg
END:VEVENT
BEGIN:VEVENT
DTSTART;TZID=America/New_York:20230114T200000
DTEND;TZID=America/New_York:20230114T213000
DTSTAMP:20260420T162955
CREATED:20221108T143242Z
LAST-MODIFIED:20221226T003414Z
UID:10000227-1673726400-1673731800@www.educarteinc.org
SUMMARY:Larry & Joe at Joe's Movement Emporium
DESCRIPTION:Larry & Joe were destined to make music together. They are a charismatic and talented duo performing a fusion of Venezuelan and Appalachian folk music\, and their act is entirely bilingual! \nLarry Bellorín hails from Monagas\, Venezuela\, and is a legend of Llanera music. Joe Troop is from North Carolina and is a GRAMMY-nominated bluegrass and old-time musician. Larry was forced into exile and is an asylum seeker in North Carolina. After a decade in South America\, Joe got stranded back in his stomping grounds during the pandemic. Larry works construction to make ends meet. Joe’s acclaimed “latingrass” band Che Apalache was forced into hiatus\, and he shifted into action working with asylum-seeking migrants. \nCurrently based in the Triangle of North Carolina\, both men are versatile multi-instrumentalists and singer-songwriters on a mission to show that music has no borders. As a duo\, they perform a fusion of Venezuelan and Appalachian folk music on the harp\, banjo\, cuatro\, fiddle\, maracas\, guitar\, upright bass\, and whatever else they decide to throw in the van. The program they offer features a distinct blend of their musical inheritances and traditions and storytelling about how music and social movements coalesce. \n–\nOriundo de Monagas\, Venezuela\, Larry es una leyenda de la música llanera. Proveniente de Carolina del Norte\, Joe es un músico de bluegrass y oldtime que fue nominado para un GRAMMY. Larry tuvo que exiliarse a Carolina del Norte y es solicitante de asilo. Joe\, después de una década en Sudamérica quedó varado en su tierra natal por la pandemia. Larry trabaja en construcción para llegar a fin de mes. Cuando el ascenso de su renombrada banda Che Apalache se detuvo\, Joe pivotó para trabajar con migrantes solicitando asilo. \nActualmente basados en el Triángulo de Carolina del Norte\, ambos hombres son multi-instrumentistas versátiles con una misión de mostrar que la música no tiene fronteras. Como dueto tocan una fusión de folklore de Venezuela y de los montes Apalaches en arpa\, banjo\, cuatro\, violín\, maracas\, guitarra\, contrabajo y cualquier otra cosa que decidan subir a la camioneta. Como músicos su programa ofrece una mezcla única de sus diversas herencias y tradiciones\, y cómo cuentacuentos demuestran cómo la música y los movimientos sociales interactúan. \n– \nDoors open at 7:30 p.m. Show starts at 8:00 p.m. \nLearn more about Larry & Joe at www.larryandjoe.com. \n \n\nThanks to our partners and sponsors for this event:
URL:https://www.educarteinc.org/event/larry-joe-at-joes-movement-emporium/
LOCATION:Joe’s Movement Emporium\, 3309 Bunker Hill Road\, Mount Rainier\, MD\, 20712\, United States
CATEGORIES:Concerts & Performances
ATTACH;FMTTYPE=image/jpeg:https://www.educarteinc.org/wp-content/uploads/2022/11/Larry-and-Joe.jpeg
ORGANIZER;CN="EducArte":MAILTO:educarte@educarteinc.org
END:VEVENT
BEGIN:VEVENT
DTSTART;TZID=America/New_York:20230115T150000
DTEND;TZID=America/New_York:20230115T170000
DTSTAMP:20260420T162955
CREATED:20221216T024922Z
LAST-MODIFIED:20221220T000339Z
UID:10000289-1673794800-1673802000@www.educarteinc.org
SUMMARY:Irish Céilí Dance at Glen Echo Park
DESCRIPTION:Join us for an Irish social gathering filled with traditional music and dance! We will learn some basic Irish dance steps and beginner-friendly group dances\, accompanied by live music by some of the region’s best Irish musicians. \nThe caller will be dancer Kate Spanos and the band will include Marty Frye (flute)\, Matt Mulqueen (piano)\, Peter Brice (button accordion)\, and Richard Osban (guitar/tenor banjo). \nThe event will be held in the Ballroom Back Room at Glen Echo Park (Spanish Ballroom Annex). Wear comfortable shoes and bring water. Note: Proof of Covid-19 vaccination is not required; face masks are encouraged but not required. \nThere is a 50% discount for kids under the age of 7 available at the door. \nThe event is a program of College Park-based arts non-profit EducArte. Special thanks to our event partner\, Glen Echo Park Partnership for Arts and Culture.
URL:https://www.educarteinc.org/event/irish-ceili-dance-at-glen-echo-park-jan-2023/
LOCATION:Ballroom Back Room at Glen Echo Park\, 7300 MacArthur Blvd\, Glen Echo\, 20812\, United States
CATEGORIES:Céilí Series,Community Events
ATTACH;FMTTYPE=image/png:https://www.educarteinc.org/wp-content/uploads/2022/12/2022-12-04-Ceili-North-Kerry-Set.png
ORGANIZER;CN="EducArte":MAILTO:educarte@educarteinc.org
END:VEVENT
BEGIN:VEVENT
DTSTART;TZID=America/New_York:20230119T210000
DTEND;TZID=America/New_York:20230119T233000
DTSTAMP:20260420T162955
CREATED:20221219T212511Z
LAST-MODIFIED:20230117T001000Z
UID:10000168-1674162000-1674171000@www.educarteinc.org
SUMMARY:Pablo's Baile at Bossa Bistro
DESCRIPTION:Pablo’s Baile happens every month at Bossa Bistro! An electrifying mix of percussion\, passion\, and Brazilian Portuguese\, Pablo’s Baile showcases the best of live Brazilian dance music\, including samba and forró.\n \nThe evening will start with a samba dance class with Ilheuma Zezeh (downstairs) at 9PM. Live music by Pablo’s Baile will start at 10PM.\n \nPablo’s Baile was featured in Washington City Paper in December 2021! Check it out: City Lights—Pablo’s Baile Brings Brazil to Adams Morgan.\n \n$10 at the door
URL:https://www.educarteinc.org/event/pablos-baile-at-bossa-bistro-jan19/
LOCATION:Bossa Bistro\, 2463 18th Street NW\, Washington\, DC\, 20009\, United States
CATEGORIES:Concerts & Performances,Pablo Regis
ATTACH;FMTTYPE=image/jpeg:https://www.educarteinc.org/wp-content/uploads/2021/12/Pablo-Regis-de-Oliveira-cavaco-2-web-Photo-by-Violetta-Markelou.jpg
END:VEVENT
BEGIN:VEVENT
DTSTART;TZID=America/New_York:20230121T130000
DTEND;TZID=America/New_York:20230121T150000
DTSTAMP:20260420T162955
CREATED:20221219T183542Z
LAST-MODIFIED:20221221T190327Z
UID:10000199-1674306000-1674313200@www.educarteinc.org
SUMMARY:Brazilian Carnival Dance Class: Frevo & Samba
DESCRIPTION:Join us for TWO Brazilian carnival dance classes—frevo and samba! You are welcome to come to one or both. Also stay for our bateria (samba percussion ensemble) rehearsal with André Coelho at 3PM! \nFrevo with Kate: 1-2PM\nLearn the basics of Recife’s carnival dance\, frevo! Dancer and dance scholar Kate Spanos will demonstrate and teach frevo dance using the methodology of Mexe Com Tudo (Otávio Bastos) of Recife. Learn more about frevo and Mexe Com Tudo here. \nSamba with Ilheuma Zezeh: 2-3PM\nLearn samba from Ilheuma ezeh\, Brazilian dancer\, teacher\, choreographer\, performer\, and healer from São Paulo with a mission to bring more joy to the world through art. Ilheuma will demonstrate and teach the basics of samba dance. \nThis event is free and open to the public. All levels are welcome to participate. While primarily intended for adults\, everyone is welcome. Please note that this class will be held at Old Parish House of College Park at 4711 Knox Road. \nRegistration for the full semester of lessons (11 total) is $90. Scholarships are available to those for whom cost is prohibitive (contact us for more information). \n$15 drop-ins are also available.
URL:https://www.educarteinc.org/event/brazilian-carnival-dance-class-jan-21/
LOCATION:Old Parish House of College Park\, 4711 Knox Rd\, College Park\, MD\, 20740\, United States
CATEGORIES:Brazilian Dance Class Series,Workshops & Classes
ATTACH;FMTTYPE=image/jpeg:https://www.educarteinc.org/wp-content/uploads/2022/01/IMG_7076-1.jpg
ORGANIZER;CN="EducArte":MAILTO:educarte@educarteinc.org
END:VEVENT
BEGIN:VEVENT
DTSTART;TZID=America/New_York:20230121T150000
DTEND;TZID=America/New_York:20230121T163000
DTSTAMP:20260420T162955
CREATED:20221219T191826Z
LAST-MODIFIED:20221224T004650Z
UID:10000150-1674313200-1674318600@www.educarteinc.org
SUMMARY:Brazilian Bateria Class
DESCRIPTION:Learn from Brazilian samba master percussionist André Coelho from Rio de Janeiro! André will demonstrate and teach each of the essential Brazilian samba percussion instruments. We will have some percussion instruments available for participants to use\, but please bring your own instruments if you have any. \nThis is a regularly occurring Brazilian percussion ensemble practice. All levels are welcome to participate; while primarily intended for adults\, all ages are welcome. \nRegistration for the full semester of lessons (11 total) is $90. Scholarships are available to those for whom cost is prohibitive (contact us for more information). \n$15 drop-ins are also available. \n\nThe event is a program of College Park-based arts non-profit EducArte. Special thanks to our event sponsor\, the College Park Arts Exchange. \nThanks also to our instrument sponsor\, Contemporânea. EducArte exclusively uses Contemporânea instruments at our Brazilian percussion events.
URL:https://www.educarteinc.org/event/brazilian-bateria-class-jan21/
LOCATION:Old Parish House of College Park\, 4711 Knox Rd\, College Park\, MD\, 20740\, United States
CATEGORIES:Brazilian Percussion Class Series
ATTACH;FMTTYPE=image/jpeg:https://www.educarteinc.org/wp-content/uploads/2022/01/IMG_9064-scaled.jpg
END:VEVENT
BEGIN:VEVENT
DTSTART;TZID=America/New_York:20230131T110000
DTEND;TZID=America/New_York:20230131T120000
DTSTAMP:20260420T162955
CREATED:20221220T210908Z
LAST-MODIFIED:20221220T211107Z
UID:10000032-1675162800-1675166400@www.educarteinc.org
SUMMARY:Frevo music and dance performance (private event)
DESCRIPTION:Private event. Want to hire us to perform or teach a workshop? Contact us.
URL:https://www.educarteinc.org/event/frevo-music-and-dance-performance-private-event/
ATTACH;FMTTYPE=image/png:https://www.educarteinc.org/wp-content/uploads/2022/05/event-template-bg.png
END:VEVENT
END:VCALENDAR