BEGIN:VCALENDAR
VERSION:2.0
PRODID:-//EducArte - ECPv6.15.20//NONSGML v1.0//EN
CALSCALE:GREGORIAN
METHOD:PUBLISH
X-ORIGINAL-URL:https://www.educarteinc.org
X-WR-CALDESC:Events for EducArte
REFRESH-INTERVAL;VALUE=DURATION:PT1H
X-Robots-Tag:noindex
X-PUBLISHED-TTL:PT1H
BEGIN:VTIMEZONE
TZID:America/New_York
BEGIN:DAYLIGHT
TZOFFSETFROM:-0500
TZOFFSETTO:-0400
TZNAME:EDT
DTSTART:20220313T070000
END:DAYLIGHT
BEGIN:STANDARD
TZOFFSETFROM:-0400
TZOFFSETTO:-0500
TZNAME:EST
DTSTART:20221106T060000
END:STANDARD
BEGIN:DAYLIGHT
TZOFFSETFROM:-0500
TZOFFSETTO:-0400
TZNAME:EDT
DTSTART:20230312T070000
END:DAYLIGHT
BEGIN:STANDARD
TZOFFSETFROM:-0400
TZOFFSETTO:-0500
TZNAME:EST
DTSTART:20231105T060000
END:STANDARD
BEGIN:DAYLIGHT
TZOFFSETFROM:-0500
TZOFFSETTO:-0400
TZNAME:EDT
DTSTART:20240310T070000
END:DAYLIGHT
BEGIN:STANDARD
TZOFFSETFROM:-0400
TZOFFSETTO:-0500
TZNAME:EST
DTSTART:20241103T060000
END:STANDARD
END:VTIMEZONE
BEGIN:VEVENT
DTSTART;TZID=America/New_York:20230506T100000
DTEND;TZID=America/New_York:20230506T120000
DTSTAMP:20260420T092859
CREATED:20230117T174018Z
LAST-MODIFIED:20230117T174018Z
UID:10000281-1683367200-1683374400@www.educarteinc.org
SUMMARY:Weekly music lessons at ABRACE
DESCRIPTION:For ABRACE members only. To learn more about ABRACE\, visit abracebrasil.org. Learn more about EducArte’s music program with ABRACE here. \nEducArte’s youth Portuguese-language music lessons have been supported by funding from:
URL:https://www.educarteinc.org/event/weekly-music-lessons-at-abrace-may-6-23/
LOCATION:Langley High School\, 6520 Georgetown Pike\, McLean\, VA\, 22101\, United States
CATEGORIES:ABRACE,Workshops & Classes
ATTACH;FMTTYPE=image/jpeg:https://www.educarteinc.org/wp-content/uploads/2022/02/2022-02-28-photo-6.jpg
END:VEVENT
BEGIN:VEVENT
DTSTART;TZID=America/New_York:20230506T130000
DTEND;TZID=America/New_York:20230506T150000
DTSTAMP:20260420T092859
CREATED:20221219T190830Z
LAST-MODIFIED:20230305T175900Z
UID:10000001-1683378000-1683385200@www.educarteinc.org
SUMMARY:Brazilian Carnival Dance Class: Frevo & Samba
DESCRIPTION:Join us for TWO Brazilian carnival dance classes—frevo and samba! You are welcome to come to one or both. Also stay for our bateria (samba percussion ensemble) rehearsal with André Coelho at 3PM! \nFrevo with Kate: 1-2PM\nLearn the basics of Recife’s carnival dance\, frevo! Dancer and dance scholar Kate Spanos will demonstrate and teach frevo dance using the methodology of Mexe Com Tudo (Otávio Bastos) of Recife. Learn more about frevo and Mexe Com Tudo here. \nSamba with Ilheuma Zezeh: 2-3PM\nLearn samba from Ilheuma Zezeh\, Brazilian dancer\, teacher\, choreographer\, performer\, and healer from São Paulo with a mission to bring more joy to the world through art. Ilheuma will demonstrate and teach the basics of samba dance. \nThis event is open to the public. All levels are welcome to participate. While primarily intended for adults\, everyone is welcome. Please note that this class will be held at Old Parish House of College Park at 4711 Knox Road. \nRegistration for the full semester of lessons (11 total) is $90. Scholarships are available to those for whom cost is prohibitive (contact us for more information). \n$15 drop-ins are also available.
URL:https://www.educarteinc.org/event/brazilian-carnival-dance-class-may6/
LOCATION:Old Parish House of College Park\, 4711 Knox Rd\, College Park\, MD\, 20740\, United States
CATEGORIES:Brazilian Dance Class Series,Workshops & Classes
ATTACH;FMTTYPE=image/jpeg:https://www.educarteinc.org/wp-content/uploads/2022/09/Frevo-with-Kate-Spanos.jpg
ORGANIZER;CN="EducArte":MAILTO:educarte@educarteinc.org
END:VEVENT
BEGIN:VEVENT
DTSTART;TZID=America/New_York:20230506T150000
DTEND;TZID=America/New_York:20230506T163000
DTSTAMP:20260420T092859
CREATED:20221219T193204Z
LAST-MODIFIED:20221224T004736Z
UID:10000262-1683385200-1683390600@www.educarteinc.org
SUMMARY:Brazilian Bateria Class
DESCRIPTION:Learn from Brazilian samba master percussionist André Coelho from Rio de Janeiro! André will demonstrate and teach each of the essential Brazilian samba percussion instruments. We will have some percussion instruments available for participants to use\, but please bring your own instruments if you have any. \nThis is a regularly occurring Brazilian percussion ensemble practice. All levels are welcome to participate; while primarily intended for adults\, all ages are welcome. \nRegistration for the full semester of lessons (11 total) is $90. Scholarships are available to those for whom cost is prohibitive (contact us for more information). \n$15 drop-ins are also available. \n\nThe event is a program of College Park-based arts non-profit EducArte. Special thanks to our event sponsor\, the College Park Arts Exchange. \nThanks also to our instrument sponsor\, Contemporânea. EducArte exclusively uses Contemporânea instruments at our Brazilian percussion events.
URL:https://www.educarteinc.org/event/brazilian-bateria-class-may6/
LOCATION:Old Parish House of College Park\, 4711 Knox Rd\, College Park\, MD\, 20740\, United States
CATEGORIES:Brazilian Percussion Class Series
ATTACH;FMTTYPE=image/jpeg:https://www.educarteinc.org/wp-content/uploads/2022/01/IMG_9064-scaled.jpg
END:VEVENT
BEGIN:VEVENT
DTSTART;TZID=America/New_York:20230509T133000
DTEND;TZID=America/New_York:20230509T160000
DTSTAMP:20260420T092859
CREATED:20230411T150716Z
LAST-MODIFIED:20230411T151559Z
UID:10000292-1683639000-1683648000@www.educarteinc.org
SUMMARY:Guitar and piano performance (private event)
DESCRIPTION:Private event. Want to hire us to perform or teach a workshop? Contact us.
URL:https://www.educarteinc.org/event/guitar-and-piano-performance-private-event/
CATEGORIES:Concerts & Performances
ATTACH;FMTTYPE=image/png:https://www.educarteinc.org/wp-content/uploads/2022/05/event-template-bg.png
ORGANIZER;CN="EducArte":MAILTO:educarte@educarteinc.org
END:VEVENT
BEGIN:VEVENT
DTSTART;TZID=America/New_York:20230513T100000
DTEND;TZID=America/New_York:20230513T120000
DTSTAMP:20260420T092859
CREATED:20230117T174039Z
LAST-MODIFIED:20230117T174039Z
UID:10000280-1683972000-1683979200@www.educarteinc.org
SUMMARY:Weekly music lessons at ABRACE
DESCRIPTION:For ABRACE members only. To learn more about ABRACE\, visit abracebrasil.org. Learn more about EducArte’s music program with ABRACE here. \nEducArte’s youth Portuguese-language music lessons have been supported by funding from:
URL:https://www.educarteinc.org/event/weekly-music-lessons-at-abrace-may-13-23/
LOCATION:Langley High School\, 6520 Georgetown Pike\, McLean\, VA\, 22101\, United States
CATEGORIES:ABRACE,Workshops & Classes
ATTACH;FMTTYPE=image/jpeg:https://www.educarteinc.org/wp-content/uploads/2022/02/2022-02-28-photo-6.jpg
END:VEVENT
BEGIN:VEVENT
DTSTART;TZID=America/New_York:20230518T210000
DTEND;TZID=America/New_York:20230518T233000
DTSTAMP:20260420T092859
CREATED:20230320T214110Z
LAST-MODIFIED:20230515T145600Z
UID:10000139-1684443600-1684452600@www.educarteinc.org
SUMMARY:Pablo's Baile at Bossa Bistro
DESCRIPTION:May 18\, 2023\n  \nPablo’s Baile happens every month at Bossa Bistro! An electrifying mix of percussion\, passion\, and Brazilian Portuguese\, Pablo’s Baile showcases the best of live Brazilian dance music\, including samba and forró.\n  \nThe evening will start with a samba dance class with Ilheuma Zezeh (downstairs) at 9PM. Live music by Pablo’s Baile will start at 10PM.\n  \nPablo’s Baile was featured in Washington City Paper in December 2021! Check it out: City Lights—Pablo’s Baile Brings Brazil to Adams Morgan\n  \n$10 at the door
URL:https://www.educarteinc.org/event/pablos-baile-at-bossa-bistro-may-18-2023/
LOCATION:Bossa Bistro\, 2463 18th Street NW\, Washington\, DC\, 20009\, United States
CATEGORIES:Concerts & Performances,Pablo Regis
ATTACH;FMTTYPE=image/png:https://www.educarteinc.org/wp-content/uploads/2022/12/EducArte-Newsletter4.png
ORGANIZER;CN="EducArte":MAILTO:educarte@educarteinc.org
END:VEVENT
BEGIN:VEVENT
DTSTART;TZID=America/New_York:20230520T100000
DTEND;TZID=America/New_York:20230520T120000
DTSTAMP:20260420T092859
CREATED:20230117T174102Z
LAST-MODIFIED:20230117T174102Z
UID:10000277-1684576800-1684584000@www.educarteinc.org
SUMMARY:Weekly music lessons at ABRACE
DESCRIPTION:For ABRACE members only. To learn more about ABRACE\, visit abracebrasil.org. Learn more about EducArte’s music program with ABRACE here. \nEducArte’s youth Portuguese-language music lessons have been supported by funding from:
URL:https://www.educarteinc.org/event/weekly-music-lessons-at-abrace-may-20-23/
LOCATION:Langley High School\, 6520 Georgetown Pike\, McLean\, VA\, 22101\, United States
CATEGORIES:ABRACE,Workshops & Classes
ATTACH;FMTTYPE=image/jpeg:https://www.educarteinc.org/wp-content/uploads/2022/02/2022-02-28-photo-6.jpg
END:VEVENT
BEGIN:VEVENT
DTSTART;TZID=America/New_York:20230520T130000
DTEND;TZID=America/New_York:20230520T150000
DTSTAMP:20260420T092859
CREATED:20221219T190928Z
LAST-MODIFIED:20230221T190645Z
UID:10000141-1684587600-1684594800@www.educarteinc.org
SUMMARY:Brazilian Carnival Dance Class: Frevo & Samba
DESCRIPTION:Join us for TWO Brazilian carnival dance classes—frevo and samba! You are welcome to come to one or both. Also stay for our bateria (samba percussion ensemble) rehearsal with André Coelho at 3PM! \nFrevo with Kate: 1-2PM\nLearn the basics of Recife’s carnival dance\, frevo! Dancer and dance scholar Kate Spanos will demonstrate and teach frevo dance using the methodology of Mexe Com Tudo (Otávio Bastos) of Recife. Learn more about frevo and Mexe Com Tudo here. \nSamba with Ilheuma Zezeh: 2-3PM\nLearn samba from Ilheuma Zezeh\, Brazilian dancer\, teacher\, choreographer\, performer\, and healer from São Paulo with a mission to bring more joy to the world through art. Ilheuma will demonstrate and teach the basics of samba dance. \nThis event is open to the public. All levels are welcome to participate. While primarily intended for adults\, everyone is welcome. Please note that this class will be held at Old Parish House of College Park at 4711 Knox Road. \nRegistration for the full semester of lessons (11 total) is $90. While primarily intended for adults\, everyone is welcome. Scholarships are available to those for whom cost is prohibitive (contact us for more information). \n$15 drop-ins are also available.
URL:https://www.educarteinc.org/event/brazilian-carnival-dance-class-may20/
LOCATION:Old Parish House of College Park\, 4711 Knox Rd\, College Park\, MD\, 20740\, United States
CATEGORIES:Brazilian Dance Class Series,Workshops & Classes
ATTACH;FMTTYPE=image/jpeg:https://www.educarteinc.org/wp-content/uploads/2022/01/IMG_7110.jpg
ORGANIZER;CN="EducArte":MAILTO:educarte@educarteinc.org
END:VEVENT
BEGIN:VEVENT
DTSTART;TZID=America/New_York:20230520T150000
DTEND;TZID=America/New_York:20230520T163000
DTSTAMP:20260420T092859
CREATED:20221219T193252Z
LAST-MODIFIED:20221224T004949Z
UID:10000261-1684594800-1684600200@www.educarteinc.org
SUMMARY:Brazilian Bateria Class
DESCRIPTION:Learn from Brazilian samba master percussionist André Coelho from Rio de Janeiro! André will demonstrate and teach each of the essential Brazilian samba percussion instruments. We will have some percussion instruments available for participants to use\, but please bring your own instruments if you have any. \nThis is a regularly occurring Brazilian percussion ensemble practice. All levels are welcome to participate; while primarily intended for adults\, all ages are welcome. \nRegistration for the full semester of lessons (11 total) is $90. Scholarships are available to those for whom cost is prohibitive (contact us for more information). \n$15 drop-ins are also available. \n\nThe event is a program of College Park-based arts non-profit EducArte. Special thanks to our event sponsor\, the College Park Arts Exchange. \nThanks also to our instrument sponsor\, Contemporânea. EducArte exclusively uses Contemporânea instruments at our Brazilian percussion events.
URL:https://www.educarteinc.org/event/brazilian-bateria-class-may20/
LOCATION:Old Parish House of College Park\, 4711 Knox Rd\, College Park\, MD\, 20740\, United States
CATEGORIES:Brazilian Percussion Class Series
ATTACH;FMTTYPE=image/jpeg:https://www.educarteinc.org/wp-content/uploads/2022/12/2022-12-04-bateria.jpg
END:VEVENT
BEGIN:VEVENT
DTSTART;TZID=America/New_York:20230524T200000
DTEND;TZID=America/New_York:20230524T200000
DTSTAMP:20260420T092859
CREATED:20230306T155140Z
LAST-MODIFIED:20230306T160347Z
UID:10000242-1684958400-1684958400@www.educarteinc.org
SUMMARY:Lulu Santos – Barítono US Tour 2023
DESCRIPTION:EducArte is thrilled to welcome the Brazilian superstar and brilliant baritone Lulu Santos to the DC area! \nOne of the most successful Brazilian artists of all time\, with dozens of classic songs and over 30 albums\, Lulu Santos begins the US tour “Baritono” in May 2023. The tour kicks off on Friday\, May 12th in Miami Beach\, and then goes to Orlando\, Atlanta\, Chicago\, New York\, Boston\, Silver Spring\, Los Angeles\, and Berkeley. The tour name refers to the singer’s voice. “I belatedly admitted several important things about myself\, including the fact that I am a baritone\, a singer with a low vocal range. I’m a Baritone with a passion\, I like the bass\, I like how my voice sounds in this range. It is with this intention and purpose that we arrive at this show in which we offer\, as usual\, our best. I can’t wait to present it to you\,” exalts Lulu. \nGet ready to dance and sing to Lulu Santos classics such as “Tempos Modernos”\, “O Último Romântico”\, “Tudo Azul”\, “Toda Forma de Amor”\, “Um Certo Alguem”\, “Assim Caminha a Humanidade”\, “Aviso aos Navegantes” \, “De Repente California” and much more. \nTickets on sale now at livenation.com
URL:https://www.educarteinc.org/event/lulu-santos-us-tour-2023/
LOCATION:The Fillmore Silver Spring\, 8656 Colesville Rd\, Silver Spring\, MD\, 20910\, United States
CATEGORIES:Concerts & Performances
ATTACH;FMTTYPE=image/jpeg:https://www.educarteinc.org/wp-content/uploads/2023/03/brazilian_nites_lulu_santos_baritono-1024x536-1.jpg
END:VEVENT
BEGIN:VEVENT
DTSTART;TZID=America/New_York:20230527T100000
DTEND;TZID=America/New_York:20230527T120000
DTSTAMP:20260420T092859
CREATED:20230117T174125Z
LAST-MODIFIED:20230117T174125Z
UID:10000276-1685181600-1685188800@www.educarteinc.org
SUMMARY:Weekly music lessons at ABRACE
DESCRIPTION:For ABRACE members only. To learn more about ABRACE\, visit abracebrasil.org. Learn more about EducArte’s music program with ABRACE here. \nEducArte’s youth Portuguese-language music lessons have been supported by funding from:
URL:https://www.educarteinc.org/event/weekly-music-lessons-at-abrace-may-27-23/
LOCATION:Langley High School\, 6520 Georgetown Pike\, McLean\, VA\, 22101\, United States
CATEGORIES:ABRACE,Workshops & Classes
ATTACH;FMTTYPE=image/jpeg:https://www.educarteinc.org/wp-content/uploads/2022/02/2022-02-28-photo-6.jpg
END:VEVENT
BEGIN:VEVENT
DTSTART;TZID=America/New_York:20230527T200000
DTEND;TZID=America/New_York:20230527T220000
DTSTAMP:20260420T092859
CREATED:20230515T140437Z
LAST-MODIFIED:20230515T140437Z
UID:10000182-1685217600-1685224800@www.educarteinc.org
SUMMARY:Bossa nova performance (private event)
DESCRIPTION:Private event. Want to hire us to perform or teach a workshop? Contact us.
URL:https://www.educarteinc.org/event/bossa-nova-performance-private-event/
CATEGORIES:Concerts & Performances
ATTACH;FMTTYPE=image/png:https://www.educarteinc.org/wp-content/uploads/2022/05/event-template-bg.png
ORGANIZER;CN="EducArte":MAILTO:educarte@educarteinc.org
END:VEVENT
END:VCALENDAR