BEGIN:VCALENDAR
VERSION:2.0
PRODID:-//EducArte - ECPv6.15.20//NONSGML v1.0//EN
CALSCALE:GREGORIAN
METHOD:PUBLISH
X-WR-CALNAME:EducArte
X-ORIGINAL-URL:https://www.educarteinc.org
X-WR-CALDESC:Events for EducArte
REFRESH-INTERVAL;VALUE=DURATION:PT1H
X-Robots-Tag:noindex
X-PUBLISHED-TTL:PT1H
BEGIN:VTIMEZONE
TZID:America/New_York
BEGIN:DAYLIGHT
TZOFFSETFROM:-0500
TZOFFSETTO:-0400
TZNAME:EDT
DTSTART:20220313T070000
END:DAYLIGHT
BEGIN:STANDARD
TZOFFSETFROM:-0400
TZOFFSETTO:-0500
TZNAME:EST
DTSTART:20221106T060000
END:STANDARD
BEGIN:DAYLIGHT
TZOFFSETFROM:-0500
TZOFFSETTO:-0400
TZNAME:EDT
DTSTART:20230312T070000
END:DAYLIGHT
BEGIN:STANDARD
TZOFFSETFROM:-0400
TZOFFSETTO:-0500
TZNAME:EST
DTSTART:20231105T060000
END:STANDARD
BEGIN:DAYLIGHT
TZOFFSETFROM:-0500
TZOFFSETTO:-0400
TZNAME:EDT
DTSTART:20240310T070000
END:DAYLIGHT
BEGIN:STANDARD
TZOFFSETFROM:-0400
TZOFFSETTO:-0500
TZNAME:EST
DTSTART:20241103T060000
END:STANDARD
END:VTIMEZONE
BEGIN:VEVENT
DTSTART;TZID=America/New_York:20230720T210000
DTEND;TZID=America/New_York:20230720T233000
DTSTAMP:20260420T032104
CREATED:20230515T133029Z
LAST-MODIFIED:20230717T171022Z
UID:10000245-1689886800-1689895800@www.educarteinc.org
SUMMARY:Pablo's Baile at Bossa Bistro
DESCRIPTION:Pablo’s Baile happens every month at Bossa Bistro! An electrifying mix of percussion\, passion\, and Brazilian Portuguese\, Pablo’s Baile showcases the best of live Brazilian dance music\, including samba and forró. \nThe evening will start with a samba dance class with Ilheuma Zezeh (downstairs) at 9PM. Live music by Pablo’s Baile will start at 10PM. \nPablo’s Baile was featured in Washington City Paper! Check it out: City Lights—Pablo’s Baile Brings Brazil to Adams Morgan. \n$10 at the door
URL:https://www.educarteinc.org/event/pablos-baile-at-bossa-bistro-july-20-2023/
LOCATION:Bossa Bistro\, 2463 18th Street NW\, Washington\, DC\, 20009\, United States
CATEGORIES:Concerts & Performances,Pablo Regis
ATTACH;FMTTYPE=image/png:https://www.educarteinc.org/wp-content/uploads/2022/12/EducArte-Newsletter4.png
ORGANIZER;CN="EducArte":MAILTO:educarte@educarteinc.org
END:VEVENT
END:VCALENDAR