BEGIN:VCALENDAR
VERSION:2.0
PRODID:-//EducArte - ECPv6.15.20//NONSGML v1.0//EN
CALSCALE:GREGORIAN
METHOD:PUBLISH
X-ORIGINAL-URL:https://www.educarteinc.org
X-WR-CALDESC:Events for EducArte
REFRESH-INTERVAL;VALUE=DURATION:PT1H
X-Robots-Tag:noindex
X-PUBLISHED-TTL:PT1H
BEGIN:VTIMEZONE
TZID:America/New_York
BEGIN:DAYLIGHT
TZOFFSETFROM:-0500
TZOFFSETTO:-0400
TZNAME:EDT
DTSTART:20200308T070000
END:DAYLIGHT
BEGIN:STANDARD
TZOFFSETFROM:-0400
TZOFFSETTO:-0500
TZNAME:EST
DTSTART:20201101T060000
END:STANDARD
BEGIN:DAYLIGHT
TZOFFSETFROM:-0500
TZOFFSETTO:-0400
TZNAME:EDT
DTSTART:20210314T070000
END:DAYLIGHT
BEGIN:STANDARD
TZOFFSETFROM:-0400
TZOFFSETTO:-0500
TZNAME:EST
DTSTART:20211107T060000
END:STANDARD
BEGIN:DAYLIGHT
TZOFFSETFROM:-0500
TZOFFSETTO:-0400
TZNAME:EDT
DTSTART:20220313T070000
END:DAYLIGHT
BEGIN:STANDARD
TZOFFSETFROM:-0400
TZOFFSETTO:-0500
TZNAME:EST
DTSTART:20221106T060000
END:STANDARD
END:VTIMEZONE
BEGIN:VEVENT
DTSTART;TZID=America/New_York:20210716T183000
DTEND;TZID=America/New_York:20210716T200000
DTSTAMP:20260419T233212
CREATED:20210611T212808Z
LAST-MODIFIED:20210617T005903Z
UID:10000078-1626460200-1626465600@www.educarteinc.org
SUMMARY:Slow slip jig - Festival style Irish dance workshop with Kate Spanos
DESCRIPTION:Note: This workshop will take place in Boston\, MA. \nJoin us for a special workshop in Festival style Irish step dance! We will work on some of the movements and techniques that are typical of this style’s “slow” slip jig and learn a short piece of choreography. \nFestival style Irish dance is from the Belfast area of Northern Ireland and was developed by Patricia Mulholland (or “Miss Mulholland”) in the 1950s to draw the focus of Irish dance away from the “pageantry” of feis style and more towards individuality. The costumes are simpler and dancers do not wear wigs; their slip jigs and set dances are much slower than their feis style counterparts\, and dancers pay particular attention to the “light/shade” parts of the music. Grace\, elegance\, and control are key features of Festival style\, and one of its distinctive motifs is the “burl” or turn/spin.  \nKate Spanos is a dancer and dance scholar from Washington\, DC with a PhD in Dance and Performance Studies from the University of Maryland and an MA in Traditional Irish Dance Performance from the University of Limerick. She learned Festival style from Ruth Long of the Royal Tara Dance Academy in Carrickfergus and Larne while studying at UL. Throughout the pandemic\, she participated in virtual study of Festival style with Lauren Smyth from County Down (@laurensmythacademy). For more about Kate\, visit www.thekatespanos.com. \nAttire: Soft shoes\, socks\, or light/non-stick sneakers \nFor more about Festival style\, check out Angeline King’s “Irish Dancing: The Festival Story.” \nRegister online \nKate dancing “Aoibhell: The Faerie Queene” set dance (choreographed by Ruth Long\, composed by Francis Ward):
URL:https://www.educarteinc.org/event/slow-slip-jig-festival-style-irish-dance-workshop-with-kate-spanos/
LOCATION:Deborah Mason Performing Arts Center\, 624 Somerville Ave\, Somerville\, MA\, United States
CATEGORIES:Workshops & Classes
END:VEVENT
END:VCALENDAR