BEGIN:VCALENDAR
VERSION:2.0
PRODID:-//EducArte - ECPv6.15.20//NONSGML v1.0//EN
CALSCALE:GREGORIAN
METHOD:PUBLISH
X-WR-CALNAME:EducArte
X-ORIGINAL-URL:https://www.educarteinc.org
X-WR-CALDESC:Events for EducArte
REFRESH-INTERVAL;VALUE=DURATION:PT1H
X-Robots-Tag:noindex
X-PUBLISHED-TTL:PT1H
BEGIN:VTIMEZONE
TZID:America/New_York
BEGIN:DAYLIGHT
TZOFFSETFROM:-0500
TZOFFSETTO:-0400
TZNAME:EDT
DTSTART:20200308T070000
END:DAYLIGHT
BEGIN:STANDARD
TZOFFSETFROM:-0400
TZOFFSETTO:-0500
TZNAME:EST
DTSTART:20201101T060000
END:STANDARD
BEGIN:DAYLIGHT
TZOFFSETFROM:-0500
TZOFFSETTO:-0400
TZNAME:EDT
DTSTART:20210314T070000
END:DAYLIGHT
BEGIN:STANDARD
TZOFFSETFROM:-0400
TZOFFSETTO:-0500
TZNAME:EST
DTSTART:20211107T060000
END:STANDARD
BEGIN:DAYLIGHT
TZOFFSETFROM:-0500
TZOFFSETTO:-0400
TZNAME:EDT
DTSTART:20220313T070000
END:DAYLIGHT
BEGIN:STANDARD
TZOFFSETFROM:-0400
TZOFFSETTO:-0500
TZNAME:EST
DTSTART:20221106T060000
END:STANDARD
END:VTIMEZONE
BEGIN:VEVENT
DTSTART;TZID=America/New_York:20210828T110000
DTEND;TZID=America/New_York:20210828T120000
DTSTAMP:20260421T100917
CREATED:20210803T145743Z
LAST-MODIFIED:20210816T203239Z
UID:10000097-1630148400-1630152000@www.educarteinc.org
SUMMARY:Brazilian frevo dance workshop at the Kennedy Center
DESCRIPTION:Learn frevo\, a high energy Brazilian carnival dance from northeastern Brazil! Kate Spanos of Mexe Com Tudo will teach you some basic frevo steps\, with a focus on joyous self-expression. Wear comfortable shoes. All are welcome! The movement will be accessible and adaptable to all abilities. \nMexe Com Tudo is a carnival group in Recife\, Brazil founded by Otávio Bastos and Marília Cavalcanti. Mexe Com Tudo offers frevo dance classes to students and student-teachers in Recife and abroad (via Zoom) that focus on freedom of expression\, improvisational strategies and the cultural history of frevo. Mexe Com Tudo also has an award-winning YouTube channel dedicated to all things frevo at www.youtube.com/mexecomtudo. \nThis workshop is part of On Deck: Women Shredding Through Boundaries at the Kennedy Center’s Millennium Stage (outside at the Reach Plaza). This is an all-inclusive festival featuring women in action sports and music. Join us from August 26-28 as the presenters carve out space in the unconventional arenas of jazz and skateboarding for a more equal future together. \nRegister for free
URL:https://www.educarteinc.org/event/brazilian-frevo-dance-at-millennium-stage-kennedy-center/
LOCATION:Millennium Stage\, 2700 F St NW\, Washington\, DC\, 20566\, United States
CATEGORIES:Workshops & Classes
END:VEVENT
END:VCALENDAR