BEGIN:VCALENDAR
VERSION:2.0
PRODID:-//EducArte - ECPv6.15.20//NONSGML v1.0//EN
CALSCALE:GREGORIAN
METHOD:PUBLISH
X-ORIGINAL-URL:https://www.educarteinc.org
X-WR-CALDESC:Events for EducArte
REFRESH-INTERVAL;VALUE=DURATION:PT1H
X-Robots-Tag:noindex
X-PUBLISHED-TTL:PT1H
BEGIN:VTIMEZONE
TZID:America/New_York
BEGIN:DAYLIGHT
TZOFFSETFROM:-0500
TZOFFSETTO:-0400
TZNAME:EDT
DTSTART:20200308T070000
END:DAYLIGHT
BEGIN:STANDARD
TZOFFSETFROM:-0400
TZOFFSETTO:-0500
TZNAME:EST
DTSTART:20201101T060000
END:STANDARD
BEGIN:DAYLIGHT
TZOFFSETFROM:-0500
TZOFFSETTO:-0400
TZNAME:EDT
DTSTART:20210314T070000
END:DAYLIGHT
BEGIN:STANDARD
TZOFFSETFROM:-0400
TZOFFSETTO:-0500
TZNAME:EST
DTSTART:20211107T060000
END:STANDARD
BEGIN:DAYLIGHT
TZOFFSETFROM:-0500
TZOFFSETTO:-0400
TZNAME:EDT
DTSTART:20220313T070000
END:DAYLIGHT
BEGIN:STANDARD
TZOFFSETFROM:-0400
TZOFFSETTO:-0500
TZNAME:EST
DTSTART:20221106T060000
END:STANDARD
END:VTIMEZONE
BEGIN:VEVENT
DTSTART;TZID=America/New_York:20210921T180000
DTEND;TZID=America/New_York:20210921T190000
DTSTAMP:20260420T024041
CREATED:20210905T174357Z
LAST-MODIFIED:20210922T005833Z
UID:10000108-1632247200-1632250800@www.educarteinc.org
SUMMARY:Irish dance workshop with Kate Spanos
DESCRIPTION:Join us for an interactive workshop in Irish dance with dancer and dance scholar Kate Spanos\, Ph.D.\, in partnership with the University of Maryland’s Global Communities Living-Learning Program. Participants will learn about the history of Irish dance in Ireland and the United States\, and how it contributes to the Irish diaspora community worldwide. Participants will also learn some basic Irish dance steps. \nContact us for more information.
URL:https://www.educarteinc.org/event/irish-dance-workshop-with-kate-spanos-2/
LOCATION:University of Maryland Global Communities Living-Learning Program\, College Park\, MD\, 20742\, United States
CATEGORIES:Presentations,Workshops & Classes
END:VEVENT
BEGIN:VEVENT
DTSTART;TZID=America/New_York:20210331T190000
DTEND;TZID=America/New_York:20210331T201500
DTSTAMP:20260420T024041
CREATED:20210220T172804Z
LAST-MODIFIED:20210220T172804Z
UID:10000055-1617217200-1617221700@www.educarteinc.org
SUMMARY:Irish dance workshop with Kate Spanos
DESCRIPTION:Join us for an interactive workshop in Irish dance with dancer and dance scholar Kate Spanos\, PhD\, in partnership with the University of Maryland’s Global Communities Living-Learning Program. Participants will learn about the history of Irish dance in Ireland and the United States\, and how it contributes to the Irish diaspora community worldwide. Participants will also learn some basic Irish dance steps to celebrate March\, the month of St. Patrick’s Day. \nRegister for free at go.umd.edu/gcidance
URL:https://www.educarteinc.org/event/irish-dance-workshop-with-kate-spanos/
LOCATION:Online
CATEGORIES:Online,Workshops & Classes
ORGANIZER;CN="EducArte":MAILTO:educarte@educarteinc.org
END:VEVENT
BEGIN:VEVENT
DTSTART;TZID=America/New_York:20210219T140000
DTEND;TZID=America/New_York:20210219T150000
DTSTAMP:20260420T024041
CREATED:20210220T172140Z
LAST-MODIFIED:20210220T172818Z
UID:10000054-1613743200-1613746800@www.educarteinc.org
SUMMARY:Brazilian choro lecture/demonstration with Mike Marshall
DESCRIPTION:Join us for a lecture/demonstration on Brazilian choro music with master mandolinist Mike Marshall\, in partnership with the University of Maryland’s Global Communities Living-Learning Program. Marshall will perform some tunes and talk about choro\, Brazil’s first urban popular music and the precursor to samba. \nRegister for free at go.umd.edu/gcchoro
URL:https://www.educarteinc.org/event/brazilian-choro-workshop-with-mike-marshall/
LOCATION:Online
CATEGORIES:Online,Presentations,Workshops & Classes
ORGANIZER;CN="EducArte":MAILTO:educarte@educarteinc.org
END:VEVENT
END:VCALENDAR