BEGIN:VCALENDAR
VERSION:2.0
PRODID:-//EducArte - ECPv6.15.20//NONSGML v1.0//EN
CALSCALE:GREGORIAN
METHOD:PUBLISH
X-ORIGINAL-URL:https://www.educarteinc.org
X-WR-CALDESC:Events for EducArte
REFRESH-INTERVAL;VALUE=DURATION:PT1H
X-Robots-Tag:noindex
X-PUBLISHED-TTL:PT1H
BEGIN:VTIMEZONE
TZID:America/New_York
BEGIN:DAYLIGHT
TZOFFSETFROM:-0500
TZOFFSETTO:-0400
TZNAME:EDT
DTSTART:20200308T070000
END:DAYLIGHT
BEGIN:STANDARD
TZOFFSETFROM:-0400
TZOFFSETTO:-0500
TZNAME:EST
DTSTART:20201101T060000
END:STANDARD
BEGIN:DAYLIGHT
TZOFFSETFROM:-0500
TZOFFSETTO:-0400
TZNAME:EDT
DTSTART:20210314T070000
END:DAYLIGHT
BEGIN:STANDARD
TZOFFSETFROM:-0400
TZOFFSETTO:-0500
TZNAME:EST
DTSTART:20211107T060000
END:STANDARD
BEGIN:DAYLIGHT
TZOFFSETFROM:-0500
TZOFFSETTO:-0400
TZNAME:EDT
DTSTART:20220313T070000
END:DAYLIGHT
BEGIN:STANDARD
TZOFFSETFROM:-0400
TZOFFSETTO:-0500
TZNAME:EST
DTSTART:20221106T060000
END:STANDARD
BEGIN:DAYLIGHT
TZOFFSETFROM:-0500
TZOFFSETTO:-0400
TZNAME:EDT
DTSTART:20230312T070000
END:DAYLIGHT
BEGIN:STANDARD
TZOFFSETFROM:-0400
TZOFFSETTO:-0500
TZNAME:EST
DTSTART:20231105T060000
END:STANDARD
END:VTIMEZONE
BEGIN:VEVENT
DTSTART;TZID=America/New_York:20220818T213000
DTEND;TZID=America/New_York:20220818T233000
DTSTAMP:20260421T085622
CREATED:20211025T150035Z
LAST-MODIFIED:20220517T190310Z
UID:10000234-1660858200-1660865400@www.educarteinc.org
SUMMARY:8/18 Pablo's Baile - Bossa Bistro
DESCRIPTION:Pablo’s Baile happens every third Thursday of the month at Bossa Bistro! An electrifying mix of percussion\, passion\, and Brazilian Portuguese\, Pablo’s Baile showcases the best of live Brazilian dance music\, including samba and forró.\n \nPablo’s Baile was featured in Washington City Paper in December 2021! Check it out: City Lights—Pablo’s Baile Brings Brazil to Adams Morgan\n \n$10 at the door
URL:https://www.educarteinc.org/event/pablos-baile-august-2022/
LOCATION:Bossa Bistro\, 2463 18th Street NW\, Washington\, DC\, 20009\, United States
CATEGORIES:Concerts & Performances,Pablo Regis
ATTACH;FMTTYPE=image/jpeg:https://www.educarteinc.org/wp-content/uploads/2021/12/Pablo-Regis-de-Oliveira-cavaco-2-web-Photo-by-Violetta-Markelou.jpg
END:VEVENT
BEGIN:VEVENT
DTSTART;TZID=America/New_York:20220714T213000
DTEND;TZID=America/New_York:20220714T233000
DTSTAMP:20260421T085622
CREATED:20211025T150035Z
LAST-MODIFIED:20220616T132715Z
UID:10000301-1657834200-1657841400@www.educarteinc.org
SUMMARY:7/14 Pablo's Baile - Bossa Bistro
DESCRIPTION:Pablo’s Baile is happening on the second Thursday of the month in July\, one week early! An electrifying mix of percussion\, passion\, and Brazilian Portuguese\, Pablo’s Baile showcases the best of live Brazilian dance music\, including samba and forró. \nPablo’s Baile was featured in Washington City Paper in December 2021! Check it out: City Lights—Pablo’s Baile Brings Brazil to Adams Morgan \n$10 at the door
URL:https://www.educarteinc.org/event/pablos-baile-july-2022/
LOCATION:Bossa Bistro\, 2463 18th Street NW\, Washington\, DC\, 20009\, United States
CATEGORIES:Concerts & Performances,Pablo Regis
ATTACH;FMTTYPE=image/jpeg:https://www.educarteinc.org/wp-content/uploads/2021/12/Pablo-Regis-de-Oliveira-cavaco-2-web-Photo-by-Violetta-Markelou.jpg
END:VEVENT
BEGIN:VEVENT
DTSTART;TZID=America/New_York:20220616T213000
DTEND;TZID=America/New_York:20220616T233000
DTSTAMP:20260421T085622
CREATED:20211025T150035Z
LAST-MODIFIED:20220517T190052Z
UID:10000237-1655415000-1655422200@www.educarteinc.org
SUMMARY:6/16 Pablo's Baile - Bossa Bistro
DESCRIPTION:Pablo’s Baile happens every third Thursday of the month at Bossa Bistro! An electrifying mix of percussion\, passion\, and Brazilian Portuguese\, Pablo’s Baile showcases the best of live Brazilian dance music\, including samba and forró.\n \nPablo’s Baile was featured in Washington City Paper in December 2021! Check it out: City Lights—Pablo’s Baile Brings Brazil to Adams Morgan\n \n$10 at the door
URL:https://www.educarteinc.org/event/pablos-baile-june-2022/
LOCATION:Bossa Bistro\, 2463 18th Street NW\, Washington\, DC\, 20009\, United States
CATEGORIES:Concerts & Performances,Pablo Regis
ATTACH;FMTTYPE=image/jpeg:https://www.educarteinc.org/wp-content/uploads/2021/12/Pablo-Regis-de-Oliveira-cavaco-2-web-Photo-by-Violetta-Markelou.jpg
END:VEVENT
BEGIN:VEVENT
DTSTART;TZID=America/New_York:20220512T213000
DTEND;TZID=America/New_York:20220512T233000
DTSTAMP:20260421T085622
CREATED:20211025T150035Z
LAST-MODIFIED:20220424T215419Z
UID:10000226-1652391000-1652398200@www.educarteinc.org
SUMMARY:Pablo’s Baile at Bossa Bistro
DESCRIPTION:Pablo’s Baile happens every third Thursday of the month at Bossa Bistro! An electrifying mix of percussion\, passion\, and Brazilian Portuguese\, Pablo’s Baile showcases the best of live Brazilian dance music\, including samba and forró.\n\nPablo’s Baile was featured in Washington City Paper in December 2021! Check it out: City Lights—Pablo’s Baile Brings Brazil to Adams Morgan\n\n$10 at the door
URL:https://www.educarteinc.org/event/pablos-baile-at-bossa-bistro-2022-05-19/
LOCATION:Bossa Bistro\, 2463 18th Street NW\, Washington\, DC\, 20009\, United States
CATEGORIES:Concerts & Performances,Pablo Regis
ATTACH;FMTTYPE=image/jpeg:https://www.educarteinc.org/wp-content/uploads/2021/12/Pablo-Regis-de-Oliveira-cavaco-2-web-Photo-by-Violetta-Markelou.jpg
END:VEVENT
BEGIN:VEVENT
DTSTART;TZID=America/New_York:20220421T213000
DTEND;TZID=America/New_York:20220421T233000
DTSTAMP:20260421T085622
CREATED:20211025T150035Z
LAST-MODIFIED:20220119T212552Z
UID:10000225-1650576600-1650583800@www.educarteinc.org
SUMMARY:Pablo’s Baile at Bossa Bistro
DESCRIPTION:Pablo’s Baile happens every third Thursday of the month at Bossa Bistro! An electrifying mix of percussion\, passion\, and Brazilian Portuguese\, Pablo’s Baile showcases the best of live Brazilian dance music\, including samba and forró.\n\nPablo’s Baile was featured in Washington City Paper in December 2021! Check it out: City Lights—Pablo’s Baile Brings Brazil to Adams Morgan\n\n$10 at the door
URL:https://www.educarteinc.org/event/pablos-baile-at-bossa-bistro-6-2-2-2-2/
LOCATION:Bossa Bistro\, 2463 18th Street NW\, Washington\, DC\, 20009\, United States
CATEGORIES:Concerts & Performances,Pablo Regis
ATTACH;FMTTYPE=image/jpeg:https://www.educarteinc.org/wp-content/uploads/2021/12/Pablo-Regis-de-Oliveira-cavaco-2-web-Photo-by-Violetta-Markelou.jpg
END:VEVENT
BEGIN:VEVENT
DTSTART;TZID=America/New_York:20220317T213000
DTEND;TZID=America/New_York:20220317T233000
DTSTAMP:20260421T085622
CREATED:20211025T150035Z
LAST-MODIFIED:20220119T212604Z
UID:10000224-1647552600-1647559800@www.educarteinc.org
SUMMARY:Pablo’s Baile at Bossa Bistro
DESCRIPTION:Pablo’s Baile happens every third Thursday of the month at Bossa Bistro! An electrifying mix of percussion\, passion\, and Brazilian Portuguese\, Pablo’s Baile showcases the best of live Brazilian dance music\, including samba and forró.\n\nPablo’s Baile was featured in Washington City Paper in December 2021! Check it out: City Lights—Pablo’s Baile Brings Brazil to Adams Morgan\n\n$10 at the door
URL:https://www.educarteinc.org/event/pablos-baile-at-bossa-bistro-6-2-2-2/
LOCATION:Bossa Bistro\, 2463 18th Street NW\, Washington\, DC\, 20009\, United States
CATEGORIES:Concerts & Performances,Pablo Regis
ATTACH;FMTTYPE=image/jpeg:https://www.educarteinc.org/wp-content/uploads/2021/12/Pablo-Regis-de-Oliveira-cavaco-2-web-Photo-by-Violetta-Markelou.jpg
END:VEVENT
BEGIN:VEVENT
DTSTART;TZID=America/New_York:20220217T213000
DTEND;TZID=America/New_York:20220217T233000
DTSTAMP:20260421T085622
CREATED:20211025T150035Z
LAST-MODIFIED:20220119T212615Z
UID:10000223-1645133400-1645140600@www.educarteinc.org
SUMMARY:Pablo’s Baile at Bossa Bistro
DESCRIPTION:Pablo’s Baile happens every third Thursday of the month at Bossa Bistro! An electrifying mix of percussion\, passion\, and Brazilian Portuguese\, Pablo’s Baile showcases the best of live Brazilian dance music\, including samba and forró.\n\nPablo’s Baile was featured in Washington City Paper in December 2021! Check it out: City Lights—Pablo’s Baile Brings Brazil to Adams Morgan\n\n$10 at the door
URL:https://www.educarteinc.org/event/pablos-baile-at-bossa-bistro-6-2-2/
LOCATION:Bossa Bistro\, 2463 18th Street NW\, Washington\, DC\, 20009\, United States
CATEGORIES:Concerts & Performances,Pablo Regis
ATTACH;FMTTYPE=image/jpeg:https://www.educarteinc.org/wp-content/uploads/2021/12/Pablo-Regis-de-Oliveira-cavaco-2-web-Photo-by-Violetta-Markelou.jpg
END:VEVENT
BEGIN:VEVENT
DTSTART;TZID=America/New_York:20220120T213000
DTEND;TZID=America/New_York:20220120T233000
DTSTAMP:20260421T085622
CREATED:20211025T150035Z
LAST-MODIFIED:20220120T181254Z
UID:10000201-1642714200-1642721400@www.educarteinc.org
SUMMARY:Pablo’s Baile at Bossa Bistro
DESCRIPTION:Pablo’s Baile occurs every third Thursday of the month at Bossa Bistro! An electrifying mix of percussion\, passion\, and Brazilian Portuguese\, Pablo’s Baile showcases the best of live Brazilian dance music\, including samba and forró. \nPablo’s Baile was featured in Washington City Paper in December 2021! Check it out: City Lights—Pablo’s Baile Brings Brazil to Adams Morgan: https://washingtoncitypaper.​com/article/542825/city-lights-pablos-baile-brings-brazil-to-adams-morgan/ \n$10 at the door
URL:https://www.educarteinc.org/event/pablos-baile-at-bossa-bistro-6-2/
LOCATION:Bossa Bistro\, 2463 18th Street NW\, Washington\, DC\, 20009\, United States
CATEGORIES:Concerts & Performances,Pablo Regis
ATTACH;FMTTYPE=image/jpeg:https://www.educarteinc.org/wp-content/uploads/2021/12/Pablo-Regis-de-Oliveira-cavaco-2-web-Photo-by-Violetta-Markelou.jpg
END:VEVENT
BEGIN:VEVENT
DTSTART;TZID=America/New_York:20211216T213000
DTEND;TZID=America/New_York:20211216T233000
DTSTAMP:20260421T085622
CREATED:20211025T150035Z
LAST-MODIFIED:20211103T014023Z
UID:10000113-1639690200-1639697400@www.educarteinc.org
SUMMARY:Pablo’s Baile at Bossa Bistro
DESCRIPTION:Pablo’s Baile occurs every third Thursday of the month at Bossa Bistro! An electrifying mix of percussion\, passion\, and Brazilian Portuguese\, Pablo’s Baile showcases the best of live Brazilian dance music\, including samba and forró. \n$10 at the door
URL:https://www.educarteinc.org/event/pablos-baile-at-bossa-bistro-6/
LOCATION:Bossa Bistro\, 2463 18th Street NW\, Washington\, DC\, 20009\, United States
CATEGORIES:Concerts & Performances
ATTACH;FMTTYPE=image/png:https://www.educarteinc.org/wp-content/uploads/2020/12/Pablo-cavaco-blue-2-2048x1360-1.png
END:VEVENT
BEGIN:VEVENT
DTSTART;TZID=America/New_York:20211118T213000
DTEND;TZID=America/New_York:20211118T233000
DTSTAMP:20260421T085622
CREATED:20211025T145633Z
LAST-MODIFIED:20211103T013018Z
UID:10000124-1637271000-1637278200@www.educarteinc.org
SUMMARY:Pablo’s Baile at Bossa Bistro
DESCRIPTION:Pablo’s Baile occurs every third Thursday of the month at Bossa Bistro! An electrifying mix of percussion\, passion\, and Brazilian Portuguese\, Pablo’s Baile showcases the best of live Brazilian dance music\, including samba and forró. \n$10 at the door
URL:https://www.educarteinc.org/event/pablos-baile-at-bossa-bistro-5/
LOCATION:Bossa Bistro\, 2463 18th Street NW\, Washington\, DC\, 20009\, United States
CATEGORIES:Concerts & Performances
ATTACH;FMTTYPE=image/png:https://www.educarteinc.org/wp-content/uploads/2020/08/Pablo-cavaco-blue-2-2048x1360-1.png
END:VEVENT
BEGIN:VEVENT
DTSTART;TZID=America/New_York:20211021T213000
DTEND;TZID=America/New_York:20211021T233000
DTSTAMP:20260421T085622
CREATED:20210725T172516Z
LAST-MODIFIED:20211025T145506Z
UID:10000096-1634851800-1634859000@www.educarteinc.org
SUMMARY:Pablo’s Baile at Bossa Bistro
DESCRIPTION:Pablo’s Baile occurs every third Thursday of the month at Bossa Bistro! An electrifying mix of percussion\, passion\, and Brazilian Portuguese\, Pablo’s Baile showcases the best of live Brazilian dance music\, including samba and forró. \n$10 at the door \nRSVP on Facebook
URL:https://www.educarteinc.org/event/pablos-baile-at-bossa-bistro-4/
LOCATION:Bossa Bistro\, 2463 18th Street NW\, Washington\, DC\, 20009\, United States
CATEGORIES:Concerts & Performances
ORGANIZER;CN="EducArte":MAILTO:educarte@educarteinc.org
END:VEVENT
BEGIN:VEVENT
DTSTART;TZID=America/New_York:20210916T213000
DTEND;TZID=America/New_York:20210916T233000
DTSTAMP:20260421T085622
CREATED:20210725T172428Z
LAST-MODIFIED:20210725T174407Z
UID:10000095-1631827800-1631835000@www.educarteinc.org
SUMMARY:Pablo’s Baile at Bossa Bistro
DESCRIPTION:Pablo’s Baile occurs every third Thursday of the month at Bossa Bistro! An electrifying mix of percussion\, passion\, and Brazilian Portuguese\, Pablo’s Baile showcases the best of live Brazilian dance music\, including samba and forró. \n$10 at the door \nRSVP on Facebook
URL:https://www.educarteinc.org/event/pablos-baile-at-bossa-bistro-3/
LOCATION:Bossa Bistro\, 2463 18th Street NW\, Washington\, DC\, 20009\, United States
CATEGORIES:Concerts & Performances
ORGANIZER;CN="EducArte":MAILTO:educarte@educarteinc.org
END:VEVENT
BEGIN:VEVENT
DTSTART;TZID=America/New_York:20210819T213000
DTEND;TZID=America/New_York:20210819T233000
DTSTAMP:20260421T085622
CREATED:20210725T172342Z
LAST-MODIFIED:20210725T174503Z
UID:10000080-1629408600-1629415800@www.educarteinc.org
SUMMARY:Pablo’s Baile at Bossa Bistro
DESCRIPTION:Pablo’s Baile occurs every third Thursday of the month at Bossa Bistro! An electrifying mix of percussion\, passion\, and Brazilian Portuguese\, Pablo’s Baile showcases the best of live Brazilian dance music\, including samba and forró. \n$10 at the door \nRSVP on Facebook
URL:https://www.educarteinc.org/event/pablos-baile-at-bossa-bistro-2/
LOCATION:Bossa Bistro\, 2463 18th Street NW\, Washington\, DC\, 20009\, United States
CATEGORIES:Concerts & Performances
ORGANIZER;CN="EducArte":MAILTO:educarte@educarteinc.org
END:VEVENT
BEGIN:VEVENT
DTSTART;TZID=America/New_York:20210722T210000
DTEND;TZID=America/New_York:20210722T230000
DTSTAMP:20260421T085622
CREATED:20210611T174910Z
LAST-MODIFIED:20210616T171640Z
UID:10000077-1626987600-1626994800@www.educarteinc.org
SUMMARY:Pablo's Baile at Bossa Bistro
DESCRIPTION:Washington\, DC venues re-opened on June 11th and Pablo’s Baile returns in July to Bossa Bistro to celebrate summer! An electrifying mix of percussion\, passion\, and Brazilian Portuguese\, Pablo’s Baile showcases the best of live Brazilian dance music\, including samba and forró. \n$10 at the door \nRSVP on Facebook: https://www.facebook.com/events/5940869382619737/
URL:https://www.educarteinc.org/event/pablos-baile-at-bossa-bistro/
LOCATION:Bossa Bistro\, 2463 18th Street NW\, Washington\, DC\, 20009\, United States
CATEGORIES:Concerts & Performances
ORGANIZER;CN="EducArte":MAILTO:educarte@educarteinc.org
END:VEVENT
BEGIN:VEVENT
DTSTART;TZID=America/New_York:20210708T193000
DTEND;TZID=America/New_York:20210708T213000
DTSTAMP:20260421T085622
CREATED:20210611T173218Z
LAST-MODIFIED:20210613T010553Z
UID:10000076-1625772600-1625779800@www.educarteinc.org
SUMMARY:Samba Jig presents Richard Miller and Vanessa Falabella: A Summer Night in Rio!
DESCRIPTION:As part of their 2021 East Coast tour\, the iconic carioca 7-string guitarist Richard Miller visits the DMV with the enchanting singer Vanessa Falabella. The duo are joined by master percussionist\, André Coelho\, also hailing from Rio de Janeiro. This show is not to be missed! \n$10 at the door. \nRSVP on Facebook: https://www.facebook.com/events/3378501245710209/
URL:https://www.educarteinc.org/event/richard-miller-and-vanessa-falabella-at-bossa-bistro/
LOCATION:Bossa Bistro\, 2463 18th Street NW\, Washington\, DC\, 20009\, United States
CATEGORIES:Concerts & Performances
ORGANIZER;CN="EducArte":MAILTO:educarte@educarteinc.org
END:VEVENT
END:VCALENDAR